{"text_format":"1","workbook":"xlsx","n_sheets":12,"sheets":["Leaderboard","September","October","November","December","January","February","March","April","May","Jokers","Ten Point Table"],"not_rendered":{"charts":0,"images":13,"macros":1,"external_links":0,"defined_names":0,"comments":0,"pivot_tables":0},"unopened":[],"bounds":{"document_bytes":16777216,"sheet_cells":100000,"rows_first":2000,"rows_last":500,"rows_between":2000,"halvings":0,"cell_chars":16384,"cell_head_chars":4096},"cells_cut":0,"cells_raw":0,"read":"whole","date_system":"1900"}

{"sheet":"Leaderboard","index":0,"n_rows":77,"n_cols":13,"rows_kept":77,"cut":false,"hidden":false,"merged":[]}
[]
["No.","Name","Team Name","2020-09-01","2020-10-01","2020-11-01","2020-12-01","2021-01-01","2021-02-01","2021-03-01","2021-04-01","2021-05-01","Total"]
[1,"Eamon Fox","Goals Very Important In Life",{"$f":"HLOOKUP(B3,September!$I$1:$CE$78,78,FALSE)","v":91},{"$f":"HLOOKUP(B3,October!$I$1:$CE$84,84,FALSE)","v":119},{"$f":"HLOOKUP(B3,November!$I$1:$CE$86,86,FALSE)","v":110},{"$f":"HLOOKUP(B3,December!$I$1:$CE$107,107,FALSE)","v":190},{"$f":"HLOOKUP(B3,January!$I$1:$CE$78,78,FALSE)","v":162},{"$f":"HLOOKUP(B3,February!$I$1:$CE$80,80,FALSE)","v":192},{"$f":"HLOOKUP(B3,March!$I$1:$CE$61,61,FALSE)","v":105},{"$f":"HLOOKUP(B3,April!$I$1:$CE$67,67,FALSE)","v":135},{"$f":"HLOOKUP(B3,May!$I$1:$CE$82,82,FALSE)","v":59},{"$f":"SUM(D3:L3)","v":1163}]
[2,"David Lavelle","Gers Abu",{"$f":"HLOOKUP(B4,September!$I$1:$CE$78,78,FALSE)","v":100},{"$f":"HLOOKUP(B4,October!$I$1:$CE$84,84,FALSE)","v":120},{"$f":"HLOOKUP(B4,November!$I$1:$CE$86,86,FALSE)","v":115},{"$f":"HLOOKUP(B4,December!$I$1:$CE$107,107,FALSE)","v":174},{"$f":"HLOOKUP(B4,January!$I$1:$CE$78,78,FALSE)","v":179},{"$f":"HLOOKUP(B4,February!$I$1:$CE$80,80,FALSE)","v":145},{"$f":"HLOOKUP(B4,March!$I$1:$CE$61,61,FALSE)","v":110},{"$f":"HLOOKUP(B4,April!$I$1:$CE$67,67,FALSE)","v":124},{"$f":"HLOOKUP(B4,May!$I$1:$CE$82,82,FALSE)","v":79},{"$f":"SUM(D4:L4)","v":1146}]
[3,"Jonathan Fox","Kilppety Klopp All The Way To The Top",{"$f":"HLOOKUP(B5,September!$I$1:$CE$78,78,FALSE)","v":115},{"$f":"HLOOKUP(B5,October!$I$1:$CE$84,84,FALSE)","v":88},{"$f":"HLOOKUP(B5,November!$I$1:$CE$86,86,FALSE)","v":126},{"$f":"HLOOKUP(B5,December!$I$1:$CE$107,107,FALSE)","v":181},{"$f":"HLOOKUP(B5,January!$I$1:$CE$78,78,FALSE)","v":150},{"$f":"HLOOKUP(B5,February!$I$1:$CE$80,80,FALSE)","v":165},{"$f":"HLOOKUP(B5,March!$I$1:$CE$61,61,FALSE)","v":151},{"$f":"HLOOKUP(B5,April!$I$1:$CE$67,67,FALSE)","v":108},{"$f":"HLOOKUP(B5,May!$I$1:$CE$82,82,FALSE)","v":56},{"$f":"SUM(D5:L5)","v":1140}]
[4,"Alan White","Al White XI",{"$f":"HLOOKUP(B6,September!$I$1:$CE$78,78,FALSE)","v":95},{"$f":"HLOOKUP(B6,October!$I$1:$CE$84,84,FALSE)","v":138},{"$f":"HLOOKUP(B6,November!$I$1:$CE$86,86,FALSE)","v":97},{"$f":"HLOOKUP(B6,December!$I$1:$CE$107,107,FALSE)","v":194},{"$f":"HLOOKUP(B6,January!$I$1:$CE$78,78,FALSE)","v":167},{"$f":"HLOOKUP(B6,February!$I$1:$CE$80,80,FALSE)","v":155},{"$f":"HLOOKUP(B6,March!$I$1:$CE$61,61,FALSE)","v":123},{"$f":"HLOOKUP(B6,April!$I$1:$CE$67,67,FALSE)","v":116},{"$f":"HLOOKUP(B6,May!$I$1:$CE$82,82,FALSE)","v":47},{"$f":"SUM(D6:L6)","v":1132}]
[5,"Victoria Reid","Tristan's Titans",{"$f":"HLOOKUP(B7,September!$I$1:$CE$78,78,FALSE)","v":95},{"$f":"HLOOKUP(B7,October!$I$1:$CE$84,84,FALSE)","v":84},{"$f":"HLOOKUP(B7,November!$I$1:$CE$86,86,FALSE)","v":110},{"$f":"HLOOKUP(B7,December!$I$1:$CE$107,107,FALSE)","v":166},{"$f":"HLOOKUP(B7,January!$I$1:$CE$78,78,FALSE)","v":202},{"$f":"HLOOKUP(B7,February!$I$1:$CE$80,80,FALSE)","v":153},{"$f":"HLOOKUP(B7,March!$I$1:$CE$61,61,FALSE)","v":125},{"$f":"HLOOKUP(B7,April!$I$1:$CE$67,67,FALSE)","v":137},{"$f":"HLOOKUP(B7,May!$I$1:$CE$82,82,FALSE)","v":54},{"$f":"SUM(D7:L7)","v":1126}]
[6,"Brian Haughton","Klopp's Achievers",{"$f":"HLOOKUP(B8,September!$I$1:$CE$78,78,FALSE)","v":92},{"$f":"HLOOKUP(B8,October!$I$1:$CE$84,84,FALSE)","v":101},{"$f":"HLOOKUP(B8,November!$I$1:$CE$86,86,FALSE)","v":135},{"$f":"HLOOKUP(B8,December!$I$1:$CE$107,107,FALSE)","v":190},{"$f":"HLOOKUP(B8,January!$I$1:$CE$78,78,FALSE)","v":161},{"$f":"HLOOKUP(B8,February!$I$1:$CE$80,80,FALSE)","v":174},{"$f":"HLOOKUP(B8,March!$I$1:$CE$61,61,FALSE)","v":100},{"$f":"HLOOKUP(B8,April!$I$1:$CE$67,67,FALSE)","v":119},{"$f":"HLOOKUP(B8,May!$I$1:$CE$82,82,FALSE)","v":44},{"$f":"SUM(D8:L8)","v":1116}]
[7,"Gavin Goodwin","Gorey United",{"$f":"HLOOKUP(B9,September!$I$1:$CE$78,78,FALSE)","v":89},{"$f":"HLOOKUP(B9,October!$I$1:$CE$84,84,FALSE)","v":122},{"$f":"HLOOKUP(B9,November!$I$1:$CE$86,86,FALSE)","v":102},{"$f":"HLOOKUP(B9,December!$I$1:$CE$107,107,FALSE)","v":166},{"$f":"HLOOKUP(B9,January!$I$1:$CE$78,78,FALSE)","v":181},{"$f":"HLOOKUP(B9,February!$I$1:$CE$80,80,FALSE)","v":196},{"$f":"HLOOKUP(B9,March!$I$1:$CE$61,61,FALSE)","v":98},{"$f":"HLOOKUP(B9,April!$I$1:$CE$67,67,FALSE)","v":98},{"$f":"HLOOKUP(B9,May!$I$1:$CE$82,82,FALSE)","v":62},{"$f":"SUM(D9:L9)","v":1114}]
[8,"Wayne Donovan","Sixth Senseless",{"$f":"HLOOKUP(B10,September!$I$1:$CE$78,78,FALSE)","v":70},{"$f":"HLOOKUP(B10,October!$I$1:$CE$84,84,FALSE)","v":132},{"$f":"HLOOKUP(B10,November!$I$1:$CE$86,86,FALSE)","v":91},{"$f":"HLOOKUP(B10,December!$I$1:$CE$107,107,FALSE)","v":190},{"$f":"HLOOKUP(B10,January!$I$1:$CE$78,78,FALSE)","v":164},{"$f":"HLOOKUP(B10,February!$I$1:$CE$80,80,FALSE)","v":166},{"$f":"HLOOKUP(B10,March!$I$1:$CE$61,61,FALSE)","v":114},{"$f":"HLOOKUP(B10,April!$I$1:$CE$67,67,FALSE)","v":138},{"$f":"HLOOKUP(B10,May!$I$1:$CE$82,82,FALSE)","v":46},{"$f":"SUM(D10:L10)","v":1111}]
[9,"Derek Brady","Liverpool",{"$f":"HLOOKUP(B11,September!$I$1:$CE$78,78,FALSE)","v":117},{"$f":"HLOOKUP(B11,October!$I$1:$CE$84,84,FALSE)","v":115},{"$f":"HLOOKUP(B11,November!$I$1:$CE$86,86,FALSE)","v":118},{"$f":"HLOOKUP(B11,December!$I$1:$CE$107,107,FALSE)","v":169},{"$f":"HLOOKUP(B11,January!$I$1:$CE$78,78,FALSE)","v":194},{"$f":"HLOOKUP(B11,February!$I$1:$CE$80,80,FALSE)","v":130},{"$f":"HLOOKUP(B11,March!$I$1:$CE$61,61,FALSE)","v":105},{"$f":"HLOOKUP(B11,April!$I$1:$CE$67,67,FALSE)","v":115},{"$f":"HLOOKUP(B11,May!$I$1:$CE$82,82,FALSE)","v":36},{"$f":"SUM(D11:L11)","v":1099}]
[10,"Bobby Hynes","Born To Run",{"$f":"HLOOKUP(B12,September!$I$1:$CE$78,78,FALSE)","v":82},{"$f":"HLOOKUP(B12,October!$I$1:$CE$84,84,FALSE)","v":121},{"$f":"HLOOKUP(B12,November!$I$1:$CE$86,86,FALSE)","v":90},{"$f":"HLOOKUP(B12,December!$I$1:$CE$107,107,FALSE)","v":230},{"$f":"HLOOKUP(B12,January!$I$1:$CE$78,78,FALSE)","v":141},{"$f":"HLOOKUP(B12,February!$I$1:$CE$80,80,FALSE)","v":174},{"$f":"HLOOKUP(B12,March!$I$1:$CE$61,61,FALSE)","v":85},{"$f":"HLOOKUP(B12,April!$I$1:$CE$67,67,FALSE)","v":119},{"$f":"HLOOKUP(B12,May!$I$1:$CE$82,82,FALSE)","v":54},{"$f":"SUM(D12:L12)","v":1096}]
[11,"Joe Turner","#blocklivesmatter",{"$f":"HLOOKUP(B13,September!$I$1:$CE$78,78,FALSE)","v":87},{"$f":"HLOOKUP(B13,October!$I$1:$CE$84,84,FALSE)","v":106},{"$f":"HLOOKUP(B13,November!$I$1:$CE$86,86,FALSE)","v":95},{"$f":"HLOOKUP(B13,December!$I$1:$CE$107,107,FALSE)","v":170},{"$f":"HLOOKUP(B13,January!$I$1:$CE$78,78,FALSE)","v":176},{"$f":"HLOOKUP(B13,February!$I$1:$CE$80,80,FALSE)","v":164},{"$f":"HLOOKUP(B13,March!$I$1:$CE$61,61,FALSE)","v":145},{"$f":"HLOOKUP(B13,April!$I$1:$CE$67,67,FALSE)","v":119},{"$f":"HLOOKUP(B13,May!$I$1:$CE$82,82,FALSE)","v":34},{"$f":"SUM(D13:L13)","v":1096}]
[12,"Anastas Popov","Strong Saints",{"$f":"HLOOKUP(B14,September!$I$1:$CE$78,78,FALSE)","v":97},{"$f":"HLOOKUP(B14,October!$I$1:$CE$84,84,FALSE)","v":121},{"$f":"HLOOKUP(B14,November!$I$1:$CE$86,86,FALSE)","v":95},{"$f":"HLOOKUP(B14,December!$I$1:$CE$107,107,FALSE)","v":165},{"$f":"HLOOKUP(B14,January!$I$1:$CE$78,78,FALSE)","v":161},{"$f":"HLOOKUP(B14,February!$I$1:$CE$80,80,FALSE)","v":169},{"$f":"HLOOKUP(B14,March!$I$1:$CE$61,61,FALSE)","v":110},{"$f":"HLOOKUP(B14,April!$I$1:$CE$67,67,FALSE)","v":99},{"$f":"HLOOKUP(B14,May!$I$1:$CE$82,82,FALSE)","v":74},{"$f":"SUM(D14:L14)","v":1091}]
[13,"Brian Prendergast","Mista Dobalina",{"$f":"HLOOKUP(B15,September!$I$1:$CE$78,78,FALSE)","v":85},{"$f":"HLOOKUP(B15,October!$I$1:$CE$84,84,FALSE)","v":110},{"$f":"HLOOKUP(B15,November!$I$1:$CE$86,86,FALSE)","v":85},{"$f":"HLOOKUP(B15,December!$I$1:$CE$107,107,FALSE)","v":214},{"$f":"HLOOKUP(B15,January!$I$1:$CE$78,78,FALSE)","v":169},{"$f":"HLOOKUP(B15,February!$I$1:$CE$80,80,FALSE)","v":165},{"$f":"HLOOKUP(B15,March!$I$1:$CE$61,61,FALSE)","v":120},{"$f":"HLOOKUP(B15,April!$I$1:$CE$67,67,FALSE)","v":109},{"$f":"HLOOKUP(B15,May!$I$1:$CE$82,82,FALSE)","v":34},{"$f":"SUM(D15:L15)","v":1091}]
[14,"Paul Prendergast","The Untouchables",{"$f":"HLOOKUP(B16,September!$I$1:$CE$78,78,FALSE)","v":72},{"$f":"HLOOKUP(B16,October!$I$1:$CE$84,84,FALSE)","v":106},{"$f":"HLOOKUP(B16,November!$I$1:$CE$86,86,FALSE)","v":120},{"$f":"HLOOKUP(B16,December!$I$1:$CE$107,107,FALSE)","v":180},{"$f":"HLOOKUP(B16,January!$I$1:$CE$78,78,FALSE)","v":161},{"$f":"HLOOKUP(B16,February!$I$1:$CE$80,80,FALSE)","v":169},{"$f":"HLOOKUP(B16,March!$I$1:$CE$61,61,FALSE)","v":100},{"$f":"HLOOKUP(B16,April!$I$1:$CE$67,67,FALSE)","v":124},{"$f":"HLOOKUP(B16,May!$I$1:$CE$82,82,FALSE)","v":59},{"$f":"SUM(D16:L16)","v":1091}]
[15,"Davy Doyle","FC Twente Benson",{"$f":"HLOOKUP(B17,September!$I$1:$CE$78,78,FALSE)","v":76},{"$f":"HLOOKUP(B17,October!$I$1:$CE$84,84,FALSE)","v":124},{"$f":"HLOOKUP(B17,November!$I$1:$CE$86,86,FALSE)","v":75},{"$f":"HLOOKUP(B17,December!$I$1:$CE$107,107,FALSE)","v":175},{"$f":"HLOOKUP(B17,January!$I$1:$CE$78,78,FALSE)","v":167},{"$f":"HLOOKUP(B17,February!$I$1:$CE$80,80,FALSE)","v":162},{"$f":"HLOOKUP(B17,March!$I$1:$CE$61,61,FALSE)","v":110},{"$f":"HLOOKUP(B17,April!$I$1:$CE$67,67,FALSE)","v":130},{"$f":"HLOOKUP(B17,May!$I$1:$CE$82,82,FALSE)","v":64},{"$f":"SUM(D17:L17)","v":1083}]
[16,"Kevin Philpott","Phillys Phylers",{"$f":"HLOOKUP(B18,September!$I$1:$CE$78,78,FALSE)","v":87},{"$f":"HLOOKUP(B18,October!$I$1:$CE$84,84,FALSE)","v":107},{"$f":"HLOOKUP(B18,November!$I$1:$CE$86,86,FALSE)","v":88},{"$f":"HLOOKUP(B18,December!$I$1:$CE$107,107,FALSE)","v":156},{"$f":"HLOOKUP(B18,January!$I$1:$CE$78,78,FALSE)","v":175},{"$f":"HLOOKUP(B18,February!$I$1:$CE$80,80,FALSE)","v":163},{"$f":"HLOOKUP(B18,March!$I$1:$CE$61,61,FALSE)","v":98},{"$f":"HLOOKUP(B18,April!$I$1:$CE$67,67,FALSE)","v":120},{"$f":"HLOOKUP(B18,May!$I$1:$CE$82,82,FALSE)","v":84},{"$f":"SUM(D18:L18)","v":1078}]
[17,"Joseph Kavanagh","Joey's Invincibles",{"$f":"HLOOKUP(B19,September!$I$1:$CE$78,78,FALSE)","v":92},{"$f":"HLOOKUP(B19,October!$I$1:$CE$84,84,FALSE)","v":116},{"$f":"HLOOKUP(B19,November!$I$1:$CE$86,86,FALSE)","v":75},{"$f":"HLOOKUP(B19,December!$I$1:$CE$107,107,FALSE)","v":185},{"$f":"HLOOKUP(B19,January!$I$1:$CE$78,78,FALSE)","v":196},{"$f":"HLOOKUP(B19,February!$I$1:$CE$80,80,FALSE)","v":154},{"$f":"HLOOKUP(B19,March!$I$1:$CE$61,61,FALSE)","v":100},{"$f":"HLOOKUP(B19,April!$I$1:$CE$67,67,FALSE)","v":109},{"$f":"HLOOKUP(B19,May!$I$1:$CE$82,82,FALSE)","v":44},{"$f":"SUM(D19:L19)","v":1071}]
[18,"George McGettigan","Right Up The Jimmy",{"$f":"HLOOKUP(B20,September!$I$1:$CE$78,78,FALSE)","v":101},{"$f":"HLOOKUP(B20,October!$I$1:$CE$84,84,FALSE)","v":100},{"$f":"HLOOKUP(B20,November!$I$1:$CE$86,86,FALSE)","v":98},{"$f":"HLOOKUP(B20,December!$I$1:$CE$107,107,FALSE)","v":186},{"$f":"HLOOKUP(B20,January!$I$1:$CE$78,78,FALSE)","v":139},{"$f":"HLOOKUP(B20,February!$I$1:$CE$80,80,FALSE)","v":189},{"$f":"HLOOKUP(B20,March!$I$1:$CE$61,61,FALSE)","v":94},{"$f":"HLOOKUP(B20,April!$I$1:$CE$67,67,FALSE)","v":114},{"$f":"HLOOKUP(B20,May!$I$1:$CE$82,82,FALSE)","v":49},{"$f":"SUM(D20:L20)","v":1070}]
[19,"David McGinley","Reservoir Dubs",{"$f":"HLOOKUP(B21,September!$I$1:$CE$78,78,FALSE)","v":58},{"$f":"HLOOKUP(B21,October!$I$1:$CE$84,84,FALSE)","v":110},{"$f":"HLOOKUP(B21,November!$I$1:$CE$86,86,FALSE)","v":103},{"$f":"HLOOKUP(B21,December!$I$1:$CE$107,107,FALSE)","v":194},{"$f":"HLOOKUP(B21,January!$I$1:$CE$78,78,FALSE)","v":157},{"$f":"HLOOKUP(B21,February!$I$1:$CE$80,80,FALSE)","v":193},{"$f":"HLOOKUP(B21,March!$I$1:$CE$61,61,FALSE)","v":108},{"$f":"HLOOKUP(B21,April!$I$1:$CE$67,67,FALSE)","v":109},{"$f":"HLOOKUP(B21,May!$I$1:$CE$82,82,FALSE)","v":37},{"$f":"SUM(D21:L21)","v":1069}]
[20,"Con McSweeney","Dowtcha_Boys",{"$f":"HLOOKUP(B22,September!$I$1:$CE$78,78,FALSE)","v":92},{"$f":"HLOOKUP(B22,October!$I$1:$CE$84,84,FALSE)","v":94},{"$f":"HLOOKUP(B22,November!$I$1:$CE$86,86,FALSE)","v":76},{"$f":"HLOOKUP(B22,December!$I$1:$CE$107,107,FALSE)","v":169},{"$f":"HLOOKUP(B22,January!$I$1:$CE$78,78,FALSE)","v":163},{"$f":"HLOOKUP(B22,February!$I$1:$CE$80,80,FALSE)","v":185},{"$f":"HLOOKUP(B22,March!$I$1:$CE$61,61,FALSE)","v":109},{"$f":"HLOOKUP(B22,April!$I$1:$CE$67,67,FALSE)","v":109},{"$f":"HLOOKUP(B22,May!$I$1:$CE$82,82,FALSE)","v":71},{"$f":"SUM(D22:L22)","v":1068}]
[21,"Richard Johnston","The Corporation Lads FC",{"$f":"HLOOKUP(B23,September!$I$1:$CE$78,78,FALSE)","v":110},{"$f":"HLOOKUP(B23,October!$I$1:$CE$84,84,FALSE)","v":83},{"$f":"HLOOKUP(B23,November!$I$1:$CE$86,86,FALSE)","v":107},{"$f":"HLOOKUP(B23,December!$I$1:$CE$107,107,FALSE)","v":179},{"$f":"HLOOKUP(B23,January!$I$1:$CE$78,78,FALSE)","v":182},{"$f":"HLOOKUP(B23,February!$I$1:$CE$80,80,FALSE)","v":150},{"$f":"HLOOKUP(B23,March!$I$1:$CE$61,61,FALSE)","v":93},{"$f":"HLOOKUP(B23,April!$I$1:$CE$67,67,FALSE)","v":126},{"$f":"HLOOKUP(B23,May!$I$1:$CE$82,82,FALSE)","v":37},{"$f":"SUM(D23:L23)","v":1067}]
[22,"David Cooney","Frank's Silvalinings",{"$f":"HLOOKUP(B24,September!$I$1:$CE$78,78,FALSE)","v":74},{"$f":"HLOOKUP(B24,October!$I$1:$CE$84,84,FALSE)","v":96},{"$f":"HLOOKUP(B24,November!$I$1:$CE$86,86,FALSE)","v":82},{"$f":"HLOOKUP(B24,December!$I$1:$CE$107,107,FALSE)","v":179},{"$f":"HLOOKUP(B24,January!$I$1:$CE$78,78,FALSE)","v":158},{"$f":"HLOOKUP(B24,February!$I$1:$CE$80,80,FALSE)","v":198},{"$f":"HLOOKUP(B24,March!$I$1:$CE$61,61,FALSE)","v":88},{"$f":"HLOOKUP(B24,April!$I$1:$CE$67,67,FALSE)","v":127},{"$f":"HLOOKUP(B24,May!$I$1:$CE$82,82,FALSE)","v":62},{"$f":"SUM(D24:L24)","v":1064}]
[23,"Ciaran Nelson","Nelson Utd",{"$f":"HLOOKUP(B25,September!$I$1:$CE$78,78,FALSE)","v":90},{"$f":"HLOOKUP(B25,October!$I$1:$CE$84,84,FALSE)","v":117},{"$f":"HLOOKUP(B25,November!$I$1:$CE$86,86,FALSE)","v":80},{"$f":"HLOOKUP(B25,December!$I$1:$CE$107,107,FALSE)","v":173},{"$f":"HLOOKUP(B25,January!$I$1:$CE$78,78,FALSE)","v":157},{"$f":"HLOOKUP(B25,February!$I$1:$CE$80,80,FALSE)","v":160},{"$f":"HLOOKUP(B25,March!$I$1:$CE$61,61,FALSE)","v":88},{"$f":"HLOOKUP(B25,April!$I$1:$CE$67,67,FALSE)","v":131},{"$f":"HLOOKUP(B25,May!$I$1:$CE$82,82,FALSE)","v":67},{"$f":"SUM(D25:L25)","v":1063}]
[24,"Robert Manley","Alisson Wonderland",{"$f":"HLOOKUP(B26,September!$I$1:$CE$78,78,FALSE)","v":65},{"$f":"HLOOKUP(B26,October!$I$1:$CE$84,84,FALSE)","v":84},{"$f":"HLOOKUP(B26,November!$I$1:$CE$86,86,FALSE)","v":123},{"$f":"HLOOKUP(B26,December!$I$1:$CE$107,107,FALSE)","v":171},{"$f":"HLOOKUP(B26,January!$I$1:$CE$78,78,FALSE)","v":150},{"$f":"HLOOKUP(B26,February!$I$1:$CE$80,80,FALSE)","v":187},{"$f":"HLOOKUP(B26,March!$I$1:$CE$61,61,FALSE)","v":119},{"$f":"HLOOKUP(B26,April!$I$1:$CE$67,67,FALSE)","v":110},{"$f":"HLOOKUP(B26,May!$I$1:$CE$82,82,FALSE)","v":54},{"$f":"SUM(D26:L26)","v":1063}]
[25,"Ralph Goodwin","Sky Blue Champions",{"$f":"HLOOKUP(B27,September!$I$1:$CE$78,78,FALSE)","v":100},{"$f":"HLOOKUP(B27,October!$I$1:$CE$84,84,FALSE)","v":95},{"$f":"HLOOKUP(B27,November!$I$1:$CE$86,86,FALSE)","v":120},{"$f":"HLOOKUP(B27,December!$I$1:$CE$107,107,FALSE)","v":182},{"$f":"HLOOKUP(B27,January!$I$1:$CE$78,78,FALSE)","v":160},{"$f":"HLOOKUP(B27,February!$I$1:$CE$80,80,FALSE)","v":137},{"$f":"HLOOKUP(B27,March!$I$1:$CE$61,61,FALSE)","v":119},{"$f":"HLOOKUP(B27,April!$I$1:$CE$67,67,FALSE)","v":110},{"$f":"HLOOKUP(B27,May!$I$1:$CE$82,82,FALSE)","v":39},{"$f":"SUM(D27:L27)","v":1062}]
[26,"Phil Doyle","FC Muertos Errantes",{"$f":"HLOOKUP(B28,September!$I$1:$CE$78,78,FALSE)","v":96},{"$f":"HLOOKUP(B28,October!$I$1:$CE$84,84,FALSE)","v":90},{"$f":"HLOOKUP(B28,November!$I$1:$CE$86,86,FALSE)","v":84},{"$f":"HLOOKUP(B28,December!$I$1:$CE$107,107,FALSE)","v":166},{"$f":"HLOOKUP(B28,January!$I$1:$CE$78,78,FALSE)","v":162},{"$f":"HLOOKUP(B28,February!$I$1:$CE$80,80,FALSE)","v":162},{"$f":"HLOOKUP(B28,March!$I$1:$CE$61,61,FALSE)","v":92},{"$f":"HLOOKUP(B28,April!$I$1:$CE$67,67,FALSE)","v":111},{"$f":"HLOOKUP(B28,May!$I$1:$CE$82,82,FALSE)","v":97},{"$f":"SUM(D28:L28)","v":1060}]
[27,"Cathal Thornton","Horse's Heroes",{"$f":"HLOOKUP(B29,September!$I$1:$CE$78,78,FALSE)","v":71},{"$f":"HLOOKUP(B29,October!$I$1:$CE$84,84,FALSE)","v":89},{"$f":"HLOOKUP(B29,November!$I$1:$CE$86,86,FALSE)","v":85},{"$f":"HLOOKUP(B29,December!$I$1:$CE$107,107,FALSE)","v":195},{"$f":"HLOOKUP(B29,January!$I$1:$CE$78,78,FALSE)","v":147},{"$f":"HLOOKUP(B29,February!$I$1:$CE$80,80,FALSE)","v":177},{"$f":"HLOOKUP(B29,March!$I$1:$CE$61,61,FALSE)","v":125},{"$f":"HLOOKUP(B29,April!$I$1:$CE$67,67,FALSE)","v":100},{"$f":"HLOOKUP(B29,May!$I$1:$CE$82,82,FALSE)","v":69},{"$f":"SUM(D29:L29)","v":1058}]
[28,"Frank McSweeney","Poolabu",{"$f":"HLOOKUP(B30,September!$I$1:$CE$78,78,FALSE)","v":86},{"$f":"HLOOKUP(B30,October!$I$1:$CE$84,84,FALSE)","v":114},{"$f":"HLOOKUP(B30,November!$I$1:$CE$86,86,FALSE)","v":90},{"$f":"HLOOKUP(B30,December!$I$1:$CE$107,107,FALSE)","v":175},{"$f":"HLOOKUP(B30,January!$I$1:$CE$78,78,FALSE)","v":167},{"$f":"HLOOKUP(B30,February!$I$1:$CE$80,80,FALSE)","v":137},{"$f":"HLOOKUP(B30,March!$I$1:$CE$61,61,FALSE)","v":110},{"$f":"HLOOKUP(B30,April!$I$1:$CE$67,67,FALSE)","v":105},{"$f":"HLOOKUP(B30,May!$I$1:$CE$82,82,FALSE)","v":74},{"$f":"SUM(D30:L30)","v":1058}]
[29,"Gary Fitzpatrick","Timo Werner Is A Hurensohn",{"$f":"HLOOKUP(B31,September!$I$1:$CE$78,78,FALSE)","v":77},{"$f":"HLOOKUP(B31,October!$I$1:$CE$84,84,FALSE)","v":116},{"$f":"HLOOKUP(B31,November!$I$1:$CE$86,86,FALSE)","v":95},{"$f":"HLOOKUP(B31,December!$I$1:$CE$107,107,FALSE)","v":170},{"$f":"HLOOKUP(B31,January!$I$1:$CE$78,78,FALSE)","v":166},{"$f":"HLOOKUP(B31,February!$I$1:$CE$80,80,FALSE)","v":174},{"$f":"HLOOKUP(B31,March!$I$1:$CE$61,61,FALSE)","v":90},{"$f":"HLOOKUP(B31,April!$I$1:$CE$67,67,FALSE)","v":109},{"$f":"HLOOKUP(B31,May!$I$1:$CE$82,82,FALSE)","v":54},{"$f":"SUM(D31:L31)","v":1051}]
[30,"Gerry Draper","Everton10",{"$f":"HLOOKUP(B32,September!$I$1:$CE$78,78,FALSE)","v":79},{"$f":"HLOOKUP(B32,October!$I$1:$CE$84,84,FALSE)","v":79},{"$f":"HLOOKUP(B32,November!$I$1:$CE$86,86,FALSE)","v":92},{"$f":"HLOOKUP(B32,December!$I$1:$CE$107,107,FALSE)","v":145},{"$f":"HLOOKUP(B32,January!$I$1:$CE$78,78,FALSE)","v":205},{"$f":"HLOOKUP(B32,February!$I$1:$CE$80,80,FALSE)","v":183},{"$f":"HLOOKUP(B32,March!$I$1:$CE$61,61,FALSE)","v":95},{"$f":"HLOOKUP(B32,April!$I$1:$CE$67,67,FALSE)","v":115},{"$f":"HLOOKUP(B32,May!$I$1:$CE$82,82,FALSE)","v":54},{"$f":"SUM(D32:L32)","v":1047}]
[31,"Philip Jordan","Frankie's Army",{"$f":"HLOOKUP(B33,September!$I$1:$CE$78,78,FALSE)","v":89},{"$f":"HLOOKUP(B33,October!$I$1:$CE$84,84,FALSE)","v":94},{"$f":"HLOOKUP(B33,November!$I$1:$CE$86,86,FALSE)","v":78},{"$f":"HLOOKUP(B33,December!$I$1:$CE$107,107,FALSE)","v":152},{"$f":"HLOOKUP(B33,January!$I$1:$CE$78,78,FALSE)","v":155},{"$f":"HLOOKUP(B33,February!$I$1:$CE$80,80,FALSE)","v":193},{"$f":"HLOOKUP(B33,March!$I$1:$CE$61,61,FALSE)","v":99},{"$f":"HLOOKUP(B33,April!$I$1:$CE$67,67,FALSE)","v":117},{"$f":"HLOOKUP(B33,May!$I$1:$CE$82,82,FALSE)","v":69},{"$f":"SUM(D33:L33)","v":1046}]
[32,"Liam Keohan","Invincibles",{"$f":"HLOOKUP(B34,September!$I$1:$CE$78,78,FALSE)","v":104},{"$f":"HLOOKUP(B34,October!$I$1:$CE$84,84,FALSE)","v":95},{"$f":"HLOOKUP(B34,November!$I$1:$CE$86,86,FALSE)","v":96},{"$f":"HLOOKUP(B34,December!$I$1:$CE$107,107,FALSE)","v":155},{"$f":"HLOOKUP(B34,January!$I$1:$CE$78,78,FALSE)","v":160},{"$f":"HLOOKUP(B34,February!$I$1:$CE$80,80,FALSE)","v":164},{"$f":"HLOOKUP(B34,March!$I$1:$CE$61,61,FALSE)","v":84},{"$f":"HLOOKUP(B34,April!$I$1:$CE$67,67,FALSE)","v":109},{"$f":"HLOOKUP(B34,May!$I$1:$CE$82,82,FALSE)","v":76},{"$f":"SUM(D34:L34)","v":1043}]
[33,"Gareth Pierpoint","Alisson Wonderland",{"$f":"HLOOKUP(B35,September!$I$1:$CE$78,78,FALSE)","v":90},{"$f":"HLOOKUP(B35,October!$I$1:$CE$84,84,FALSE)","v":109},{"$f":"HLOOKUP(B35,November!$I$1:$CE$86,86,FALSE)","v":88},{"$f":"HLOOKUP(B35,December!$I$1:$CE$107,107,FALSE)","v":201},{"$f":"HLOOKUP(B35,January!$I$1:$CE$78,78,FALSE)","v":155},{"$f":"HLOOKUP(B35,February!$I$1:$CE$80,80,FALSE)","v":152},{"$f":"HLOOKUP(B35,March!$I$1:$CE$61,61,FALSE)","v":99},{"$f":"HLOOKUP(B35,April!$I$1:$CE$67,67,FALSE)","v":95},{"$f":"HLOOKUP(B35,May!$I$1:$CE$82,82,FALSE)","v":49},{"$f":"SUM(D35:L35)","v":1038}]
[34,"Ciaran O'Hart","Riverchapel Plate",{"$f":"HLOOKUP(B36,September!$I$1:$CE$78,78,FALSE)","v":64},{"$f":"HLOOKUP(B36,October!$I$1:$CE$84,84,FALSE)","v":106},{"$f":"HLOOKUP(B36,November!$I$1:$CE$86,86,FALSE)","v":102},{"$f":"HLOOKUP(B36,December!$I$1:$CE$107,107,FALSE)","v":164},{"$f":"HLOOKUP(B36,January!$I$1:$CE$78,78,FALSE)","v":188},{"$f":"HLOOKUP(B36,February!$I$1:$CE$80,80,FALSE)","v":168},{"$f":"HLOOKUP(B36,March!$I$1:$CE$61,61,FALSE)","v":83},{"$f":"HLOOKUP(B36,April!$I$1:$CE$67,67,FALSE)","v":117},{"$f":"HLOOKUP(B36,May!$I$1:$CE$82,82,FALSE)","v":42},{"$f":"SUM(D36:L36)","v":1034}]
[35,"Dean White","Armchair 11",{"$f":"HLOOKUP(B37,September!$I$1:$CE$78,78,FALSE)","v":95},{"$f":"HLOOKUP(B37,October!$I$1:$CE$84,84,FALSE)","v":109},{"$f":"HLOOKUP(B37,November!$I$1:$CE$86,86,FALSE)","v":91},{"$f":"HLOOKUP(B37,December!$I$1:$CE$107,107,FALSE)","v":166},{"$f":"HLOOKUP(B37,January!$I$1:$CE$78,78,FALSE)","v":169},{"$f":"HLOOKUP(B37,February!$I$1:$CE$80,80,FALSE)","v":145},{"$f":"HLOOKUP(B37,March!$I$1:$CE$61,61,FALSE)","v":98},{"$f":"HLOOKUP(B37,April!$I$1:$CE$67,67,FALSE)","v":110},{"$f":"HLOOKUP(B37,May!$I$1:$CE$82,82,FALSE)","v":51},{"$f":"SUM(D37:L37)","v":1034}]
[36,"Brendan Maguire","Cantthinkofone",{"$f":"HLOOKUP(B38,September!$I$1:$CE$78,78,FALSE)","v":72},{"$f":"HLOOKUP(B38,October!$I$1:$CE$84,84,FALSE)","v":99},{"$f":"HLOOKUP(B38,November!$I$1:$CE$86,86,FALSE)","v":114},{"$f":"HLOOKUP(B38,December!$I$1:$CE$107,107,FALSE)","v":160},{"$f":"HLOOKUP(B38,January!$I$1:$CE$78,78,FALSE)","v":133},{"$f":"HLOOKUP(B38,February!$I$1:$CE$80,80,FALSE)","v":180},{"$f":"HLOOKUP(B38,March!$I$1:$CE$61,61,FALSE)","v":114},{"$f":"HLOOKUP(B38,April!$I$1:$CE$67,67,FALSE)","v":101},{"$f":"HLOOKUP(B38,May!$I$1:$CE$82,82,FALSE)","v":56},{"$f":"SUM(D38:L38)","v":1029}]
[37,"Craig Calvert","Proper FC",{"$f":"HLOOKUP(B39,September!$I$1:$CE$78,78,FALSE)","v":80},{"$f":"HLOOKUP(B39,October!$I$1:$CE$84,84,FALSE)","v":108},{"$f":"HLOOKUP(B39,November!$I$1:$CE$86,86,FALSE)","v":106},{"$f":"HLOOKUP(B39,December!$I$1:$CE$107,107,FALSE)","v":178},{"$f":"HLOOKUP(B39,January!$I$1:$CE$78,78,FALSE)","v":152},{"$f":"HLOOKUP(B39,February!$I$1:$CE$80,80,FALSE)","v":164},{"$f":"HLOOKUP(B39,March!$I$1:$CE$61,61,FALSE)","v":89},{"$f":"HLOOKUP(B39,April!$I$1:$CE$67,67,FALSE)","v":108},{"$f":"HLOOKUP(B39,May!$I$1:$CE$82,82,FALSE)","v":44},{"$f":"SUM(D39:L39)","v":1029}]
[38,"Kev Dalton","Show Me De Mane",{"$f":"HLOOKUP(B40,September!$I$1:$CE$78,78,FALSE)","v":100},{"$f":"HLOOKUP(B40,October!$I$1:$CE$84,84,FALSE)","v":123},{"$f":"HLOOKUP(B40,November!$I$1:$CE$86,86,FALSE)","v":82},{"$f":"HLOOKUP(B40,December!$I$1:$CE$107,107,FALSE)","v":177},{"$f":"HLOOKUP(B40,January!$I$1:$CE$78,78,FALSE)","v":133},{"$f":"HLOOKUP(B40,February!$I$1:$CE$80,80,FALSE)","v":170},{"$f":"HLOOKUP(B40,March!$I$1:$CE$61,61,FALSE)","v":102},{"$f":"HLOOKUP(B40,April!$I$1:$CE$67,67,FALSE)","v":91},{"$f":"HLOOKUP(B40,May!$I$1:$CE$82,82,FALSE)","v":51},{"$f":"SUM(D40:L40)","v":1029}]
[39,"Aidan White","Saved By A Goalline Technology Failure",{"$f":"HLOOKUP(B41,September!$I$1:$CE$78,78,FALSE)","v":70},{"$f":"HLOOKUP(B41,October!$I$1:$CE$84,84,FALSE)","v":100},{"$f":"HLOOKUP(B41,November!$I$1:$CE$86,86,FALSE)","v":116},{"$f":"HLOOKUP(B41,December!$I$1:$CE$107,107,FALSE)","v":152},{"$f":"HLOOKUP(B41,January!$I$1:$CE$78,78,FALSE)","v":180},{"$f":"HLOOKUP(B41,February!$I$1:$CE$80,80,FALSE)","v":144},{"$f":"HLOOKUP(B41,March!$I$1:$CE$61,61,FALSE)","v":85},{"$f":"HLOOKUP(B41,April!$I$1:$CE$67,67,FALSE)","v":110},{"$f":"HLOOKUP(B41,May!$I$1:$CE$82,82,FALSE)","v":71},{"$f":"SUM(D41:L41)","v":1028}]
[40,"Kris Stainton","Da Love Be Beek",{"$f":"HLOOKUP(B42,September!$I$1:$CE$78,78,FALSE)","v":91},{"$f":"HLOOKUP(B42,October!$I$1:$CE$84,84,FALSE)","v":100},{"$f":"HLOOKUP(B42,November!$I$1:$CE$86,86,FALSE)","v":66},{"$f":"HLOOKUP(B42,December!$I$1:$CE$107,107,FALSE)","v":185},{"$f":"HLOOKUP(B42,January!$I$1:$CE$78,78,FALSE)","v":135},{"$f":"HLOOKUP(B42,February!$I$1:$CE$80,80,FALSE)","v":182},{"$f":"HLOOKUP(B42,March!$I$1:$CE$61,61,FALSE)","v":108},{"$f":"HLOOKUP(B42,April!$I$1:$CE$67,67,FALSE)","v":120},{"$f":"HLOOKUP(B42,May!$I$1:$CE$82,82,FALSE)","v":32},{"$f":"SUM(D42:L42)","v":1019}]
[41,"Niall Carroll",19,{"$f":"HLOOKUP(B43,September!$I$1:$CE$78,78,FALSE)","v":90},{"$f":"HLOOKUP(B43,October!$I$1:$CE$84,84,FALSE)","v":86},{"$f":"HLOOKUP(B43,November!$I$1:$CE$86,86,FALSE)","v":114},{"$f":"HLOOKUP(B43,December!$I$1:$CE$107,107,FALSE)","v":149},{"$f":"HLOOKUP(B43,January!$I$1:$CE$78,78,FALSE)","v":167},{"$f":"HLOOKUP(B43,February!$I$1:$CE$80,80,FALSE)","v":177},{"$f":"HLOOKUP(B43,March!$I$1:$CE$61,61,FALSE)","v":79},{"$f":"HLOOKUP(B43,April!$I$1:$CE$67,67,FALSE)","v":114},{"$f":"HLOOKUP(B43,May!$I$1:$CE$82,82,FALSE)","v":43},{"$f":"SUM(D43:L43)","v":1019}]
[42,"Eoghan Farrelly","Last Chance Saloon",{"$f":"HLOOKUP(B44,September!$I$1:$CE$78,78,FALSE)","v":74},{"$f":"HLOOKUP(B44,October!$I$1:$CE$84,84,FALSE)","v":74},{"$f":"HLOOKUP(B44,November!$I$1:$CE$86,86,FALSE)","v":93},{"$f":"HLOOKUP(B44,December!$I$1:$CE$107,107,FALSE)","v":128},{"$f":"HLOOKUP(B44,January!$I$1:$CE$78,78,FALSE)","v":193},{"$f":"HLOOKUP(B44,February!$I$1:$CE$80,80,FALSE)","v":151},{"$f":"HLOOKUP(B44,March!$I$1:$CE$61,61,FALSE)","v":110},{"$f":"HLOOKUP(B44,April!$I$1:$CE$67,67,FALSE)","v":120},{"$f":"HLOOKUP(B44,May!$I$1:$CE$82,82,FALSE)","v":69},{"$f":"SUM(D44:L44)","v":1012}]
[43,"Sean O'Mairtin","Creweless",{"$f":"HLOOKUP(B45,September!$I$1:$CE$78,78,FALSE)","v":94},{"$f":"HLOOKUP(B45,October!$I$1:$CE$84,84,FALSE)","v":98},{"$f":"HLOOKUP(B45,November!$I$1:$CE$86,86,FALSE)","v":90},{"$f":"HLOOKUP(B45,December!$I$1:$CE$107,107,FALSE)","v":177},{"$f":"HLOOKUP(B45,January!$I$1:$CE$78,78,FALSE)","v":146},{"$f":"HLOOKUP(B45,February!$I$1:$CE$80,80,FALSE)","v":135},{"$f":"HLOOKUP(B45,March!$I$1:$CE$61,61,FALSE)","v":124},{"$f":"HLOOKUP(B45,April!$I$1:$CE$67,67,FALSE)","v":91},{"$f":"HLOOKUP(B45,May!$I$1:$CE$82,82,FALSE)","v":54},{"$f":"SUM(D45:L45)","v":1009}]
[44,"Andy Dunne","Peter Crouch Rangers",{"$f":"HLOOKUP(B46,September!$I$1:$CE$78,78,FALSE)","v":70},{"$f":"HLOOKUP(B46,October!$I$1:$CE$84,84,FALSE)","v":96},{"$f":"HLOOKUP(B46,November!$I$1:$CE$86,86,FALSE)","v":88},{"$f":"HLOOKUP(B46,December!$I$1:$CE$107,107,FALSE)","v":172},{"$f":"HLOOKUP(B46,January!$I$1:$CE$78,78,FALSE)","v":145},{"$f":"HLOOKUP(B46,February!$I$1:$CE$80,80,FALSE)","v":141},{"$f":"HLOOKUP(B46,March!$I$1:$CE$61,61,FALSE)","v":128},{"$f":"HLOOKUP(B46,April!$I$1:$CE$67,67,FALSE)","v":117},{"$f":"HLOOKUP(B46,May!$I$1:$CE$82,82,FALSE)","v":49},{"$f":"SUM(D46:L46)","v":1006}]
[45,"Darragh Kenny","The Sporting Wing",{"$f":"HLOOKUP(B47,September!$I$1:$CE$78,78,FALSE)","v":59},{"$f":"HLOOKUP(B47,October!$I$1:$CE$84,84,FALSE)","v":101},{"$f":"HLOOKUP(B47,November!$I$1:$CE$86,86,FALSE)","v":108},{"$f":"HLOOKUP(B47,December!$I$1:$CE$107,107,FALSE)","v":148},{"$f":"HLOOKUP(B47,January!$I$1:$CE$78,78,FALSE)","v":189},{"$f":"HLOOKUP(B47,February!$I$1:$CE$80,80,FALSE)","v":187},{"$f":"HLOOKUP(B47,March!$I$1:$CE$61,61,FALSE)","v":80},{"$f":"HLOOKUP(B47,April!$I$1:$CE$67,67,FALSE)","v":88},{"$f":"HLOOKUP(B47,May!$I$1:$CE$82,82,FALSE)","v":46},{"$f":"SUM(D47:L47)","v":1006}]
[46,"Javier Suarez","Hendo's Boys",{"$f":"HLOOKUP(B48,September!$I$1:$CE$78,78,FALSE)","v":95},{"$f":"HLOOKUP(B48,October!$I$1:$CE$84,84,FALSE)","v":111},{"$f":"HLOOKUP(B48,November!$I$1:$CE$86,86,FALSE)","v":73},{"$f":"HLOOKUP(B48,December!$I$1:$CE$107,107,FALSE)","v":157},{"$f":"HLOOKUP(B48,January!$I$1:$CE$78,78,FALSE)","v":175},{"$f":"HLOOKUP(B48,February!$I$1:$CE$80,80,FALSE)","v":101},{"$f":"HLOOKUP(B48,March!$I$1:$CE$61,61,FALSE)","v":113},{"$f":"HLOOKUP(B48,April!$I$1:$CE$67,67,FALSE)","v":117},{"$f":"HLOOKUP(B48,May!$I$1:$CE$82,82,FALSE)","v":59},{"$f":"SUM(D48:L48)","v":1001}]
[47,"Brian Mullen","Mothers Milk",{"$f":"HLOOKUP(B49,September!$I$1:$CE$78,78,FALSE)","v":80},{"$f":"HLOOKUP(B49,October!$I$1:$CE$84,84,FALSE)","v":95},{"$f":"HLOOKUP(B49,November!$I$1:$CE$86,86,FALSE)","v":95},{"$f":"HLOOKUP(B49,December!$I$1:$CE$107,107,FALSE)","v":157},{"$f":"HLOOKUP(B49,January!$I$1:$CE$78,78,FALSE)","v":150},{"$f":"HLOOKUP(B49,February!$I$1:$CE$80,80,FALSE)","v":167},{"$f":"HLOOKUP(B49,March!$I$1:$CE$61,61,FALSE)","v":94},{"$f":"HLOOKUP(B49,April!$I$1:$CE$67,67,FALSE)","v":100},{"$f":"HLOOKUP(B49,May!$I$1:$CE$82,82,FALSE)","v":59},{"$f":"SUM(D49:L49)","v":997}]
[48,"Liam Geraghty","Is There Any Hope?",{"$f":"HLOOKUP(B50,September!$I$1:$CE$78,78,FALSE)","v":108},{"$f":"HLOOKUP(B50,October!$I$1:$CE$84,84,FALSE)","v":129},{"$f":"HLOOKUP(B50,November!$I$1:$CE$86,86,FALSE)","v":68},{"$f":"HLOOKUP(B50,December!$I$1:$CE$107,107,FALSE)","v":159},{"$f":"HLOOKUP(B50,January!$I$1:$CE$78,78,FALSE)","v":160},{"$f":"HLOOKUP(B50,February!$I$1:$CE$80,80,FALSE)","v":127},{"$f":"HLOOKUP(B50,March!$I$1:$CE$61,61,FALSE)","v":92},{"$f":"HLOOKUP(B50,April!$I$1:$CE$67,67,FALSE)","v":95},{"$f":"HLOOKUP(B50,May!$I$1:$CE$82,82,FALSE)","v":54},{"$f":"SUM(D50:L50)","v":992}]
[49,"Niall Murray","Book Ake",{"$f":"HLOOKUP(B51,September!$I$1:$CE$78,78,FALSE)","v":70},{"$f":"HLOOKUP(B51,October!$I$1:$CE$84,84,FALSE)","v":109},{"$f":"HLOOKUP(B51,November!$I$1:$CE$86,86,FALSE)","v":97},{"$f":"HLOOKUP(B51,December!$I$1:$CE$107,107,FALSE)","v":127},{"$f":"HLOOKUP(B51,January!$I$1:$CE$78,78,FALSE)","v":136},{"$f":"HLOOKUP(B51,February!$I$1:$CE$80,80,FALSE)","v":184},{"$f":"HLOOKUP(B51,March!$I$1:$CE$61,61,FALSE)","v":109},{"$f":"HLOOKUP(B51,April!$I$1:$CE$67,67,FALSE)","v":134},{"$f":"HLOOKUP(B51,May!$I$1:$CE$82,82,FALSE)","v":24},{"$f":"SUM(D51:L51)","v":990}]
[50,"Robert Hynes","Charlton",{"$f":"HLOOKUP(B52,September!$I$1:$CE$78,78,FALSE)","v":74},{"$f":"HLOOKUP(B52,October!$I$1:$CE$84,84,FALSE)","v":111},{"$f":"HLOOKUP(B52,November!$I$1:$CE$86,86,FALSE)","v":101},{"$f":"HLOOKUP(B52,December!$I$1:$CE$107,107,FALSE)","v":186},{"$f":"HLOOKUP(B52,January!$I$1:$CE$78,78,FALSE)","v":126},{"$f":"HLOOKUP(B52,February!$I$1:$CE$80,80,FALSE)","v":133},{"$f":"HLOOKUP(B52,March!$I$1:$CE$61,61,FALSE)","v":101},{"$f":"HLOOKUP(B52,April!$I$1:$CE$67,67,FALSE)","v":84},{"$f":"HLOOKUP(B52,May!$I$1:$CE$82,82,FALSE)","v":66},{"$f":"SUM(D52:L52)","v":982}]
[51,"Gary McGurk","This Is Our Year",{"$f":"HLOOKUP(B53,September!$I$1:$CE$78,78,FALSE)","v":101},{"$f":"HLOOKUP(B53,October!$I$1:$CE$84,84,FALSE)","v":114},{"$f":"HLOOKUP(B53,November!$I$1:$CE$86,86,FALSE)","v":90},{"$f":"HLOOKUP(B53,December!$I$1:$CE$107,107,FALSE)","v":145},{"$f":"HLOOKUP(B53,January!$I$1:$CE$78,78,FALSE)","v":152},{"$f":"HLOOKUP(B53,February!$I$1:$CE$80,80,FALSE)","v":127},{"$f":"HLOOKUP(B53,March!$I$1:$CE$61,61,FALSE)","v":110},{"$f":"HLOOKUP(B53,April!$I$1:$CE$67,67,FALSE)","v":90},{"$f":"HLOOKUP(B53,May!$I$1:$CE$82,82,FALSE)","v":49},{"$f":"SUM(D53:L53)","v":978}]
[52,"Gavin Morgan","Bristol Fashion",{"$f":"HLOOKUP(B54,September!$I$1:$CE$78,78,FALSE)","v":80},{"$f":"HLOOKUP(B54,October!$I$1:$CE$84,84,FALSE)","v":80},{"$f":"HLOOKUP(B54,November!$I$1:$CE$86,86,FALSE)","v":111},{"$f":"HLOOKUP(B54,December!$I$1:$CE$107,107,FALSE)","v":132},{"$f":"HLOOKUP(B54,January!$I$1:$CE$78,78,FALSE)","v":180},{"$f":"HLOOKUP(B54,February!$I$1:$CE$80,80,FALSE)","v":164},{"$f":"HLOOKUP(B54,March!$I$1:$CE$61,61,FALSE)","v":100},{"$f":"HLOOKUP(B54,April!$I$1:$CE$67,67,FALSE)","v":85},{"$f":"HLOOKUP(B54,May!$I$1:$CE$82,82,FALSE)","v":46},{"$f":"SUM(D54:L54)","v":978}]
[53,"Gerard McCluskey","Breffni Blues",{"$f":"HLOOKUP(B55,September!$I$1:$CE$78,78,FALSE)","v":75},{"$f":"HLOOKUP(B55,October!$I$1:$CE$84,84,FALSE)","v":90},{"$f":"HLOOKUP(B55,November!$I$1:$CE$86,86,FALSE)","v":85},{"$f":"HLOOKUP(B55,December!$I$1:$CE$107,107,FALSE)","v":172},{"$f":"HLOOKUP(B55,January!$I$1:$CE$78,78,FALSE)","v":150},{"$f":"HLOOKUP(B55,February!$I$1:$CE$80,80,FALSE)","v":142},{"$f":"HLOOKUP(B55,March!$I$1:$CE$61,61,FALSE)","v":134},{"$f":"HLOOKUP(B55,April!$I$1:$CE$67,67,FALSE)","v":110},{"$f":"HLOOKUP(B55,May!$I$1:$CE$82,82,FALSE)","v":19},{"$f":"SUM(D55:L55)","v":977}]
[54,"Caroline Carroll","Prince",{"$f":"HLOOKUP(B56,September!$I$1:$CE$78,78,FALSE)","v":96},{"$f":"HLOOKUP(B56,October!$I$1:$CE$84,84,FALSE)","v":80},{"$f":"HLOOKUP(B56,November!$I$1:$CE$86,86,FALSE)","v":101},{"$f":"HLOOKUP(B56,December!$I$1:$CE$107,107,FALSE)","v":145},{"$f":"HLOOKUP(B56,January!$I$1:$CE$78,78,FALSE)","v":162},{"$f":"HLOOKUP(B56,February!$I$1:$CE$80,80,FALSE)","v":135},{"$f":"HLOOKUP(B56,March!$I$1:$CE$61,61,FALSE)","v":104},{"$f":"HLOOKUP(B56,April!$I$1:$CE$67,67,FALSE)","v":90},{"$f":"HLOOKUP(B56,May!$I$1:$CE$82,82,FALSE)","v":51},{"$f":"SUM(D56:L56)","v":964}]
[55,"Lionel Knott","Red Abbey Reds",{"$f":"HLOOKUP(B57,September!$I$1:$CE$78,78,FALSE)","v":101},{"$f":"HLOOKUP(B57,October!$I$1:$CE$84,84,FALSE)","v":85},{"$f":"HLOOKUP(B57,November!$I$1:$CE$86,86,FALSE)","v":81},{"$f":"HLOOKUP(B57,December!$I$1:$CE$107,107,FALSE)","v":175},{"$f":"HLOOKUP(B57,January!$I$1:$CE$78,78,FALSE)","v":137},{"$f":"HLOOKUP(B57,February!$I$1:$CE$80,80,FALSE)","v":135},{"$f":"HLOOKUP(B57,March!$I$1:$CE$61,61,FALSE)","v":84},{"$f":"HLOOKUP(B57,April!$I$1:$CE$67,67,FALSE)","v":120},{"$f":"HLOOKUP(B57,May!$I$1:$CE$82,82,FALSE)","v":46},{"$f":"SUM(D57:L57)","v":964}]
[56,"Aidan Scanlon","Kilflynn Santos",{"$f":"HLOOKUP(B58,September!$I$1:$CE$78,78,FALSE)","v":89},{"$f":"HLOOKUP(B58,October!$I$1:$CE$84,84,FALSE)","v":108},{"$f":"HLOOKUP(B58,November!$I$1:$CE$86,86,FALSE)","v":73},{"$f":"HLOOKUP(B58,December!$I$1:$CE$107,107,FALSE)","v":134},{"$f":"HLOOKUP(B58,January!$I$1:$CE$78,78,FALSE)","v":171},{"$f":"HLOOKUP(B58,February!$I$1:$CE$80,80,FALSE)","v":179},{"$f":"HLOOKUP(B58,March!$I$1:$CE$61,61,FALSE)","v":75},{"$f":"HLOOKUP(B58,April!$I$1:$CE$67,67,FALSE)","v":87},{"$f":"HLOOKUP(B58,May!$I$1:$CE$82,82,FALSE)","v":47},{"$f":"SUM(D58:L58)","v":963}]
[57,"Graham Goodwin","2021 Pls",{"$f":"HLOOKUP(B59,September!$I$1:$CE$78,78,FALSE)","v":91},{"$f":"HLOOKUP(B59,October!$I$1:$CE$84,84,FALSE)","v":95},{"$f":"HLOOKUP(B59,November!$I$1:$CE$86,86,FALSE)","v":122},{"$f":"HLOOKUP(B59,December!$I$1:$CE$107,107,FALSE)","v":151},{"$f":"HLOOKUP(B59,January!$I$1:$CE$78,78,FALSE)","v":147},{"$f":"HLOOKUP(B59,February!$I$1:$CE$80,80,FALSE)","v":137},{"$f":"HLOOKUP(B59,March!$I$1:$CE$61,61,FALSE)","v":80},{"$f":"HLOOKUP(B59,April!$I$1:$CE$67,67,FALSE)","v":110},{"$f":"HLOOKUP(B59,May!$I$1:$CE$82,82,FALSE)","v":29},{"$f":"SUM(D59:L59)","v":962}]
[58,"Christina Morgan","Return of the Red Dwarf",{"$f":"HLOOKUP(B60,September!$I$1:$CE$78,78,FALSE)","v":90},{"$f":"HLOOKUP(B60,October!$I$1:$CE$84,84,FALSE)","v":105},{"$f":"HLOOKUP(B60,November!$I$1:$CE$86,86,FALSE)","v":103},{"$f":"HLOOKUP(B60,December!$I$1:$CE$107,107,FALSE)","v":182},{"$f":"HLOOKUP(B60,January!$I$1:$CE$78,78,FALSE)","v":126},{"$f":"HLOOKUP(B60,February!$I$1:$CE$80,80,FALSE)","v":144},{"$f":"HLOOKUP(B60,March!$I$1:$CE$61,61,FALSE)","v":98},{"$f":"HLOOKUP(B60,April!$I$1:$CE$67,67,FALSE)","v":54},{"$f":"HLOOKUP(B60,May!$I$1:$CE$82,82,FALSE)","v":59},{"$f":"SUM(D60:L60)","v":961}]
[59,"Micheal Joyce","Pure Whites",{"$f":"HLOOKUP(B61,September!$I$1:$CE$78,78,FALSE)","v":89},{"$f":"HLOOKUP(B61,October!$I$1:$CE$84,84,FALSE)","v":82},{"$f":"HLOOKUP(B61,November!$I$1:$CE$86,86,FALSE)","v":73},{"$f":"HLOOKUP(B61,December!$I$1:$CE$107,107,FALSE)","v":189},{"$f":"HLOOKUP(B61,January!$I$1:$CE$78,78,FALSE)","v":118},{"$f":"HLOOKUP(B61,February!$I$1:$CE$80,80,FALSE)","v":157},{"$f":"HLOOKUP(B61,March!$I$1:$CE$61,61,FALSE)","v":104},{"$f":"HLOOKUP(B61,April!$I$1:$CE$67,67,FALSE)","v":94},{"$f":"HLOOKUP(B61,May!$I$1:$CE$82,82,FALSE)","v":49},{"$f":"SUM(D61:L61)","v":955}]
[60,"Joe Behan","MT-09",{"$f":"HLOOKUP(B62,September!$I$1:$CE$78,78,FALSE)","v":81},{"$f":"HLOOKUP(B62,October!$I$1:$CE$84,84,FALSE)","v":82},{"$f":"HLOOKUP(B62,November!$I$1:$CE$86,86,FALSE)","v":70},{"$f":"HLOOKUP(B62,December!$I$1:$CE$107,107,FALSE)","v":129},{"$f":"HLOOKUP(B62,January!$I$1:$CE$78,78,FALSE)","v":198},{"$f":"HLOOKUP(B62,February!$I$1:$CE$80,80,FALSE)","v":120},{"$f":"HLOOKUP(B62,March!$I$1:$CE$61,61,FALSE)","v":103},{"$f":"HLOOKUP(B62,April!$I$1:$CE$67,67,FALSE)","v":122},{"$f":"HLOOKUP(B62,May!$I$1:$CE$82,82,FALSE)","v":47},{"$f":"SUM(D62:L62)","v":952}]
[61,"Roisin Joyce","Roisin Joyce",{"$f":"HLOOKUP(B63,September!$I$1:$CE$78,78,FALSE)","v":60},{"$f":"HLOOKUP(B63,October!$I$1:$CE$84,84,FALSE)","v":97},{"$f":"HLOOKUP(B63,November!$I$1:$CE$86,86,FALSE)","v":68},{"$f":"HLOOKUP(B63,December!$I$1:$CE$107,107,FALSE)","v":155},{"$f":"HLOOKUP(B63,January!$I$1:$CE$78,78,FALSE)","v":141},{"$f":"HLOOKUP(B63,February!$I$1:$CE$80,80,FALSE)","v":175},{"$f":"HLOOKUP(B63,March!$I$1:$CE$61,61,FALSE)","v":82},{"$f":"HLOOKUP(B63,April!$I$1:$CE$67,67,FALSE)","v":122},{"$f":"HLOOKUP(B63,May!$I$1:$CE$82,82,FALSE)","v":52},{"$f":"SUM(D63:L63)","v":952}]
[62,"Fiachra O'Brolachain","Tallacticos",{"$f":"HLOOKUP(B64,September!$I$1:$CE$78,78,FALSE)","v":83},{"$f":"HLOOKUP(B64,October!$I$1:$CE$84,84,FALSE)","v":120},{"$f":"HLOOKUP(B64,November!$I$1:$CE$86,86,FALSE)","v":103},{"$f":"HLOOKUP(B64,December!$I$1:$CE$107,107,FALSE)","v":149},{"$f":"HLOOKUP(B64,January!$I$1:$CE$78,78,FALSE)","v":157},{"$f":"HLOOKUP(B64,February!$I$1:$CE$80,80,FALSE)","v":128},{"$f":"HLOOKUP(B64,March!$I$1:$CE$61,61,FALSE)","v":53},{"$f":"HLOOKUP(B64,April!$I$1:$CE$67,67,FALSE)","v":114},{"$f":"HLOOKUP(B64,May!$I$1:$CE$82,82,FALSE)","v":32},{"$f":"SUM(D64:L64)","v":939}]
[63,"Paul Moore","Bobby Dazzler",{"$f":"HLOOKUP(B65,September!$I$1:$CE$78,78,FALSE)","v":85},{"$f":"HLOOKUP(B65,October!$I$1:$CE$84,84,FALSE)","v":85},{"$f":"HLOOKUP(B65,November!$I$1:$CE$86,86,FALSE)","v":103},{"$f":"HLOOKUP(B65,December!$I$1:$CE$107,107,FALSE)","v":167},{"$f":"HLOOKUP(B65,January!$I$1:$CE$78,78,FALSE)","v":131},{"$f":"HLOOKUP(B65,February!$I$1:$CE$80,80,FALSE)","v":129},{"$f":"HLOOKUP(B65,March!$I$1:$CE$61,61,FALSE)","v":93},{"$f":"HLOOKUP(B65,April!$I$1:$CE$67,67,FALSE)","v":84},{"$f":"HLOOKUP(B65,May!$I$1:$CE$82,82,FALSE)","v":49},{"$f":"SUM(D65:L65)","v":926}]
[64,"Gerry Moore","Mikel's Maestros",{"$f":"HLOOKUP(B66,September!$I$1:$CE$78,78,FALSE)","v":90},{"$f":"HLOOKUP(B66,October!$I$1:$CE$84,84,FALSE)","v":90},{"$f":"HLOOKUP(B66,November!$I$1:$CE$86,86,FALSE)","v":105},{"$f":"HLOOKUP(B66,December!$I$1:$CE$107,107,FALSE)","v":157},{"$f":"HLOOKUP(B66,January!$I$1:$CE$78,78,FALSE)","v":110},{"$f":"HLOOKUP(B66,February!$I$1:$CE$80,80,FALSE)","v":132},{"$f":"HLOOKUP(B66,March!$I$1:$CE$61,61,FALSE)","v":84},{"$f":"HLOOKUP(B66,April!$I$1:$CE$67,67,FALSE)","v":75},{"$f":"HLOOKUP(B66,May!$I$1:$CE$82,82,FALSE)","v":59},{"$f":"SUM(D66:L66)","v":902}]
[65,"Trevor Byrne","Noddy's 11",{"$f":"HLOOKUP(B67,September!$I$1:$CE$78,78,FALSE)","v":87},{"$f":"HLOOKUP(B67,October!$I$1:$CE$84,84,FALSE)","v":74},{"$f":"HLOOKUP(B67,November!$I$1:$CE$86,86,FALSE)","v":89},{"$f":"HLOOKUP(B67,December!$I$1:$CE$107,107,FALSE)","v":115},{"$f":"HLOOKUP(B67,January!$I$1:$CE$78,78,FALSE)","v":153},{"$f":"HLOOKUP(B67,February!$I$1:$CE$80,80,FALSE)","v":125},{"$f":"HLOOKUP(B67,March!$I$1:$CE$61,61,FALSE)","v":119},{"$f":"HLOOKUP(B67,April!$I$1:$CE$67,67,FALSE)","v":71},{"$f":"HLOOKUP(B67,May!$I$1:$CE$82,82,FALSE)","v":66},{"$f":"SUM(D67:L67)","v":899}]
[66,"John Brophy","Carrig United",{"$f":"HLOOKUP(B68,September!$I$1:$CE$78,78,FALSE)","v":48},{"$f":"HLOOKUP(B68,October!$I$1:$CE$84,84,FALSE)","v":98},{"$f":"HLOOKUP(B68,November!$I$1:$CE$86,86,FALSE)","v":93},{"$f":"HLOOKUP(B68,December!$I$1:$CE$107,107,FALSE)","v":160},{"$f":"HLOOKUP(B68,January!$I$1:$CE$78,78,FALSE)","v":113},{"$f":"HLOOKUP(B68,February!$I$1:$CE$80,80,FALSE)","v":148},{"$f":"HLOOKUP(B68,March!$I$1:$CE$61,61,FALSE)","v":74},{"$f":"HLOOKUP(B68,April!$I$1:$CE$67,67,FALSE)","v":100},{"$f":"HLOOKUP(B68,May!$I$1:$CE$82,82,FALSE)","v":44},{"$f":"SUM(D68:L68)","v":878}]
[67,"Niall Cannon","TAA Very Much",{"$f":"HLOOKUP(B69,September!$I$1:$CE$78,78,FALSE)","v":99},{"$f":"HLOOKUP(B69,October!$I$1:$CE$84,84,FALSE)","v":111},{"$f":"HLOOKUP(B69,November!$I$1:$CE$86,86,FALSE)","v":103},{"$f":"HLOOKUP(B69,December!$I$1:$CE$107,107,FALSE)","v":186},{"$f":"HLOOKUP(B69,January!$I$1:$CE$78,78,FALSE)","v":133},{"$f":"HLOOKUP(B69,February!$I$1:$CE$80,80,FALSE)","v":108},{"$f":"HLOOKUP(B69,March!$I$1:$CE$61,61,FALSE)","v":37},{"$f":"HLOOKUP(B69,April!$I$1:$CE$67,67,FALSE)","v":14},{"$f":"HLOOKUP(B69,May!$I$1:$CE$82,82,FALSE)","v":2},{"$f":"SUM(D69:L69)","v":793}]
[68,"Calvin McGettigan","Average Joe 1.0",{"$f":"HLOOKUP(B70,September!$I$1:$CE$78,78,FALSE)","v":93},{"$f":"HLOOKUP(B70,October!$I$1:$CE$84,84,FALSE)","v":102},{"$f":"HLOOKUP(B70,November!$I$1:$CE$86,86,FALSE)","v":111},{"$f":"HLOOKUP(B70,December!$I$1:$CE$107,107,FALSE)","v":172},{"$f":"HLOOKUP(B70,January!$I$1:$CE$78,78,FALSE)","v":150},{"$f":"HLOOKUP(B70,February!$I$1:$CE$80,80,FALSE)","v":125},{"$f":"HLOOKUP(B70,March!$I$1:$CE$61,61,FALSE)","v":24},{"$f":"HLOOKUP(B70,April!$I$1:$CE$67,67,FALSE)","v":8},{"$f":"HLOOKUP(B70,May!$I$1:$CE$82,82,FALSE)","v":4},{"$f":"SUM(D70:L70)","v":789}]
[69,"John O'Driscoll","The Botchments",{"$f":"HLOOKUP(B71,September!$I$1:$CE$78,78,FALSE)","v":65},{"$f":"HLOOKUP(B71,October!$I$1:$CE$84,84,FALSE)","v":131},{"$f":"HLOOKUP(B71,November!$I$1:$CE$86,86,FALSE)","v":108},{"$f":"HLOOKUP(B71,December!$I$1:$CE$107,107,FALSE)","v":140},{"$f":"HLOOKUP(B71,January!$I$1:$CE$78,78,FALSE)","v":109},{"$f":"HLOOKUP(B71,February!$I$1:$CE$80,80,FALSE)","v":37},{"$f":"HLOOKUP(B71,March!$I$1:$CE$61,61,FALSE)","v":8},{"$f":"HLOOKUP(B71,April!$I$1:$CE$67,67,FALSE)","v":14},{"$f":"HLOOKUP(B71,May!$I$1:$CE$82,82,FALSE)","v":2},{"$f":"SUM(D71:L71)","v":614}]
[70,"Patrick Mifsud","Red & Black Brigade",{"$f":"HLOOKUP(B72,September!$I$1:$CE$78,78,FALSE)","v":108},{"$f":"HLOOKUP(B72,October!$I$1:$CE$84,84,FALSE)","v":95},{"$f":"HLOOKUP(B72,November!$I$1:$CE$86,86,FALSE)","v":100},{"$f":"HLOOKUP(B72,December!$I$1:$CE$107,107,FALSE)","v":177},{"$f":"HLOOKUP(B72,January!$I$1:$CE$78,78,FALSE)","v":89},{"$f":"HLOOKUP(B72,February!$I$1:$CE$80,80,FALSE)","v":6},{"$f":"HLOOKUP(B72,March!$I$1:$CE$61,61,FALSE)","v":2},{"$f":"HLOOKUP(B72,April!$I$1:$CE$67,67,FALSE)","v":10},{"$f":"HLOOKUP(B72,May!$I$1:$CE$82,82,FALSE)","v":2},{"$f":"SUM(D72:L72)","v":589}]
[71,"Callum Dunne","The Keita Success",{"$f":"HLOOKUP(B73,September!$I$1:$CE$78,78,FALSE)","v":89},{"$f":"HLOOKUP(B73,October!$I$1:$CE$84,84,FALSE)","v":95},{"$f":"HLOOKUP(B73,November!$I$1:$CE$86,86,FALSE)","v":91},{"$f":"HLOOKUP(B73,December!$I$1:$CE$107,107,FALSE)","v":141},{"$f":"HLOOKUP(B73,January!$I$1:$CE$78,78,FALSE)","v":63},{"$f":"HLOOKUP(B73,February!$I$1:$CE$80,80,FALSE)","v":41},{"$f":"HLOOKUP(B73,March!$I$1:$CE$61,61,FALSE)","v":4},{"$f":"HLOOKUP(B73,April!$I$1:$CE$67,67,FALSE)","v":12},{"$f":"HLOOKUP(B73,May!$I$1:$CE$82,82,FALSE)","v":4},{"$f":"SUM(D73:L73)","v":540}]
[72,"Gary Donnelly","Audrey's + 1",{"$f":"HLOOKUP(B74,September!$I$1:$CE$78,78,FALSE)","v":65},{"$f":"HLOOKUP(B74,October!$I$1:$CE$84,84,FALSE)","v":100},{"$f":"HLOOKUP(B74,November!$I$1:$CE$86,86,FALSE)","v":68},{"$f":"HLOOKUP(B74,December!$I$1:$CE$107,107,FALSE)","v":115},{"$f":"HLOOKUP(B74,January!$I$1:$CE$78,78,FALSE)","v":10},{"$f":"HLOOKUP(B74,February!$I$1:$CE$80,80,FALSE)","v":6},{"$f":"HLOOKUP(B74,March!$I$1:$CE$61,61,FALSE)","v":10},{"$f":"HLOOKUP(B74,April!$I$1:$CE$67,67,FALSE)","v":12},{"$f":"HLOOKUP(B74,May!$I$1:$CE$82,82,FALSE)","v":4},{"$f":"SUM(D74:L74)","v":390}]
[73,"Ben Creasey","#1",{"$f":"HLOOKUP(B75,September!$I$1:$CE$78,78,FALSE)","v":79},{"$f":"HLOOKUP(B75,October!$I$1:$CE$84,84,FALSE)","v":101},{"$f":"HLOOKUP(B75,November!$I$1:$CE$86,86,FALSE)","v":80},{"$f":"HLOOKUP(B75,December!$I$1:$CE$107,107,FALSE)","v":40},{"$f":"HLOOKUP(B75,January!$I$1:$CE$78,78,FALSE)","v":16},{"$f":"HLOOKUP(B75,February!$I$1:$CE$80,80,FALSE)","v":16},{"$f":"HLOOKUP(B75,March!$I$1:$CE$61,61,FALSE)","v":8},{"$f":"HLOOKUP(B75,April!$I$1:$CE$67,67,FALSE)","v":8},{"$f":"HLOOKUP(B75,May!$I$1:$CE$82,82,FALSE)","v":2},{"$f":"SUM(D75:L75)","v":350}]
[74,"Michael Kenaney","Expected Toulouse",{"$f":"HLOOKUP(B76,September!$I$1:$CE$78,78,FALSE)","v":84},{"$f":"HLOOKUP(B76,October!$I$1:$CE$84,84,FALSE)","v":92},{"$f":"HLOOKUP(B76,November!$I$1:$CE$86,86,FALSE)","v":86},{"$f":"HLOOKUP(B76,December!$I$1:$CE$107,107,FALSE)","v":12},{"$f":"HLOOKUP(B76,January!$I$1:$CE$78,78,FALSE)","v":12},{"$f":"HLOOKUP(B76,February!$I$1:$CE$80,80,FALSE)","v":10},{"$f":"HLOOKUP(B76,March!$I$1:$CE$61,61,FALSE)","v":10},{"$f":"HLOOKUP(B76,April!$I$1:$CE$67,67,FALSE)","v":8},{"$f":"HLOOKUP(B76,May!$I$1:$CE$82,82,FALSE)","v":6},{"$f":"SUM(D76:L76)","v":320}]
[75,"Drew Armstrong","Army's All Stars",{"$f":"HLOOKUP(B77,September!$I$1:$CE$78,78,FALSE)","v":51},{"$f":"HLOOKUP(B77,October!$I$1:$CE$84,84,FALSE)","v":102},{"$f":"HLOOKUP(B77,November!$I$1:$CE$86,86,FALSE)","v":8},{"$f":"HLOOKUP(B77,December!$I$1:$CE$107,107,FALSE)","v":14},{"$f":"HLOOKUP(B77,January!$I$1:$CE$78,78,FALSE)","v":16},{"$f":"HLOOKUP(B77,February!$I$1:$CE$80,80,FALSE)","v":16},{"$f":"HLOOKUP(B77,March!$I$1:$CE$61,61,FALSE)","v":10},{"$f":"HLOOKUP(B77,April!$I$1:$CE$67,67,FALSE)","v":8},{"$f":"HLOOKUP(B77,May!$I$1:$CE$82,82,FALSE)","v":6},{"$f":"SUM(D77:L77)","v":231}]

{"sheet":"September","index":1,"n_rows":80,"n_cols":83,"rows_kept":80,"cut":false,"hidden":false,"merged":[[1,2,1,5]]}
[null,null,null,null,null,null,null,null,"Aidan Scanlon","Aidan White","Alan White","Anastas Popov","Andy Dunne","Ben Creasey","Bobby Hynes","Brendan Maguire","Brian Prendergast","Brian Haughton","Brian Mullen","Callum Dunne","Calvin McGettigan","Caroline Carroll","Cathal Thornton","Christina Morgan","Ciaran Nelson","Ciaran O'Hart","Con McSweeney","Craig Calvert","Darragh Kenny","David Cooney","David Lavelle","David McGinley","Davy Doyle","Dean White","Derek Brady","Drew Armstrong","Eamon Fox","Eoghan Farrelly","Fiachra O'Brolachain","Frank McSweeney","Gareth Pierpoint","Gary Donnelly","Gary Fitzpatrick","Gary McGurk","Gavin Goodwin","Gavin Morgan","George McGettigan","Gerard McCluskey","Gerry Draper","Gerry Moore","Graham Goodwin","Javier Suarez","Joe Behan","Joe Turner","John Brophy","John O'Driscoll","Jonathan Fox","Joseph Kavanagh","Kev Dalton","Kevin Philpott","Kris Stainton","Liam Geraghty","Liam Keohan","Lionel Knott","Michael Kenaney","Micheal Joyce","Niall Cannon","Niall Carroll","Niall Murray","Patrick Mifsud","Paul Moore","Paul Prendergast","Phil Doyle","Philip Jordan","Ralph Goodwin","Richard Johnston","Robert Hynes","Robert Manley","Roisin Joyce","Sean O'Mairtin","Trevor Byrne","Victoria Reid","Wayne Donovan"]
["Day","Date","Teams",null,null,null,"Time"]
["Sat","2020-09-12","Fulham ",0,3," Arsenal","12:30:00",null,5,5,5,5,5,5,5,5,5,10,5,5,5,5,5,0,5,5,5,5,5,5,5,5,5,5,5,5,5,0,5,5,5,5,5,10,5,5,10,"-",5,5,5,5,5,5,0,5,5,5,5,5,5,0,10,5,5,5,5,10,5,5,10,5,5,5,5,5,5,5,5,5,5,5,0]
["Sat","2020-09-12","Crystal Palace ",1,0," Southampton","15:00:00",null,5,0,0,0,0,0,0,0,5,0,0,0,0,0,0,10,0,0,0,0,0,0,0,0,0,0,0,0,0,5,0,0,0,0,0,10,0,10,0,"-",0,0,0,0,0,5,0,0,0,0,0,0,5,5,0,0,10,0,0,0,0,0,0,0,5,0,5,0,0,0,0,0,0,0,0]
["Sat","2020-09-12","Liverpool ",4,3," Leeds United","17:30:00",null,5,5,5,5,5,5,5,5,5,5,5,5,0,5,5,5,5,5,5,5,5,5,5,5,5,5,5,5,5,5,5,5,5,5,5,5,5,5,5,5,5,5,5,5,5,5,5,5,5,5,5,5,0,5,5,5,5,5,5,5,5,5,5,5,5,5,5,5,5,5,5,5,5,5,5]
["Sat","2020-09-12","West Ham ",0,2," Newcastle","20:00:00",null,5,0,0,0,0,0,0,0,0,0,0,0,5,10,0,5,5,0,0,0,0,0,0,0,0,5,5,0,0,0,0,0,0,0,0,0,0,0,10,0,0,5,10,0,0,0,0,0,0,0,0,0,5,0,5,5,0,0,5,10,0,0,0,0,0,5,0,0,0,0,0,0,5,0,0]
["Sun","2020-09-13","West Brom ",0,3," Leicester","14:00:00",null,5,0,5,5,5,5,5,5,10,5,5,0,5,0,0,0,5,5,5,5,0,5,5,0,5,5,5,5,5,5,0,5,5,5,5,0,5,5,10,0,5,5,5,5,0,0,0,5,5,5,5,5,5,5,5,5,5,0,0,5,5,5,5,0,5,5,5,5,5,0,0,0,0,10,5]
["Sun","2020-09-13","Tottenham ",0,1," Everton","16:30:00",null,0,0,0,0,0,0,0,0,0,0,0,0,0,0,0,0,0,0,0,0,0,0,0,0,0,0,0,0,0,0,0,0,0,0,0,0,0,0,0,0,0,0,0,0,0,0,0,0,0,0,0,0,5,5,0,0,0,0,0,0,0,0,0,0,0,0,0,0,0,0,0,0,0,0,0]
["Mon","2020-09-14","Sheffield United",0,2,"Wolves","18:00:00",null,0,0,0,0,0,5,5,0,0,0,0,0,0,0,5,5,0,0,5,0,0,0,5,0,0,0,10,5,5,0,5,0,0,0,5,0,0,0,5,0,0,0,0,5,0,0,0,0,5,5,5,5,0,5,10,0,0,5,0,0,5,0,0,0,0,0,5,5,0,0,0,0,0,5,0]
["Mon","2020-09-14","Brighton",1,3,"Chelsea","20:00:00",null,10,5,5,5,5,10,5,5,5,5,5,5,10,5,5,5,5,5,5,5,5,5,5,5,5,5,5,5,5,5,5,5,5,5,5,5,5,5,5,5,5,5,5,10,5,5,5,5,5,5,5,5,5,5,5,10,10,10,10,5,10,10,5,5,5,5,5,5,10,5,5,10,10,5,5]
["Sat","2020-09-19","Everton ",5,2," West Brom","12:30:00",null,5,5,5,5,5,5,5,5,5,5,5,5,5,5,5,5,5,5,5,5,5,5,5,5,5,5,5,0,5,5,5,5,5,5,5,5,5,5,5,5,5,5,5,5,5,5,5,5,5,5,5,5,5,5,5,5,5,5,5,5,5,5,5,5,5,5,5,5,5,5,0,5,5,5,5]
["Sat","2020-09-19","Leeds ",4,3," Fulham","15:00:00",null,5,5,5,5,5,5,5,5,5,5,5,5,5,5,5,5,5,0,5,5,5,5,5,5,0,5,5,0,5,5,5,5,5,0,5,5,5,5,5,0,5,0,5,5,5,5,5,0,5,5,5,5,5,5,5,5,0,5,5,0,5,5,5,5,5,5,5,5,5,5,0,5,5,5,5]
["Sat","2020-09-19","Man United ",1,3," Crystal Palace","17:30:00",null,0,0,0,0,0,0,0,0,0,0,0,0,0,0,0,0,0,0,0,0,0,0,0,0,0,0,0,0,0,0,0,0,0,0,0,0,0,0,0,0,0,0,0,0,0,0,0,0,0,0,0,0,0,0,0,0,0,0,0,0,0,0,0,0,0,0,0,0,0,0,0,0,0,0,0]
["Sat","2020-09-19","Arsenal",2,1,"West Ham","20:00:00",null,5,0,5,5,5,5,5,5,5,5,5,5,5,5,5,5,5,5,10,10,5,5,5,5,5,5,5,0,5,10,5,5,5,5,5,5,5,5,5,5,5,5,5,5,5,5,5,5,5,5,5,5,10,10,5,5,5,5,5,5,5,5,5,5,10,5,5,10,5,5,5,10,5,10,10]
["Sun","2020-09-20","Southampton ",2,5," Tottenham","12:00:00",null,5,5,5,0,0,5,0,0,5,0,5,5,5,0,0,0,5,0,5,0,0,0,5,0,0,5,0,0,5,5,5,0,5,5,0,0,0,0,0,5,0,5,5,0,5,0,0,0,5,5,5,5,5,5,5,0,5,5,0,5,0,5,0,0,5,5,5,5,5,0,0,0,5,5,0]
["Sun","2020-09-20","Newcastle ",0,3," Brighton","14:00:00",null,0,0,0,0,0,0,0,0,0,0,0,0,0,0,0,0,0,0,0,0,0,0,0,0,0,0,0,0,0,5,0,0,0,0,0,0,0,0,0,0,0,0,0,0,0,0,0,0,0,0,5,0,0,5,0,0,0,0,0,0,0,0,0,0,0,0,0,0,0,0,0,0,0,0,0]
["Sun","2020-09-20","Chelsea ",0,2," Liverpool","16:30:00",null,0,0,0,0,5,0,5,0,0,5,0,5,0,5,0,5,0,0,0,0,0,0,5,0,5,0,5,0,0,0,5,5,5,0,5,10,0,0,0,5,0,0,0,0,0,5,0,0,5,5,0,0,0,0,5,5,0,0,0,0,0,5,5,5,0,0,5,5,0,5,0,5,5,5,0]
["Sun","2020-09-20","Leicester ",4,2," Burnley","19:00:00",null,5,5,5,5,5,5,5,5,5,5,5,5,0,5,5,5,5,5,5,5,5,5,5,5,5,5,5,0,5,5,5,5,5,5,5,5,5,5,5,5,5,5,5,5,5,5,5,5,5,5,5,5,5,5,5,5,5,5,5,5,0,5,0,5,5,5,5,5,5,5,5,5,5,5,5]
["Mon","2020-09-21","Aston Villa ",1,0," Sheffield United","18:00:00",null,0,5,10,10,0,0,0,5,0,0,0,0,0,5,0,10,0,0,0,0,10,10,0,0,0,0,0,0,0,0,0,5,0,0,0,10,5,5,0,0,0,10,0,10,0,10,0,0,10,0,0,5,0,0,0,5,0,5,0,10,0,10,10,10,10,0,0,0,0,0,0,5,0,0,0]
["Mon","2020-09-21","Wolves ",1,3," Man City","20:00:00",null,5,5,5,5,0,10,5,10,10,5,5,5,10,0,5,0,5,5,5,5,0,0,0,5,5,10,10,0,5,10,0,10,5,0,0,5,0,5,5,5,5,0,0,0,10,0,0,0,5,10,10,5,5,0,5,10,10,10,10,5,5,5,5,0,5,5,5,5,0,0,5,0,10,5,5]
["Sat","2020-09-26","Brighton",2,3,"Man United","12:30:00",null,5,5,5,5,5,0,5,5,5,5,0,0,5,5,0,5,5,5,5,5,0,0,5,5,5,5,5,5,5,0,0,5,5,5,0,5,5,0,0,5,5,0,5,5,0,5,0,5,5,5,5,5,5,5,5,0,5,0,5,5,5,5,0,0,5,5,5,0,5,5,5,5,0,5,5]
["Sat","2020-09-26","Crystal Palace ",1,2," Everton","15:00:00",null,5,0,10,5,5,0,0,0,0,10,0,5,10,10,10,5,5,0,10,0,0,0,0,0,10,10,5,0,10,0,0,0,0,0,0,10,10,5,0,0,0,0,0,5,0,5,0,0,5,0,0,10,5,5,5,0,0,5,0,0,0,0,5,0,10,5,0,10,10,0,0,0,0,0,0]
["Sat","2020-09-26","West Brom ",3,3," Chelsea","17:30:00",null,0,0,0,0,0,0,0,0,0,0,0,0,0,0,0,0,0,0,0,0,0,0,0,0,0,0,0,0,0,0,0,0,0,0,0,0,0,0,0,0,0,0,0,0,0,0,0,0,0,0,0,0,0,0,0,0,0,0,0,0,0,0,0,0,0,0,0,0,0,0,0,0,0,0,0]
["Sat","2020-09-26","Burnley ",0,1," Southampton","20:00:00",null,0,0,0,0,0,0,0,0,0,0,0,5,0,0,0,0,0,0,0,0,0,0,10,0,0,0,10,0,0,0,5,0,5,0,5,0,0,0,0,0,5,0,0,0,0,0,0,0,10,0,0,0,0,0,5,0,0,0,10,0,0,0,0,0,0,0,0,5,0,0,0,5,0,0,0]
["Sun","2020-09-27","Sheffield United ",0,1," Leeds","12:00:00",null,5,5,0,5,0,0,0,0,0,0,0,0,5,0,5,0,5,0,5,5,5,0,5,0,5,0,5,5,5,5,5,0,5,0,0,0,5,0,5,0,5,5,5,5,5,0,5,5,10,0,5,0,5,5,0,5,5,5,0,0,5,5,0,0,5,5,5,5,0,0,0,0,0,5,0]
["Sun","2020-09-27","Tottenham ",1,1," Newcastle","14:00:00",null,0,0,0,0,0,0,0,0,0,0,0,0,0,0,0,0,5,0,0,0,0,0,0,0,0,0,0,0,0,0,0,0,0,0,0,0,0,0,0,0,0,10,0,0,0,0,0,0,0,0,0,0,0,0,0,0,0,0,10,0,0,0,0,0,0,0,0,0,0,0,0,0,0,0,0]
["Sun","2020-09-27","Man City ",2,5," Leicester","16:30:00",null,0,0,0,0,0,0,0,0,0,0,0,0,0,0,0,0,0,0,0,0,0,0,0,0,0,0,0,0,0,0,0,0,0,0,0,0,0,0,0,0,0,0,0,0,0,0,0,0,0,0,0,0,0,5,0,0,0,0,0,0,0,0,0,0,0,0,0,0,0,0,0,0,0,0,0]
["Sun","2020-09-27","West Ham ",4,0," Wolves","19:00:00",null,0,0,0,0,0,5,0,0,0,0,5,0,0,0,0,0,0,5,0,0,0,0,0,0,0,0,0,0,0,0,0,0,0,0,0,0,5,0,0,0,0,0,0,0,0,0,0,0,0,0,5,0,0,0,0,0,0,0,0,0,0,0,0,5,0,0,0,0,0,0,0,0,5,0,0]
["Mon","2020-09-28","Fulham ",0,3," Aston Villa","17:45:00",null,5,0,0,5,0,0,0,0,0,5,0,5,5,5,5,0,0,0,5,0,5,5,5,0,5,5,0,0,5,0,5,5,5,5,0,0,0,0,0,0,0,0,5,5,5,0,0,5,0,5,5,5,0,0,5,5,0,0,0,0,0,0,0,0,0,0,0,0,0,5,0,5,0,0,0]
["Mon","2020-09-28","Liverpool ",3,1," Arsenal","20:00:00",null,0,5,0,10,5,5,10,0,5,5,5,10,5,5,0,5,5,0,5,10,0,5,10,5,0,5,10,10,5,0,10,10,5,5,10,5,5,5,10,10,5,0,5,5,5,10,5,5,5,5,5,5,5,5,5,5,5,0,5,5,0,10,10,5,0,5,5,5,5,5,5,10,5,5,10]
[]
["Golden Boots"]
["Anthony Martial - Man United",null,null,{"$f":"COUNT(I33:CE33)","v":8},{"$f":"0+0","v":0},null,null,null,null,null,null,null,null,null,null,null,null,null,null,null,{"$f":"$E33*2","v":0},null,null,null,null,null,null,{"$f":"$E33*2","v":0},null,null,null,{"$f":"$E33*2","v":0},null,null,null,null,null,null,{"$f":"$E33*2","v":0},null,null,null,null,null,null,null,null,null,null,null,null,null,null,null,null,{"$f":"$E33*2","v":0},null,null,null,null,{"$f":"$E33*2","v":0},null,null,null,null,{"$f":"$E33*2","v":0},null,null,null,null,null,null,{"$f":"$E33*2","v":0}]
["Chris Wood - Burnley",null,null,0,{"$f":"1+0","v":1}]
["Danny Ings - Southampton",null,null,6,{"$f":"0+2+1","v":3},null,null,null,null,null,null,null,null,null,null,null,null,null,null,{"$f":"$E35*2","v":6},null,null,null,null,null,null,null,null,null,null,null,null,null,null,null,null,null,null,null,null,null,{"$f":"$E35*2","v":6},null,null,null,null,null,null,null,null,null,null,null,null,null,null,null,null,null,null,null,null,null,null,null,null,{"$f":"$E35*2","v":6},null,null,{"$f":"$E35*2","v":6},null,null,null,{"$f":"$E35*2","v":6},null,null,null,null,null,null,null,{"$f":"$E35*2","v":6}]
["Harry Kane - Tottenham Hotspur",null,null,44,{"$f":"0+1+0","v":1},null,null,null,{"$f":"$E36*2","v":2},2,2,2,2,2,2,null,{"$f":"$E36*2","v":2},{"$f":"$E36*2","v":2},null,null,null,null,{"$f":"$E36*2","v":2},{"$f":"$E36*2","v":2},{"$f":"$E36*2","v":2},{"$f":"$E36*2","v":2},null,null,{"$f":"$E36*2","v":2},2,2,2,2,2,2,{"$f":"$E36*2","v":2},{"$f":"$E36*2","v":2},{"$f":"$E36*2","v":2},{"$f":"$E36*2","v":2},{"$f":"$E36*2","v":2},null,{"$f":"$E36*2","v":2},{"$f":"$E36*2","v":2},{"$f":"$E36*2","v":2},{"$f":"$E36*2","v":2},{"$f":"$E36*2","v":2},null,null,{"$f":"$E36*2","v":2},null,{"$f":"$E36*2","v":2},{"$f":"$E36*2","v":2},{"$f":"$E36*2","v":2},{"$f":"$E36*2","v":2},null,{"$f":"$E36*2","v":2},null,{"$f":"$E36*2","v":2},null,{"$f":"$E36*2","v":2},{"$f":"$E36*2","v":2},null,null,null,{"$f":"$E36*2","v":2},null,null,null,null,null,{"$f":"$E36*2","v":2},{"$f":"$E36*2","v":2},null,null,null,{"$f":"$E36*2","v":2},null,null,null,null,null,{"$f":"$E36*2","v":2}]
["Jamie Vardy - Leicester City",null,null,19,{"$f":"2+0+3","v":5},null,null,null,null,null,{"$f":"$E37*2","v":10},null,null,null,null,null,null,null,{"$f":"$E37*2","v":10},null,null,null,null,null,null,{"$f":"$E37*2","v":10},null,null,null,{"$f":"$E37*2","v":10},null,null,null,null,null,null,null,null,null,null,null,null,null,null,{"$f":"$E37*2","v":10},null,{"$f":"$E37*2","v":10},{"$f":"$E37*2","v":10},{"$f":"$E37*2","v":10},{"$f":"$E37*2","v":10},{"$f":"$E37*2","v":10},null,{"$f":"$E37*2","v":10},null,null,null,null,null,null,null,null,{"$f":"$E37*2","v":10},null,null,null,{"$f":"$E37*2","v":10},null,null,{"$f":"$E37*2","v":10},{"$f":"$E37*2","v":10},null,null,null,null,{"$f":"$E37*2","v":10},{"$f":"$E37*2","v":10},null,null,{"$f":"$E37*2","v":10},{"$f":"$E37*2","v":10}]
["Marcus Rashford - Man United",null,null,6,{"$f":"0+1","v":1},null,null,null,null,null,null,null,null,null,null,{"$f":"$E38*2","v":2},null,null,null,null,null,null,null,null,null,null,null,null,null,null,null,null,null,null,null,null,null,null,null,null,null,null,null,null,null,null,null,null,null,null,null,null,{"$f":"$E38*2","v":2},null,null,null,null,null,{"$f":"$E38*2","v":2},null,{"$f":"$E38*2","v":2},null,null,null,null,null,null,null,null,null,null,null,null,null,null,null,null,null,{"$f":"$E38*2","v":2},null,{"$f":"$E38*2","v":2}]
["Mohamed Salah - Liverpool",null,null,36,{"$f":"3+0+0","v":3},null,null,null,null,null,{"$f":"$E39*2","v":6},{"$f":"$E39*2","v":6},null,null,{"$f":"$E39*2","v":6},null,{"$f":"$E39*2","v":6},6,6,6,6,6,null,{"$f":"$E39*2","v":6},{"$f":"$E39*2","v":6},null,null,{"$f":"$E39*2","v":6},null,null,{"$f":"$E39*2","v":6},{"$f":"$E39*2","v":6},null,null,null,null,null,null,{"$f":"$E39*2","v":6},null,{"$f":"$E39*2","v":6},null,{"$f":"$E39*2","v":6},null,null,null,null,{"$f":"$E39*2","v":6},null,{"$f":"$E39*2","v":6},null,null,null,{"$f":"$E39*2","v":6},{"$f":"$E39*2","v":6},{"$f":"$E39*2","v":6},{"$f":"$E39*2","v":6},{"$f":"$E39*2","v":6},null,null,null,{"$f":"$E39*2","v":6},null,{"$f":"$E39*2","v":6},null,null,{"$f":"$E39*2","v":6},null,null,null,{"$f":"$E39*2","v":6},6,6,6,6,{"$f":"$E39*2","v":6},null,{"$f":"$E39*2","v":6},6,null,null,null,{"$f":"$E39*2","v":6}]
["Pierre Emerick Aubameyang - Arsenal",null,null,45,{"$f":"1+0","v":1},null,null,null,null,null,null,{"$f":"$E40*2","v":2},null,{"$f":"$E40*2","v":2},{"$f":"$E40*2","v":2},{"$f":"$E40*2","v":2},{"$f":"$E40*2","v":2},{"$f":"$E40*2","v":2},{"$f":"$E40*2","v":2},null,{"$f":"$E40*2","v":2},{"$f":"$E40*2","v":2},{"$f":"$E40*2","v":2},null,null,null,{"$f":"$E40*2","v":2},{"$f":"$E40*2","v":2},{"$f":"$E40*2","v":2},null,{"$f":"$E40*2","v":2},null,{"$f":"$E40*2","v":2},null,{"$f":"$E40*2","v":2},{"$f":"$E40*2","v":2},{"$f":"$E40*2","v":2},null,null,{"$f":"$E40*2","v":2},{"$f":"$E40*2","v":2},null,{"$f":"$E40*2","v":2},{"$f":"$E40*2","v":2},{"$f":"$E40*2","v":2},null,{"$f":"$E40*2","v":2},{"$f":"$E40*2","v":2},{"$f":"$E40*2","v":2},{"$f":"$E40*2","v":2},{"$f":"$E40*2","v":2},null,null,{"$f":"$E40*2","v":2},{"$f":"$E40*2","v":2},null,{"$f":"$E40*2","v":2},{"$f":"$E40*2","v":2},null,null,null,null,{"$f":"$E40*2","v":2},{"$f":"$E40*2","v":2},null,{"$f":"$E40*2","v":2},null,{"$f":"$E40*2","v":2},null,null,null,{"$f":"$E40*2","v":2},null,{"$f":"$E40*2","v":2},{"$f":"$E40*2","v":2},null,{"$f":"$E40*2","v":2},{"$f":"$E40*2","v":2},null,{"$f":"$E40*2","v":2},{"$f":"$E40*2","v":2},{"$f":"$E40*2","v":2},{"$f":"$E40*2","v":2}]
["Raheem Sterling - Man City",null,null,14,{"$f":"0+0","v":0},null,null,null,null,null,null,null,null,null,null,null,null,null,null,null,null,null,null,{"$f":"$E41*2","v":0},null,null,{"$f":"$E41*2","v":0},null,{"$f":"$E41*2","v":0},null,null,null,null,{"$f":"$E41*2","v":0},null,{"$f":"$E41*2","v":0},null,null,null,null,null,null,null,null,null,null,null,null,null,null,null,null,null,null,null,null,null,null,{"$f":"$E41*2","v":0},{"$f":"$E41*2","v":0},null,{"$f":"$E41*2","v":0},{"$f":"$E41*2","v":0},null,{"$f":"$E41*2","v":0},null,null,{"$f":"$E41*2","v":0},{"$f":"$E41*2","v":0},null,{"$f":"$E41*2","v":0},null,null,null,null,null,null,null,null,null,null,null,{"$f":"$E41*2","v":0}]
["Raul Jiminez - Wolves",null,null,1,{"$f":"1+1+0","v":2},null,null,null,null,null,null,null,null,null,null,null,null,null,null,null,null,null,null,null,null,null,null,null,null,null,null,null,null,null,null,null,null,null,null,null,null,null,null,null,null,null,{"$f":"$E42*2","v":4}]
["Richarlison - Everton",null,null,1,{"$f":"0+0+1","v":1},null,null,null,{"$f":"$E43*2","v":2}]
["Sadio Mane - Liverpool",null,null,12,{"$f":"0+2+1","v":3},null,null,null,null,{"$f":"$E44*2","v":6},null,null,{"$f":"$E44*2","v":6},null,null,{"$f":"$E44*2","v":6},null,null,null,null,null,{"$f":"$E44*2","v":6},null,null,null,null,null,null,null,null,null,null,null,{"$f":"$E44*2","v":6},{"$f":"$E44*2","v":6},null,null,null,null,null,null,null,null,null,null,{"$f":"$E44*2","v":6},null,null,null,null,null,{"$f":"$E44*2","v":6},null,null,null,null,null,null,{"$f":"$E44*2","v":6},null,null,null,null,{"$f":"$E44*2","v":6},null,null,null,{"$f":"$E44*2","v":6},null,null,null,null,null,null,null,null,null,null,null,null,{"$f":"$E44*2","v":6}]
["Sergio Aguero - Man City",null,null,9,{"$f":"0+0","v":0},null,null,null,null,{"$f":"$E45*2","v":0},null,null,null,null,null,null,null,null,null,{"$f":"$E45*2","v":0},null,null,null,null,null,null,null,null,null,null,null,null,null,null,null,null,null,{"$f":"$E45*2","v":0},null,null,null,{"$f":"$E45*2","v":0},null,null,null,{"$f":"$E45*2","v":0},null,null,null,null,null,null,null,null,null,null,{"$f":"$E45*2","v":0},null,null,null,null,null,null,null,{"$f":"$E45*2","v":0},null,null,null,null,null,null,null,{"$f":"$E45*2","v":0},null,null,null,{"$f":"$E45*2","v":0}]
["Tammy Abraham - Chelsea",null,null,0,{"$f":"0+0+1","v":1}]
["Timo Werner - Chelsea",null,null,24,{"$f":"0+0+0","v":0},null,null,null,{"$f":"$E47*2","v":0},null,null,null,{"$f":"$E47*2","v":0},{"$f":"$E47*2","v":0},null,null,null,null,null,null,null,null,{"$f":"$E47*2","v":0},null,{"$f":"$E47*2","v":0},{"$f":"$E47*2","v":0},{"$f":"$E47*2","v":0},null,null,{"$f":"$E47*2","v":0},null,null,{"$f":"$E47*2","v":0},null,null,null,{"$f":"$E47*2","v":0},{"$f":"$E47*2","v":0},null,{"$f":"$E47*2","v":0},{"$f":"$E47*2","v":0},null,null,{"$f":"$E47*2","v":0},null,null,null,null,null,null,null,{"$f":"$E47*2","v":0},null,null,{"$f":"$E47*2","v":0},null,null,null,null,{"$f":"$E47*2","v":0},null,null,{"$f":"$E47*2","v":0},null,null,null,{"$f":"$E47*2","v":0},null,{"$f":"$E47*2","v":0},{"$f":"$E47*2","v":0},null,null,null,null,null,null,{"$f":"$E47*2","v":0},{"$f":"$E47*2","v":0},null,{"$f":"$E47*2","v":0}]
[]
["Golden Gloves"]
["Alisson Becker - Liverpool",null,null,{"$f":"COUNT(I50:CE50)","v":57},{"$f":"0+1+0","v":1},null,null,null,null,{"$f":"$E50*2","v":2},{"$f":"$E50*2","v":2},{"$f":"$E50*2","v":2},{"$f":"$E50*2","v":2},null,{"$f":"$E50*2","v":2},{"$f":"$E50*2","v":2},null,{"$f":"$E50*2","v":2},{"$f":"$E50*2","v":2},{"$f":"$E50*2","v":2},null,{"$f":"$E50*2","v":2},{"$f":"$E50*2","v":2},{"$f":"$E50*2","v":2},{"$f":"$E50*2","v":2},{"$f":"$E50*2","v":2},null,{"$f":"$E50*2","v":2},null,{"$f":"$E50*2","v":2},null,null,{"$f":"$E50*2","v":2},2,2,2,2,2,null,{"$f":"$E50*2","v":2},{"$f":"$E50*2","v":2},{"$f":"$E50*2","v":2},{"$f":"$E50*2","v":2},{"$f":"$E50*2","v":2},null,{"$f":"$E50*2","v":2},null,{"$f":"$E50*2","v":2},null,{"$f":"$E50*2","v":2},{"$f":"$E50*2","v":2},{"$f":"$E50*2","v":2},{"$f":"$E50*2","v":2},{"$f":"$E50*2","v":2},null,{"$f":"$E50*2","v":2},{"$f":"$E50*2","v":2},{"$f":"$E50*2","v":2},{"$f":"$E50*2","v":2},null,{"$f":"$E50*2","v":2},{"$f":"$E50*2","v":2},2,{"$f":"$E50*2","v":2},2,2,{"$f":"$E50*2","v":2},2,null,{"$f":"$E50*2","v":2},2,2,null,null,{"$f":"$E50*2","v":2},2,2,{"$f":"$E50*2","v":2},2,2,2,null,{"$f":"$E50*2","v":2}]
["Ederson - Man City",null,null,{"$f":"COUNT(I51:CE51)","v":14},{"$f":"0+0","v":0},null,null,null,{"$f":"$E51*2","v":0},null,null,null,null,null,null,null,{"$f":"$E51*2","v":0},null,null,null,{"$f":"$E51*2","v":0},null,null,null,null,null,{"$f":"$E51*2","v":0},null,{"$f":"$E51*2","v":0},null,{"$f":"$E51*2","v":0},{"$f":"$E51*2","v":0},null,null,null,null,null,null,{"$f":"$E51*2","v":0},null,null,null,null,null,null,null,{"$f":"$E51*2","v":0},null,{"$f":"$E51*2","v":0},null,null,null,null,null,{"$f":"$E51*2","v":0},null,null,null,null,{"$f":"$E51*2","v":0},null,null,null,null,null,null,null,null,null,null,null,null,null,{"$f":"$E51*2","v":0},null,null,null,null,null,null,null,{"$f":"$E51*2","v":0}]
["David de Gea - Man United",null,null,{"$f":"COUNT(I52:CE52)","v":3},{"$f":"0+0","v":0},null,null,null,null,null,null,null,null,{"$f":"$E52*2","v":0},null,null,null,null,null,null,null,null,null,null,null,null,null,null,null,null,null,null,null,null,null,null,null,null,null,null,null,null,null,null,{"$f":"$E52*2","v":0},null,null,null,null,null,null,null,null,null,null,null,null,null,null,null,null,null,null,null,null,null,null,null,null,null,null,null,{"$f":"$E52*2","v":0}]
["Hugo Lloris - Tottenham Hotspur",null,null,{"$f":"COUNT(I53:CE53)","v":1},{"$f":"0+0+0","v":0},null,null,null,null,null,null,null,null,null,null,null,null,null,null,null,null,null,null,null,null,null,null,null,null,null,null,null,null,null,null,null,null,null,null,null,null,null,null,null,null,null,null,null,null,null,null,null,null,null,null,null,null,null,null,null,null,null,null,null,null,null,null,null,{"$f":"$E53*2","v":0}]
["Nick Pope - Burnley",null,null,{"$f":"COUNT(I54:CE54)","v":0},{"$f":"0+0","v":0}]
[]
["Sack Race"]
["Brendan Rodgers - Leicester City",null,null,{"$f":"COUNT(I57:CE57)","v":1},null,null,null,null,null,null,null,null,null,null,null,null,null,null,null,null,null,null,null,null,null,null,null,null,null,null,null,null,null,null,null,null,null,null,null,null,null,null,null,null,null,null,null,null,null,null,null,null,null,null,null,null,null,null,null,null,null,null,null,null,null,null,null,{"$f":"$E57*15","v":0}]
["Carlo Ancelotti - Everton",null,null,0]
["Chris Wilder - Sheffield United",null,null,0]
["David Moyes - West Ham United",null,null,14,null,null,null,null,null,null,null,null,{"$f":"$E60*15","v":0},null,null,{"$f":"$E60*15","v":0},null,null,null,null,null,null,null,null,{"$f":"$E60*15","v":0},null,null,{"$f":"$E60*15","v":0},{"$f":"$E60*15","v":0},null,null,null,null,null,{"$f":"$E60*15","v":0},{"$f":"$E60*15","v":0},{"$f":"$E60*15","v":0},null,null,null,null,null,null,{"$f":"$E60*15","v":0},{"$f":"$E60*15","v":0},null,null,null,null,null,null,null,{"$f":"$E60*15","v":0},{"$f":"$E60*15","v":0},null,null,{"$f":"$E60*15","v":0},null,null,null,null,null,null,null,null,null,{"$f":"$E60*15","v":0}]
["Dean Smith - Aston Villa",null,null,16,null,null,null,null,null,null,null,null,null,{"$f":"$E61*15","v":0},{"$f":"$E61*15","v":0},null,null,null,null,null,null,null,{"$f":"$E61*15","v":0},null,null,null,null,null,null,null,null,null,null,null,null,null,null,null,{"$f":"$E61*15","v":0},{"$f":"$E61*15","v":0},null,null,{"$f":"$E61*15","v":0},null,null,{"$f":"$E61*15","v":0},{"$f":"$E61*15","v":0},null,null,{"$f":"$E61*15","v":0},null,{"$f":"$E61*15","v":0},null,null,null,null,null,null,{"$f":"$E61*15","v":0},null,null,null,{"$f":"$E61*15","v":0},null,{"$f":"$E61*15","v":0},{"$f":"$E61*15","v":0},null,null,{"$f":"$E61*15","v":0},null,null,{"$f":"$E61*15","v":0}]
["Frank Lampard - Chelsea",null,null,0]
["Graham Potter - Brighton",null,null,6,null,null,null,null,{"$f":"$E63*15","v":0},null,null,null,null,null,null,null,null,null,null,{"$f":"$E63*15","v":0},null,{"$f":"$E63*15","v":0},null,null,null,null,{"$f":"$E63*15","v":0},null,null,null,null,{"$f":"$E63*15","v":0},null,null,null,null,null,null,null,null,null,null,null,null,null,null,null,null,null,null,null,null,null,null,null,null,null,null,null,null,null,null,null,null,null,null,null,null,null,null,null,null,null,null,null,null,null,null,null,null,{"$f":"$E63*15","v":0}]
["Jose Mourinho - Tottenham Hotspur",null,null,4,null,null,null,null,null,null,null,null,null,null,null,null,null,null,null,null,null,null,null,null,null,null,null,null,null,null,{"$f":"$E64*15","v":0},null,null,null,null,null,null,null,null,null,null,null,null,null,null,null,null,null,null,null,null,null,null,null,null,null,null,null,null,null,null,{"$f":"$E64*15","v":0},null,null,null,null,null,null,null,null,null,null,{"$f":"$E64*15","v":0},null,null,null,null,null,null,null,null,null,{"$f":"$E64*15","v":0}]
["Jurgen Klopp - Liverpool",null,null,0]
["Marco Bielsa - Leeds United",null,null,1,null,null,null,null,null,null,null,null,null,null,null,null,null,null,null,null,null,null,null,null,null,null,null,null,null,null,null,null,null,null,null,null,null,null,null,null,null,null,null,null,null,null,null,null,null,null,null,null,null,null,null,null,null,null,null,null,null,null,null,null,null,null,null,null,null,null,null,null,null,null,null,null,null,{"$f":"$E66*15","v":0}]
["Mikel Arteta - Arsenal",null,null,0]
["Nuno Espirito Santo - Wolves",null,null,0]
["Ole Gunnar Solskjaer - Manchester United",null,null,1,null,null,null,null,null,null,null,null,null,null,null,null,null,null,null,null,null,null,null,null,null,null,null,null,null,null,null,null,null,null,null,null,null,{"$f":"$E69*15","v":0}]
["Pep Guardiola - Manchester City",null,null,1,null,null,null,null,null,null,null,null,null,null,null,null,null,null,null,null,null,null,null,null,null,null,null,null,null,null,null,null,null,null,null,null,null,null,null,null,null,null,null,null,null,null,null,{"$f":"$E70*15","v":0}]
["Ralph Hassenhuttl - Southampton",null,null,2,null,null,null,null,null,null,{"$f":"$E71*15","v":0},null,null,null,null,null,null,null,null,null,null,null,null,null,null,null,null,null,null,null,null,null,null,{"$f":"$E71*15","v":0}]
["Roy Hodgson - Crystal Palace",null,null,8,null,null,null,null,null,{"$f":"$E72*15","v":0},null,{"$f":"$E72*15","v":0},null,null,null,null,null,null,null,null,null,null,null,null,null,null,null,null,null,{"$f":"$E72*15","v":0},null,null,null,null,null,null,null,null,null,null,null,{"$f":"$E72*15","v":0},null,null,null,null,null,null,null,null,null,null,null,null,null,null,null,{"$f":"$E72*15","v":0},null,null,null,null,null,null,null,null,null,null,null,null,{"$f":"$E72*15","v":0},null,null,{"$f":"$E72*15","v":0},null,null,{"$f":"$E72*15","v":0}]
["Scott Parker - Fulham",null,null,3,null,null,null,null,null,null,null,null,null,null,null,null,null,{"$f":"$E73*15","v":0},null,null,null,null,null,null,null,{"$f":"$E73*15","v":0},null,null,null,null,null,null,null,null,null,null,null,null,null,null,null,null,null,null,null,null,null,null,null,null,null,null,null,null,{"$f":"$E73*15","v":0}]
["Sean Dyche - Burnley",null,null,1,null,null,null,null,null,null,null,null,null,null,null,null,null,null,{"$f":"$E74*15","v":0}]
["Slaven Bilic - West Brom",null,null,4,null,null,null,null,null,null,null,null,null,null,null,null,null,null,null,null,{"$f":"$E75*15","v":0},null,null,null,null,null,null,null,null,null,null,null,null,null,null,null,null,null,null,null,{"$f":"$E75*15","v":0},null,null,null,null,null,null,null,null,null,null,null,null,null,null,null,null,null,null,null,{"$f":"$E75*15","v":0},null,null,{"$f":"$E75*15","v":0}]
["Steve Bruce - Newcastle United",null,null,13,null,null,null,null,null,null,null,null,null,null,null,null,{"$f":"$E76*15","v":0},null,null,null,null,null,null,{"$f":"$E76*15","v":0},null,null,null,null,null,null,null,null,{"$f":"$E76*15","v":0},null,null,null,null,null,null,null,null,null,null,null,null,null,null,null,{"$f":"$E76*15","v":0},null,{"$f":"$E76*15","v":0},null,null,null,null,{"$f":"$E76*15","v":0},null,null,null,{"$f":"$E76*15","v":0},null,null,null,null,null,null,null,null,null,{"$f":"$E76*15","v":0},null,null,null,null,{"$f":"$E76*15","v":0},{"$f":"$E76*15","v":0},null,null,{"$f":"$E76*15","v":0},{"$f":"$E76*15","v":0},null,{"$f":"$E76*15","v":0}]
[]
["Grand Total - September",null,null,null,null,null,null,null,{"$f":"SUM(I$3:I77)","v":89},{"$f":"SUM(J$3:J77)","v":70},{"$f":"SUM(K$3:K77)","v":95},{"$f":"SUM(L$3:L77)","v":97},{"$f":"SUM(M$3:M77)","v":70},{"$f":"SUM(N$3:N77)","v":79},{"$f":"SUM(O$3:O77)","v":82},{"$f":"SUM(P$3:P77)","v":72},{"$f":"SUM(Q$3:Q77)","v":85},{"$f":"SUM(R$3:R77)","v":92},{"$f":"SUM(S$3:S77)","v":80},{"$f":"SUM(T$3:T77)","v":89},{"$f":"SUM(U$3:U77)","v":93},{"$f":"SUM(V$3:V77)","v":96},{"$f":"SUM(W$3:W77)","v":71},{"$f":"SUM(X$3:X77)","v":90},{"$f":"SUM(Y$3:Y77)","v":90},{"$f":"SUM(Z$3:Z77)","v":64},{"$f":"SUM(AA$3:AA77)","v":92},{"$f":"SUM(AB$3:AB77)","v":80},{"$f":"SUM(AC$3:AC77)","v":59},{"$f":"SUM(AD$3:AD77)","v":74},{"$f":"SUM(AE$3:AE77)","v":100},{"$f":"SUM(AF$3:AF77)","v":58},{"$f":"SUM(AG$3:AG77)","v":76},{"$f":"SUM(AH$3:AH77)","v":95},{"$f":"SUM(AI$3:AI77)","v":117},{"$f":"SUM(AJ$3:AJ77)","v":51},{"$f":"SUM(AK$3:AK77)","v":91},{"$f":"SUM(AL$3:AL77)","v":74},{"$f":"SUM(AM$3:AM77)","v":83},{"$f":"SUM(AN$3:AN77)","v":86},{"$f":"SUM(AO$3:AO77)","v":90},{"$f":"SUM(AP$3:AP77)","v":65},{"$f":"SUM(AQ$3:AQ77)","v":77},{"$f":"SUM(AR$3:AR77)","v":101},{"$f":"SUM(AS$3:AS77)","v":89},{"$f":"SUM(AT$3:AT77)","v":80},{"$f":"SUM(AU$3:AU77)","v":101},{"$f":"SUM(AV$3:AV77)","v":75},{"$f":"SUM(AW$3:AW77)","v":79},{"$f":"SUM(AX$3:AX77)","v":90},{"$f":"SUM(AY$3:AY77)","v":91},{"$f":"SUM(AZ$3:AZ77)","v":95},{"$f":"SUM(BA$3:BA77)","v":81},{"$f":"SUM(BB$3:BB77)","v":87},{"$f":"SUM(BC$3:BC77)","v":48},{"$f":"SUM(BD$3:BD77)","v":65},{"$f":"SUM(BE$3:BE77)","v":115},{"$f":"SUM(BF$3:BF77)","v":92},{"$f":"SUM(BG$3:BG77)","v":100},{"$f":"SUM(BH$3:BH77)","v":87},{"$f":"SUM(BI$3:BI77)","v":91},{"$f":"SUM(BJ$3:BJ77)","v":108},{"$f":"SUM(BK$3:BK77)","v":104},{"$f":"SUM(BL$3:BL77)","v":101},{"$f":"SUM(BM$3:BM77)","v":84},{"$f":"SUM(BN$3:BN77)","v":89},{"$f":"SUM(BO$3:BO77)","v":99},{"$f":"SUM(BP$3:BP77)","v":90},{"$f":"SUM(BQ$3:BQ77)","v":70},{"$f":"SUM(BR$3:BR77)","v":108},{"$f":"SUM(BS$3:BS77)","v":85},{"$f":"SUM(BT$3:BT77)","v":72},{"$f":"SUM(BU$3:BU77)","v":96},{"$f":"SUM(BV$3:BV77)","v":89},{"$f":"SUM(BW$3:BW77)","v":100},{"$f":"SUM(BX$3:BX77)","v":110},{"$f":"SUM(BY$3:BY77)","v":74},{"$f":"SUM(BZ$3:BZ77)","v":65},{"$f":"SUM(CA$3:CA77)","v":60},{"$f":"SUM(CB$3:CB77)","v":94},{"$f":"SUM(CC$3:CC77)","v":87},{"$f":"SUM(CD$3:CD77)","v":95},{"$f":"SUM(CE$3:CE77)","v":70}]
[]
["Ten Pointers",null,null,null,null,null,null,null,{"$f":"COUNTIF(I$3:I30,\"10\")","v":1},{"$f":"COUNTIF(J3:J30,\"10\")","v":0},2,2,0,2,1,1,2,2,0,1,3,2,1,2,0,0,2,2,1,1,2,0,1,2,4,1,{"$f":"COUNTIF(AK3:AK30,\"10\")","v":1},{"$f":"COUNTIF(AL3:AL30,\"10\")","v":2},1,2,0,0,1,5,1,1,4,1,0,2,1,2,1,2,0,0,3,1,1,1,1,1,2,2,3,2,4,3,1,3,3,1,3,0,0,2,2,0,0,3,2,2,2]

{"sheet":"October","index":2,"n_rows":86,"n_cols":83,"rows_kept":86,"cut":false,"hidden":false,"merged":[[1,2,1,5]]}
[null,null,null,null,null,null,null,null,"Aidan Scanlon","Aidan White","Alan White","Anastas Popov","Andy Dunne","Ben Creasey","Bobby Hynes","Brendan Maguire","Brian Prendergast","Brian Haughton","Brian Mullen","Callum Dunne","Calvin McGettigan","Caroline Carroll","Cathal Thornton","Christina Morgan","Ciaran Nelson","Ciaran O'Hart","Con McSweeney","Craig Calvert","Darragh Kenny","David Cooney","David Lavelle","David McGinley","Davy Doyle","Dean White","Derek Brady","Drew Armstrong","Eamon Fox","Eoghan Farrelly","Fiachra O'Brolachain","Frank McSweeney","Gareth Pierpoint","Gary Donnelly","Gary Fitzpatrick","Gary McGurk","Gavin Goodwin","Gavin Morgan","George McGettigan","Gerard McCluskey","Gerry Draper","Gerry Moore","Graham Goodwin","Javier Suarez","Joe Behan","Joe Turner","John Brophy","John O'Driscoll","Jonathan Fox","Joseph Kavanagh","Kev Dalton","Kevin Philpott","Kris Stainton","Liam Geraghty","Liam Keohan","Lionel Knott","Michael Kenaney","Micheal Joyce","Niall Cannon","Niall Carroll","Niall Murray","Patrick Mifsud","Paul Moore","Paul Prendergast","Phil Doyle","Philip Jordan","Ralph Goodwin","Richard Johnston","Robert Hynes","Robert Manley","Roisin Joyce","Sean O'Mairtin","Trevor Byrne","Victoria Reid","Wayne Donovan"]
["Day","Date","Teams",null,null,null,"Time"]
["Sat","2020-10-03","Chelsea ",4,0," Crystal Palace","12:30:00",null,5,5,5,5,5,5,5,5,5,5,5,0,5,0,5,5,5,5,5,5,5,5,0,5,0,5,5,5,5,5,5,5,5,5,5,5,5,5,0,5,5,0,5,5,5,5,5,5,5,5,5,5,5,5,5,5,5,5,5,5,5,5,5,5,5,5,5,5,5,5,5,5,5,5,5]
["Sat","2020-10-03","Everton ",4,2," Brighton","15:00:00",null,5,5,5,5,5,5,5,5,5,5,5,5,5,5,5,5,5,5,5,5,5,5,5,5,5,5,5,5,5,0,5,5,5,5,5,5,0,5,5,0,5,5,5,5,5,5,5,5,5,5,5,5,5,5,5,0,5,5,5,5,0,5,0,5,5,5,5,5,5,5,5,5,5,5,5]
["Sat","2020-10-03","Leeds ",1,1," Man City","17:30:00",null,0,0,0,0,0,0,0,0,0,0,0,0,0,0,0,0,0,0,0,0,0,0,0,0,0,0,0,0,0,0,0,5,0,0,0,0,0,0,0,0,0,5,0,0,5,0,0,0,0,0,0,0,0,5,0,0,5,0,5,0,0,0,0,0,0,0,0,0,0,0,0,0,0,0,0]
["Sat","2020-10-03","Newcastle ",3,1," Burnley","20:00:00",null,5,5,5,5,5,0,5,0,5,5,0,0,0,0,0,10,0,5,0,5,5,5,0,5,0,0,5,0,5,5,5,5,5,0,0,5,0,0,5,5,5,5,0,5,0,5,5,5,5,0,5,5,5,5,5,0,0,0,5,0,0,5,0,5,5,0,5,5,5,0,5,5,5,5,5]
["Sun","2020-10-04","Leicester City",0,3,"West Ham","12:00:00",null,0,0,0,0,0,0,0,0,0,0,0,0,0,0,0,0,0,0,0,0,0,0,0,0,0,0,0,0,0,0,0,0,0,0,0,0,0,0,0,0,0,0,0,0,0,0,0,0,0,0,0,0,0,0,0,0,0,0,0,0,0,0,0,0,0,0,0,0,0,0,0,0,0,0,0]
["Sun","2020-10-04","Southampton ",2,0," West Brom","12:00:00",null,5,0,0,5,10,0,10,10,10,5,5,5,5,5,5,0,5,0,5,10,5,10,0,5,5,0,5,10,10,5,5,10,5,5,10,5,10,5,0,5,5,5,5,0,0,10,0,5,5,5,5,0,5,5,10,0,5,0,5,5,5,0,5,0,0,5,5,0,0,10,5,5,5,5,5]
["Sun","2020-10-04","Arsenal",2,1,"Sheffield United","14:00:00",null,5,10,5,5,0,5,5,5,10,5,5,10,5,5,5,10,10,5,5,5,5,5,5,5,5,5,5,5,5,0,5,10,5,10,5,5,5,5,5,5,5,5,5,10,5,5,5,10,5,5,5,5,5,5,5,5,5,10,5,5,5,5,0,5,5,5,5,5,5,5,5,5,5,5,10]
["Sun","2020-10-04","Wolves ",1,0," Fulham","14:00:00",null,5,10,5,5,5,5,5,5,5,5,5,5,5,5,5,5,5,10,5,5,5,5,5,5,10,5,5,5,5,5,5,5,5,5,5,5,5,5,5,5,5,5,5,5,10,5,5,5,5,5,5,5,5,5,5,5,5,5,0,5,5,5,5,5,5,5,5,5,5,5,5,5,5,5,5]
["Sun","2020-10-04","Manchester United ",1,6," Tottenham","16:30:00",null,5,0,0,0,0,0,0,0,0,0,0,5,0,0,0,0,0,0,0,0,0,0,5,0,5,0,5,0,0,5,5,0,5,5,5,0,0,0,0,0,0,0,0,0,0,0,0,0,0,0,0,0,0,0,5,0,0,5,0,5,0,0,0,0,0,0,5,0,5,0,0,5,0,0,5]
["Sun","2020-10-04","Aston Villa",7,2," Liverpool","19:15:00",null,0,0,0,0,0,0,0,0,0,0,0,0,0,0,0,0,0,0,0,0,0,0,0,0,0,0,0,0,5,0,0,0,0,0,0,0,0,0,0,0,0,0,0,0,0,0,0,5,0,0,0,0,0,0,0,0,0,0,0,0,0,0,0,0,0,0,0,0,0,0,0,0,0,0,0]
["Sat","2010-10-17","Everton ",2,2,"Liverpool","12:30:00",null,0,0,10,0,0,0,0,0,0,0,0,0,10,0,0,0,0,5,0,10,10,10,5,5,10,10,0,5,5,0,0,0,0,0,10,0,10,0,0,10,0,5,5,0,5,10,0,5,0,0,5,10,0,0,0,0,0,5,0,0,0,0,0,0,0,0,0,0,5,0,0,0,0,0,5]
["Sat","2010-10-17","Chelsea ",3,3,"Southampton","15:00:00",null,0,0,0,0,0,0,0,0,0,0,0,0,0,0,0,0,0,0,0,0,0,0,0,0,0,0,0,5,0,0,0,0,0,0,0,0,0,0,0,0,0,0,0,0,0,0,0,0,0,0,0,0,0,0,0,0,0,0,0,0,0,0,0,0,0,0,0,0,0,0,0,0,0,0,0]
["Sat","2010-10-17","Man City",1,0,"Arsenal","17:30:00",null,5,10,5,5,5,5,5,5,5,5,0,0,5,5,5,5,5,5,5,5,5,5,5,5,0,5,0,10,5,5,5,5,5,0,5,5,5,5,0,5,5,0,5,0,0,5,0,5,5,5,5,5,0,5,0,0,5,0,0,0,0,5,5,10,5,5,5,0,5,0,5,5,5,0,5]
["Sat","2010-10-17","Newcastle ",1,4,"Manchester United","19:45:00",null,5,0,0,5,0,5,5,5,5,5,5,0,5,0,0,5,5,5,5,5,0,0,0,0,5,5,5,0,5,0,0,5,0,5,0,0,5,0,0,5,0,0,0,5,0,5,0,5,5,5,5,5,5,5,5,5,0,0,5,0,5,5,0,5,5,5,5,5,0,5,0,5,0,5,0]
["Sun","2020-10-18","Sheffield United ",1,1,"Fulham","12:00:00",null,0,0,10,0,0,10,0,0,0,5,0,10,5,0,0,0,0,0,0,0,0,0,0,0,0,0,10,5,0,0,0,0,0,0,0,0,0,0,10,0,0,0,0,0,0,0,0,0,0,0,0,0,0,10,0,10,0,0,10,0,10,5,0,0,0,0,0,0,0,0,0,0,0,0,0]
["Sun","2020-10-18","Crystal Palace ",1,1,"Brighton","14:00:00",null,0,10,0,10,0,0,10,10,0,0,5,0,10,0,0,0,10,0,0,10,0,0,5,10,0,10,0,5,10,0,10,10,10,0,0,0,10,0,0,0,0,5,0,5,5,0,0,10,0,10,5,0,0,10,0,0,0,0,0,10,0,0,0,0,10,10,0,0,10,0,10,10,0,0,10]
["Sun","2020-10-18","Tottenham ",3,3,"West Ham","16:30:00",null,0,0,0,0,0,0,0,0,0,0,0,0,0,0,0,0,0,0,0,0,0,0,0,0,0,0,0,5,0,0,0,0,0,5,0,0,5,0,0,0,0,5,5,0,0,0,0,0,0,0,0,0,5,0,0,0,0,0,0,0,5,0,0,0,0,0,0,0,5,0,0,0,0,0,0]
["Sun","2020-10-18","Leicester ",0,1,"Aston Villa","19:15:00",null,5,0,0,0,0,0,0,0,0,0,0,0,0,5,0,0,0,0,0,0,0,0,0,0,0,0,0,0,0,0,0,0,5,0,0,0,0,0,0,0,0,0,0,0,0,0,0,0,0,0,0,0,0,0,0,0,0,0,0,0,0,0,0,0,0,0,0,0,0,0,0,0,0,0,0]
["Mon","2020-10-19","West Brom ",0,0,"Burnley","17:30:00",null,5,0,5,5,0,5,0,0,5,0,0,0,0,0,0,0,5,5,0,0,0,0,10,5,10,0,0,5,0,0,0,0,5,0,5,5,0,0,5,0,0,10,10,10,0,0,10,5,0,0,0,0,0,0,0,0,0,5,0,0,0,5,5,5,5,0,5,5,0,0,0,0,0,0,5]
["Mon","2020-10-19","Leeds ",0,1,"Wolves","20:00:00",null,0,0,5,0,0,0,0,0,0,5,0,0,0,5,0,0,0,0,0,0,5,0,0,0,0,0,5,0,0,0,0,0,0,5,0,5,0,0,0,0,0,0,0,0,0,0,0,5,0,5,0,0,0,0,0,5,0,0,0,5,5,0,0,0,0,0,0,0,0,0,0,0,0,0,0]
["Fri","2020-10-23","Aston Villa",0,3,"Leeds","20:00:00",null,0,0,0,0,0,0,0,0,0,0,0,0,0,0,0,0,0,0,0,0,0,0,0,0,0,0,5,0,0,0,0,0,0,0,0,5,5,0,0,0,0,0,0,0,0,0,5,0,0,0,5,0,0,5,0,0,0,5,5,0,5,0,0,0,0,0,0,0,5,0,0,5,0,0,0]
["Sat","2010-10-24","West Ham ",1,1," Man City","12:30:00",null,0,0,0,0,0,0,0,0,0,0,0,0,0,0,0,0,0,0,0,0,0,0,0,0,0,0,0,5,0,0,0,0,0,0,0,0,0,0,10,0,0,0,0,0,0,0,0,0,0,0,0,0,0,10,0,0,0,0,0,0,0,0,0,0,0,0,0,0,10,0,0,0,0,0,10]
["Sat","2010-10-24","Fulham ",1,2," Crystal Palace","15:00:00",null,0,0,10,5,10,10,10,5,5,0,5,0,5,10,10,0,10,0,5,5,0,0,5,0,5,5,5,0,5,10,10,10,0,10,10,5,5,5,0,0,0,0,5,10,0,0,0,5,5,10,5,10,10,0,0,0,5,10,0,5,10,5,5,0,0,0,0,0,0,0,0,0,0,5,10]
["Sat","2010-10-24","Manchester United ",0,0," Chelsea","17:30:00",null,5,5,5,0,5,0,5,0,0,0,5,5,0,0,0,5,0,5,5,0,5,0,0,0,5,5,0,5,5,0,0,0,0,0,5,5,0,0,5,5,0,5,0,5,5,5,0,0,0,5,0,5,0,0,0,0,0,0,5,0,0,0,5,5,0,0,0,0,5,0,5,5,5,0,0]
["Sat","2010-10-24","Liverpool ",2,1," Sheffield United","19:45:00",null,5,5,5,5,5,5,5,5,5,5,10,5,5,5,5,5,5,5,5,5,5,5,10,5,5,5,5,0,5,5,10,5,5,5,5,5,5,5,0,5,5,5,5,5,5,5,5,5,5,5,5,5,0,5,5,5,10,0,5,5,5,5,5,5,5,5,5,5,5,5,5,5,5,5,5]
["Sun","2020-10-25","Southampton ",2,0," Everton","15:00:00",null,0,0,0,10,5,0,5,0,0,0,0,0,0,0,0,5,0,0,0,0,0,0,0,0,0,0,0,0,0,0,0,0,5,0,0,10,0,0,0,0,0,0,0,0,0,0,0,0,0,5,10,0,0,0,0,5,0,0,5,0,0,0,0,5,0,0,0,0,0,0,0,0,0,0,0]
["Sun","2020-10-25","Wolves ",1,1," Newcastle","17:30:00",null,0,0,0,0,0,0,0,0,0,0,0,0,0,0,0,0,0,0,0,0,0,0,0,0,0,0,0,5,0,0,0,0,0,0,0,0,5,0,10,0,0,0,0,0,0,0,5,0,0,0,0,0,10,0,0,0,0,0,0,0,0,0,0,5,5,0,0,0,0,0,0,0,0,0,0]
["Sun","2020-10-25","Arsenal",0,1,"Leicester","20:15:00",null,0,0,5,0,0,0,0,0,0,0,0,5,0,0,0,0,0,0,0,0,0,0,10,0,5,0,0,0,0,0,0,0,0,0,0,0,0,0,0,0,0,0,0,0,0,0,0,0,0,0,5,0,0,0,0,0,0,5,0,0,5,0,0,0,0,0,0,0,0,0,0,0,0,0,0]
["Mon","2020-10-26","Brighton ",1,1," West Brom","17:30:00",null,10,10,0,0,0,0,0,10,0,0,5,10,0,0,10,0,0,10,0,0,0,0,0,0,10,10,10,5,0,0,0,0,0,0,0,5,0,0,10,0,0,0,0,0,0,0,0,0,0,0,0,0,0,0,0,0,10,0,10,0,10,10,0,0,0,0,0,0,0,0,10,0,0,0,10]
["Mon","2020-10-26","Burnley ",0,1," Tottenham","20:00:00",null,5,5,5,5,5,5,5,5,5,5,5,5,0,5,5,5,5,5,5,5,5,5,5,5,5,5,5,0,5,5,5,5,5,5,5,5,5,10,0,5,5,5,5,5,5,5,5,5,5,5,5,5,5,5,5,5,5,5,5,5,0,5,5,5,5,5,5,5,5,5,5,5,5,5,5]
["Fri","2020-10-30","Wolves ",2,0," Crystal Palace","20:00:00",null,0,5,10,5,5,5,5,10,5,5,5,5,10,5,5,5,0,0,10,5,5,5,5,5,0,0,5,0,5,0,0,0,5,5,5,5,5,10,5,5,10,0,10,5,5,5,10,10,5,5,10,5,5,5,10,5,5,5,0,5,5,5,10,5,0,10,10,5,5,10,0,0,5,5,5]
["Sat","2010-10-31","Sheffield United ",0,1,"Man City","12:30:00",null,5,0,5,5,5,5,5,5,5,5,5,0,5,0,5,5,5,5,5,5,5,5,5,5,5,5,5,0,5,5,5,5,5,5,5,5,5,5,5,5,5,5,5,5,5,5,5,5,5,5,5,0,5,5,5,5,0,5,5,5,5,0,0,5,5,5,5,5,5,5,5,5,5,5,5]
["Sat","2010-10-31","Burnley ",0,3,"Chelsea","15:00:00",null,5,0,10,5,0,5,5,0,5,5,5,0,0,5,5,5,5,5,5,5,5,5,10,5,5,5,5,"-",5,5,10,5,5,5,5,0,5,5,5,5,0,5,0,5,0,5,5,5,5,5,10,0,5,5,5,10,0,5,5,10,5,0,5,5,5,5,5,5,5,5,5,0,5,5,0]
["Sat","2010-10-31","Liverpool ",2,1,"West Ham","17:30:00",null,0,5,5,10,5,5,5,5,5,10,5,10,5,5,0,5,10,5,5,5,5,5,5,10,10,5,5,"-",5,0,10,5,5,5,5,5,10,0,5,5,5,0,5,5,5,5,5,5,10,5,5,10,10,10,10,5,10,0,5,0,0,10,5,5,5,5,5,5,5,5,5,10,5,5,5]
[]
["Golden Boots"]
["Anthony Martial - Man United",null,null,{"$f":"COUNT(I39:CE39)","v":8},{"$f":"0+0+0","v":0},null,null,null,null,null,null,null,null,null,null,null,null,null,null,null,{"$f":"$E39*2","v":0},null,null,null,null,null,null,{"$f":"$E39*2","v":0},null,null,null,{"$f":"$E39*2","v":0},null,null,null,null,null,null,{"$f":"$E39*2","v":0},null,null,null,null,null,null,null,null,null,null,null,null,null,null,null,null,{"$f":"$E39*2","v":0},null,null,null,null,{"$f":"$E39*2","v":0},null,null,null,null,{"$f":"$E39*2","v":0},null,null,null,null,null,null,{"$f":"$E39*2","v":0}]
["Chris Wood - Burnley",null,null,0,{"$f":"0+0+0+0","v":0}]
["Danny Ings - Southampton",null,null,6,{"$f":"0+1+0","v":1},null,null,null,null,null,null,null,null,null,null,null,null,null,null,{"$f":"$E41*2","v":2},null,null,null,null,null,null,null,null,null,null,null,null,null,null,null,null,null,null,null,null,null,{"$f":"$E41*2","v":2},null,null,null,null,null,null,null,null,null,null,null,null,null,null,null,null,null,null,null,null,null,null,null,null,{"$f":"$E41*2","v":2},null,null,{"$f":"$E41*2","v":2},null,null,null,{"$f":"$E41*2","v":2},null,null,null,null,null,null,null,{"$f":"$E41*2","v":2}]
["Harry Kane - Tottenham Hotspur",null,null,44,{"$f":"2+2+0","v":4},null,null,null,{"$f":"$E42*2","v":8},8,8,8,8,8,8,null,{"$f":"$E42*2","v":8},{"$f":"$E42*2","v":8},null,null,null,null,{"$f":"$E42*2","v":8},{"$f":"$E42*2","v":8},{"$f":"$E42*2","v":8},{"$f":"$E42*2","v":8},null,null,{"$f":"$E42*2","v":8},8,8,8,8,8,8,{"$f":"$E42*2","v":8},{"$f":"$E42*2","v":8},{"$f":"$E42*2","v":8},{"$f":"$E42*2","v":8},{"$f":"$E42*2","v":8},null,{"$f":"$E42*2","v":8},{"$f":"$E42*2","v":8},{"$f":"$E42*2","v":8},{"$f":"$E42*2","v":8},{"$f":"$E42*2","v":8},null,null,{"$f":"$E42*2","v":8},null,{"$f":"$E42*2","v":8},{"$f":"$E42*2","v":8},{"$f":"$E42*2","v":8},{"$f":"$E42*2","v":8},null,{"$f":"$E42*2","v":8},null,{"$f":"$E42*2","v":8},null,{"$f":"$E42*2","v":8},{"$f":"$E42*2","v":8},null,null,null,{"$f":"$E42*2","v":8},null,null,null,null,null,{"$f":"$E42*2","v":8},{"$f":"$E42*2","v":8},null,null,null,{"$f":"$E42*2","v":8},null,null,null,null,null,{"$f":"$E42*2","v":8}]
["Jamie Vardy - Leicester City",null,null,19,{"$f":"0+0+1","v":1},null,null,null,null,null,{"$f":"$E43*2","v":2},null,null,null,null,null,null,null,{"$f":"$E43*2","v":2},null,null,null,null,null,null,{"$f":"$E43*2","v":2},null,null,null,{"$f":"$E43*2","v":2},null,null,null,null,null,null,null,null,null,null,null,null,null,null,{"$f":"$E43*2","v":2},null,{"$f":"$E43*2","v":2},{"$f":"$E43*2","v":2},{"$f":"$E43*2","v":2},{"$f":"$E43*2","v":2},{"$f":"$E43*2","v":2},null,{"$f":"$E43*2","v":2},null,null,null,null,null,null,null,null,{"$f":"$E43*2","v":2},null,null,null,{"$f":"$E43*2","v":2},null,null,{"$f":"$E43*2","v":2},{"$f":"$E43*2","v":2},null,null,null,null,{"$f":"$E43*2","v":2},{"$f":"$E43*2","v":2},null,null,{"$f":"$E43*2","v":2},{"$f":"$E43*2","v":2}]
["Marcus Rashford - Man United",null,null,6,{"$f":"0+1+0","v":1},null,null,null,null,null,null,null,null,null,null,{"$f":"$E44*2","v":2},null,null,null,null,null,null,null,null,null,null,null,null,null,null,null,null,null,null,null,null,null,null,null,null,null,null,null,null,null,null,null,null,null,null,null,null,{"$f":"$E44*2","v":2},null,null,null,null,null,{"$f":"$E44*2","v":2},null,{"$f":"$E44*2","v":2},null,null,null,null,null,null,null,null,null,null,null,null,null,null,null,null,null,{"$f":"$E44*2","v":2},null,{"$f":"$E44*2","v":2}]
["Mohamed Salah - Liverpool",null,null,36,{"$f":"2+1+0+1","v":4},null,null,null,null,null,{"$f":"$E45*2","v":8},{"$f":"$E45*2","v":8},null,null,{"$f":"$E45*2","v":8},null,{"$f":"$E45*2","v":8},8,8,8,8,8,null,{"$f":"$E45*2","v":8},{"$f":"$E45*2","v":8},null,null,{"$f":"$E45*2","v":8},null,null,{"$f":"$E45*2","v":8},{"$f":"$E45*2","v":8},null,null,null,null,null,null,{"$f":"$E45*2","v":8},null,{"$f":"$E45*2","v":8},null,{"$f":"$E45*2","v":8},null,null,null,null,{"$f":"$E45*2","v":8},null,{"$f":"$E45*2","v":8},null,null,null,{"$f":"$E45*2","v":8},{"$f":"$E45*2","v":8},{"$f":"$E45*2","v":8},{"$f":"$E45*2","v":8},{"$f":"$E45*2","v":8},null,null,null,{"$f":"$E45*2","v":8},null,{"$f":"$E45*2","v":8},null,null,{"$f":"$E45*2","v":8},null,null,null,{"$f":"$E45*2","v":8},8,8,8,8,{"$f":"$E45*2","v":8},null,{"$f":"$E45*2","v":8},8,null,null,null,{"$f":"$E45*2","v":8}]
["Pierre Emerick Aubameyang - Arsenal",null,null,45,{"$f":"0+0+0","v":0},null,null,null,null,null,null,{"$f":"$E46*2","v":0},null,{"$f":"$E46*2","v":0},{"$f":"$E46*2","v":0},{"$f":"$E46*2","v":0},{"$f":"$E46*2","v":0},{"$f":"$E46*2","v":0},{"$f":"$E46*2","v":0},null,{"$f":"$E46*2","v":0},{"$f":"$E46*2","v":0},{"$f":"$E46*2","v":0},null,null,null,{"$f":"$E46*2","v":0},{"$f":"$E46*2","v":0},{"$f":"$E46*2","v":0},null,{"$f":"$E46*2","v":0},null,{"$f":"$E46*2","v":0},null,{"$f":"$E46*2","v":0},{"$f":"$E46*2","v":0},{"$f":"$E46*2","v":0},null,null,{"$f":"$E46*2","v":0},{"$f":"$E46*2","v":0},null,{"$f":"$E46*2","v":0},{"$f":"$E46*2","v":0},{"$f":"$E46*2","v":0},null,{"$f":"$E46*2","v":0},{"$f":"$E46*2","v":0},{"$f":"$E46*2","v":0},{"$f":"$E46*2","v":0},{"$f":"$E46*2","v":0},null,null,{"$f":"$E46*2","v":0},{"$f":"$E46*2","v":0},null,{"$f":"$E46*2","v":0},{"$f":"$E46*2","v":0},null,null,null,null,{"$f":"$E46*2","v":0},{"$f":"$E46*2","v":0},null,{"$f":"$E46*2","v":0},null,{"$f":"$E46*2","v":0},null,null,null,{"$f":"$E46*2","v":0},null,{"$f":"$E46*2","v":0},{"$f":"$E46*2","v":0},null,{"$f":"$E46*2","v":0},{"$f":"$E46*2","v":0},null,{"$f":"$E46*2","v":0},{"$f":"$E46*2","v":0},{"$f":"$E46*2","v":0},{"$f":"$E46*2","v":0}]
["Raheem Sterling - Man City",null,null,14,{"$f":"1+1+0+0","v":2},null,null,null,null,null,null,null,null,null,null,null,null,null,null,null,null,null,null,{"$f":"$E47*2","v":4},null,null,{"$f":"$E47*2","v":4},null,{"$f":"$E47*2","v":4},null,null,null,null,{"$f":"$E47*2","v":4},null,{"$f":"$E47*2","v":4},null,null,null,null,null,null,null,null,null,null,null,null,null,null,null,null,null,null,null,null,null,null,{"$f":"$E47*2","v":4},{"$f":"$E47*2","v":4},null,{"$f":"$E47*2","v":4},{"$f":"$E47*2","v":4},null,{"$f":"$E47*2","v":4},null,null,{"$f":"$E47*2","v":4},{"$f":"$E47*2","v":4},null,{"$f":"$E47*2","v":4},null,null,null,null,null,null,null,null,null,null,null,{"$f":"$E47*2","v":4}]
["Raul Jiminez - Wolves",null,null,1,{"$f":"0+1+1+0","v":2},null,null,null,null,null,null,null,null,null,null,null,null,null,null,null,null,null,null,null,null,null,null,null,null,null,null,null,null,null,null,null,null,null,null,null,null,null,null,null,null,null,{"$f":"$E48*2","v":4}]
["Richarlison - Everton",null,null,1,{"$f":"0+0+0","v":0},null,null,null,{"$f":"$E49*2","v":0}]
["Sadio Mane - Liverpool",null,null,12,{"$f":"0+1+0+0","v":1},null,null,null,null,{"$f":"$E50*2","v":2},null,null,{"$f":"$E50*2","v":2},null,null,{"$f":"$E50*2","v":2},null,null,null,null,null,{"$f":"$E50*2","v":2},null,null,null,null,null,null,null,null,null,null,null,{"$f":"$E50*2","v":2},{"$f":"$E50*2","v":2},null,null,null,null,null,null,null,null,null,null,{"$f":"$E50*2","v":2},null,null,null,null,null,{"$f":"$E50*2","v":2},null,null,null,null,null,null,{"$f":"$E50*2","v":2},null,null,null,null,{"$f":"$E50*2","v":2},null,null,null,{"$f":"$E50*2","v":2},null,null,null,null,null,null,null,null,null,null,null,null,{"$f":"$E50*2","v":2}]
["Sergio Aguero - Man City",null,null,9,{"$f":"0+0+0+0","v":0},null,null,null,null,{"$f":"$E51*2","v":0},null,null,null,null,null,null,null,null,null,{"$f":"$E51*2","v":0},null,null,null,null,null,null,null,null,null,null,null,null,null,null,null,null,null,{"$f":"$E51*2","v":0},null,null,null,{"$f":"$E51*2","v":0},null,null,null,{"$f":"$E51*2","v":0},null,null,null,null,null,null,null,null,null,null,{"$f":"$E51*2","v":0},null,null,null,null,null,null,null,{"$f":"$E51*2","v":0},null,null,null,null,null,null,null,{"$f":"$E51*2","v":0},null,null,null,{"$f":"$E51*2","v":0}]
["Tammy Abraham - Chelsea",null,null,0,{"$f":"0+0+0+0","v":0}]
["Timo Werner - Chelsea",null,null,24,{"$f":"0+2+0+1","v":3},null,null,null,{"$f":"$E53*2","v":6},null,null,null,{"$f":"$E53*2","v":6},{"$f":"$E53*2","v":6},null,null,null,null,null,null,null,null,{"$f":"$E53*2","v":6},null,{"$f":"$E53*2","v":6},{"$f":"$E53*2","v":6},{"$f":"$E53*2","v":6},null,null,{"$f":"$E53*2","v":6},null,null,{"$f":"$E53*2","v":6},null,null,null,{"$f":"$E53*2","v":6},{"$f":"$E53*2","v":6},null,{"$f":"$E53*2","v":6},{"$f":"$E53*2","v":6},null,null,{"$f":"$E53*2","v":6},null,null,null,null,null,null,null,{"$f":"$E53*2","v":6},null,null,{"$f":"$E53*2","v":6},null,null,null,null,{"$f":"$E53*2","v":6},null,null,{"$f":"$E53*2","v":6},null,null,null,{"$f":"$E53*2","v":6},null,{"$f":"$E53*2","v":6},{"$f":"$E53*2","v":6},null,null,null,null,null,null,{"$f":"$E53*2","v":6},{"$f":"$E53*2","v":6},null,{"$f":"$E53*2","v":6}]
[]
["Golden Gloves"]
["Alisson Becker - Liverpool",null,null,{"$f":"COUNT(I56:CE56)","v":57},{"$f":"0+0+0+0","v":0},null,null,null,null,{"$f":"$E56*2","v":0},{"$f":"$E56*2","v":0},{"$f":"$E56*2","v":0},{"$f":"$E56*2","v":0},null,{"$f":"$E56*2","v":0},{"$f":"$E56*2","v":0},null,{"$f":"$E56*2","v":0},{"$f":"$E56*2","v":0},{"$f":"$E56*2","v":0},null,{"$f":"$E56*2","v":0},{"$f":"$E56*2","v":0},{"$f":"$E56*2","v":0},{"$f":"$E56*2","v":0},{"$f":"$E56*2","v":0},null,{"$f":"$E56*2","v":0},null,{"$f":"$E56*2","v":0},null,null,{"$f":"$E56*2","v":0},0,0,0,0,0,null,{"$f":"$E56*2","v":0},{"$f":"$E56*2","v":0},{"$f":"$E56*2","v":0},{"$f":"$E56*2","v":0},{"$f":"$E56*2","v":0},null,{"$f":"$E56*2","v":0},null,{"$f":"$E56*2","v":0},null,{"$f":"$E56*2","v":0},{"$f":"$E56*2","v":0},{"$f":"$E56*2","v":0},{"$f":"$E56*2","v":0},{"$f":"$E56*2","v":0},null,{"$f":"$E56*2","v":0},{"$f":"$E56*2","v":0},{"$f":"$E56*2","v":0},{"$f":"$E56*2","v":0},null,{"$f":"$E56*2","v":0},{"$f":"$E56*2","v":0},0,{"$f":"$E56*2","v":0},0,0,{"$f":"$E56*2","v":0},0,null,{"$f":"$E56*2","v":0},0,0,null,null,{"$f":"$E56*2","v":0},0,0,{"$f":"$E56*2","v":0},0,0,0,null,{"$f":"$E56*2","v":0}]
["Ederson - Man City",null,null,{"$f":"COUNT(I57:CE57)","v":14},{"$f":"0+1+0+1","v":2},null,null,null,{"$f":"$E57*2","v":4},null,null,null,null,null,null,null,{"$f":"$E57*2","v":4},null,null,null,{"$f":"$E57*2","v":4},null,null,null,null,null,{"$f":"$E57*2","v":4},null,{"$f":"$E57*2","v":4},null,{"$f":"$E57*2","v":4},{"$f":"$E57*2","v":4},null,null,null,null,null,null,{"$f":"$E57*2","v":4},null,null,null,null,null,null,null,{"$f":"$E57*2","v":4},null,{"$f":"$E57*2","v":4},null,null,null,null,null,{"$f":"$E57*2","v":4},null,null,null,null,{"$f":"$E57*2","v":4},null,null,null,null,null,null,null,null,null,null,null,null,null,{"$f":"$E57*2","v":4},null,null,null,null,null,null,null,{"$f":"$E57*2","v":4}]
["David de Gea - Man United",null,null,{"$f":"COUNT(I58:CE58)","v":3},{"$f":"0+0+1","v":1},null,null,null,null,null,null,null,null,{"$f":"$E58*2","v":2},null,null,null,null,null,null,null,null,null,null,null,null,null,null,null,null,null,null,null,null,null,null,null,null,null,null,null,null,null,null,{"$f":"$E58*2","v":2},null,null,null,null,null,null,null,null,null,null,null,null,null,null,null,null,null,null,null,null,null,null,null,null,null,null,null,{"$f":"$E58*2","v":2}]
["Hugo Lloris - Tottenham Hotspur",null,null,{"$f":"COUNT(I59:CE59)","v":1},{"$f":"0+0+1","v":1},null,null,null,null,null,null,null,null,null,null,null,null,null,null,null,null,null,null,null,null,null,null,null,null,null,null,null,null,null,null,null,null,null,null,null,null,null,null,null,null,null,null,null,null,null,null,null,null,null,null,null,null,null,null,null,null,null,null,null,null,null,null,null,{"$f":"$E59*2","v":2}]
["Nick Pope - Burnley",null,null,{"$f":"COUNT(I60:CE60)","v":0},{"$f":"0+1+0+0","v":1}]
[]
["Sack Race"]
["Brendan Rodgers - Leicester City",null,null,{"$f":"COUNT(I63:CE63)","v":1},null,null,null,null,null,null,null,null,null,null,null,null,null,null,null,null,null,null,null,null,null,null,null,null,null,null,null,null,null,null,null,null,null,null,null,null,null,null,null,null,null,null,null,null,null,null,null,null,null,null,null,null,null,null,null,null,null,null,null,null,null,null,null,{"$f":"$E63*15","v":0}]
["Carlo Ancelotti - Everton",null,null,0]
["Chris Wilder - Sheffield United",null,null,0]
["David Moyes - West Ham United",null,null,14,null,null,null,null,null,null,null,null,{"$f":"$E66*15","v":0},null,null,{"$f":"$E66*15","v":0},null,null,null,null,null,null,null,null,{"$f":"$E66*15","v":0},null,null,{"$f":"$E66*15","v":0},{"$f":"$E66*15","v":0},null,null,null,null,null,{"$f":"$E66*15","v":0},{"$f":"$E66*15","v":0},{"$f":"$E66*15","v":0},null,null,null,null,null,null,{"$f":"$E66*15","v":0},{"$f":"$E66*15","v":0},null,null,null,null,null,null,null,{"$f":"$E66*15","v":0},{"$f":"$E66*15","v":0},null,null,{"$f":"$E66*15","v":0},null,null,null,null,null,null,null,null,null,{"$f":"$E66*15","v":0}]
["Dean Smith - Aston Villa",null,null,16,null,null,null,null,null,null,null,null,null,{"$f":"$E67*15","v":0},{"$f":"$E67*15","v":0},null,null,null,null,null,null,null,{"$f":"$E67*15","v":0},null,null,null,null,null,null,null,null,null,null,null,null,null,null,null,{"$f":"$E67*15","v":0},{"$f":"$E67*15","v":0},null,null,{"$f":"$E67*15","v":0},null,null,{"$f":"$E67*15","v":0},{"$f":"$E67*15","v":0},null,null,{"$f":"$E67*15","v":0},null,{"$f":"$E67*15","v":0},null,null,null,null,null,null,{"$f":"$E67*15","v":0},null,null,null,{"$f":"$E67*15","v":0},null,{"$f":"$E67*15","v":0},{"$f":"$E67*15","v":0},null,null,{"$f":"$E67*15","v":0},null,null,{"$f":"$E67*15","v":0}]
["Frank Lampard - Chelsea",null,null,0]
["Graham Potter - Brighton",null,null,6,null,null,null,null,{"$f":"$E69*15","v":0},null,null,null,null,null,null,null,null,null,null,{"$f":"$E69*15","v":0},null,{"$f":"$E69*15","v":0},null,null,null,null,{"$f":"$E69*15","v":0},null,null,null,null,{"$f":"$E69*15","v":0},null,null,null,null,null,null,null,null,null,null,null,null,null,null,null,null,null,null,null,null,null,null,null,null,null,null,null,null,null,null,null,null,null,null,null,null,null,null,null,null,null,null,null,null,null,null,null,null,{"$f":"$E69*15","v":0}]
["Jose Mourinho - Tottenham Hotspur",null,null,4,null,null,null,null,null,null,null,null,null,null,null,null,null,null,null,null,null,null,null,null,null,null,null,null,null,null,{"$f":"$E70*15","v":0},null,null,null,null,null,null,null,null,null,null,null,null,null,null,null,null,null,null,null,null,null,null,null,null,null,null,null,null,null,null,{"$f":"$E70*15","v":0},null,null,null,null,null,null,null,null,null,null,{"$f":"$E70*15","v":0},null,null,null,null,null,null,null,null,null,{"$f":"$E70*15","v":0}]
["Jurgen Klopp - Liverpool",null,null,0]
["Marco Bielsa - Leeds United",null,null,1,null,null,null,null,null,null,null,null,null,null,null,null,null,null,null,null,null,null,null,null,null,null,null,null,null,null,null,null,null,null,null,null,null,null,null,null,null,null,null,null,null,null,null,null,null,null,null,null,null,null,null,null,null,null,null,null,null,null,null,null,null,null,null,null,null,null,null,null,null,null,null,null,null,{"$f":"$E72*15","v":0}]
["Mikel Arteta - Arsenal",null,null,0]
["Nuno Espirito Santo - Wolves",null,null,0]
["Ole Gunnar Solskjaer - Manchester United",null,null,1,null,null,null,null,null,null,null,null,null,null,null,null,null,null,null,null,null,null,null,null,null,null,null,null,null,null,null,null,null,null,null,null,null,{"$f":"$E75*15","v":0}]
["Pep Guardiola - Manchester City",null,null,1,null,null,null,null,null,null,null,null,null,null,null,null,null,null,null,null,null,null,null,null,null,null,null,null,null,null,null,null,null,null,null,null,null,null,null,null,null,null,null,null,null,null,null,{"$f":"$E76*15","v":0}]
["Ralph Hassenhuttl - Southampton",null,null,2,null,null,null,null,null,null,{"$f":"$E77*15","v":0},null,null,null,null,null,null,null,null,null,null,null,null,null,null,null,null,null,null,null,null,null,null,{"$f":"$E77*15","v":0}]
["Roy Hodgson - Crystal Palace",null,null,8,null,null,null,null,null,{"$f":"$E78*15","v":0},null,{"$f":"$E78*15","v":0},null,null,null,null,null,null,null,null,null,null,null,null,null,null,null,null,null,{"$f":"$E78*15","v":0},null,null,null,null,null,null,null,null,null,null,null,{"$f":"$E78*15","v":0},null,null,null,null,null,null,null,null,null,null,null,null,null,null,null,{"$f":"$E78*15","v":0},null,null,null,null,null,null,null,null,null,null,null,null,{"$f":"$E78*15","v":0},null,null,{"$f":"$E78*15","v":0},null,null,{"$f":"$E78*15","v":0}]
["Scott Parker - Fulham",null,null,3,null,null,null,null,null,null,null,null,null,null,null,null,null,{"$f":"$E79*15","v":0},null,null,null,null,null,null,null,{"$f":"$E79*15","v":0},null,null,null,null,null,null,null,null,null,null,null,null,null,null,null,null,null,null,null,null,null,null,null,null,null,null,null,null,{"$f":"$E79*15","v":0}]
["Sean Dyche - Burnley",null,null,1,null,null,null,null,null,null,null,null,null,null,null,null,null,null,{"$f":"$E80*15","v":0}]
["Slaven Bilic - West Brom",null,null,4,null,null,null,null,null,null,null,null,null,null,null,null,null,null,null,null,{"$f":"$E81*15","v":0},null,null,null,null,null,null,null,null,null,null,null,null,null,null,null,null,null,null,null,{"$f":"$E81*15","v":0},null,null,null,null,null,null,null,null,null,null,null,null,null,null,null,null,null,null,null,{"$f":"$E81*15","v":0},null,null,{"$f":"$E81*15","v":0}]
["Steve Bruce - Newcastle United",null,null,13,null,null,null,null,null,null,null,null,null,null,null,null,{"$f":"$E82*15","v":0},null,null,null,null,null,null,{"$f":"$E82*15","v":0},null,null,null,null,null,null,null,null,{"$f":"$E82*15","v":0},null,null,null,null,null,null,null,null,null,null,null,null,null,null,null,{"$f":"$E82*15","v":0},null,{"$f":"$E82*15","v":0},null,null,null,null,{"$f":"$E82*15","v":0},null,null,null,{"$f":"$E82*15","v":0},null,null,null,null,null,null,null,null,null,{"$f":"$E82*15","v":0},null,null,null,null,{"$f":"$E82*15","v":0},{"$f":"$E82*15","v":0},null,null,{"$f":"$E82*15","v":0},{"$f":"$E82*15","v":0},null,{"$f":"$E82*15","v":0}]
[]
["Grand Total - October",null,null,null,null,null,null,null,{"$f":"SUM(I$3:I83)","v":108},{"$f":"SUM(J$3:J83)","v":100},{"$f":"SUM(K$3:K83)","v":138},{"$f":"SUM(L$3:L83)","v":121},{"$f":"SUM(M$3:M83)","v":96},{"$f":"SUM(N$3:N83)","v":101},{"$f":"SUM(O$3:O83)","v":121},{"$f":"SUM(P$3:P83)","v":99},{"$f":"SUM(Q$3:Q83)","v":110},{"$f":"SUM(R$3:R83)","v":101},{"$f":"SUM(S$3:S83)","v":95},{"$f":"SUM(T$3:T83)","v":95},{"$f":"SUM(U$3:U83)","v":102},{"$f":"SUM(V$3:V83)","v":80},{"$f":"SUM(W$3:W83)","v":89},{"$f":"SUM(X$3:X83)","v":105},{"$f":"SUM(Y$3:Y83)","v":117},{"$f":"SUM(Z$3:Z83)","v":106},{"$f":"SUM(AA$3:AA83)","v":94},{"$f":"SUM(AB$3:AB83)","v":108},{"$f":"SUM(AC$3:AC83)","v":101},{"$f":"SUM(AD$3:AD83)","v":96},{"$f":"SUM(AE$3:AE83)","v":120},{"$f":"SUM(AF$3:AF83)","v":110},{"$f":"SUM(AG$3:AG83)","v":124},{"$f":"SUM(AH$3:AH83)","v":109},{"$f":"SUM(AI$3:AI83)","v":115},{"$f":"SUM(AJ$3:AJ83)","v":102},{"$f":"SUM(AK$3:AK83)","v":119},{"$f":"SUM(AL$3:AL83)","v":74},{"$f":"SUM(AM$3:AM83)","v":120},{"$f":"SUM(AN$3:AN83)","v":114},{"$f":"SUM(AO$3:AO83)","v":109},{"$f":"SUM(AP$3:AP83)","v":100},{"$f":"SUM(AQ$3:AQ83)","v":116},{"$f":"SUM(AR$3:AR83)","v":114},{"$f":"SUM(AS$3:AS83)","v":122},{"$f":"SUM(AT$3:AT83)","v":80},{"$f":"SUM(AU$3:AU83)","v":100},{"$f":"SUM(AV$3:AV83)","v":90},{"$f":"SUM(AW$3:AW83)","v":79},{"$f":"SUM(AX$3:AX83)","v":90},{"$f":"SUM(AY$3:AY83)","v":95},{"$f":"SUM(AZ$3:AZ83)","v":111},{"$f":"SUM(BA$3:BA83)","v":82},{"$f":"SUM(BB$3:BB83)","v":106},{"$f":"SUM(BC$3:BC83)","v":98},{"$f":"SUM(BD$3:BD83)","v":131},{"$f":"SUM(BE$3:BE83)","v":88},{"$f":"SUM(BF$3:BF83)","v":116},{"$f":"SUM(BG$3:BG83)","v":123},{"$f":"SUM(BH$3:BH83)","v":107},{"$f":"SUM(BI$3:BI83)","v":100},{"$f":"SUM(BJ$3:BJ83)","v":129},{"$f":"SUM(BK$3:BK83)","v":95},{"$f":"SUM(BL$3:BL83)","v":85},{"$f":"SUM(BM$3:BM83)","v":92},{"$f":"SUM(BN$3:BN83)","v":82},{"$f":"SUM(BO$3:BO83)","v":111},{"$f":"SUM(BP$3:BP83)","v":86},{"$f":"SUM(BQ$3:BQ83)","v":109},{"$f":"SUM(BR$3:BR83)","v":95},{"$f":"SUM(BS$3:BS83)","v":85},{"$f":"SUM(BT$3:BT83)","v":106},{"$f":"SUM(BU$3:BU83)","v":90},{"$f":"SUM(BV$3:BV83)","v":94},{"$f":"SUM(BW$3:BW83)","v":95},{"$f":"SUM(BX$3:BX83)","v":83},{"$f":"SUM(BY$3:BY83)","v":111},{"$f":"SUM(BZ$3:BZ83)","v":84},{"$f":"SUM(CA$3:CA83)","v":97},{"$f":"SUM(CB$3:CB83)","v":98},{"$f":"SUM(CC$3:CC83)","v":74},{"$f":"SUM(CD$3:CD83)","v":84},{"$f":"SUM(CE$3:CE83)","v":132}]
[]
["Ten Pointers",null,null,null,null,null,null,null,{"$f":"COUNTIF(I$3:I36,\"10\")","v":1},{"$f":"COUNTIF(J$3:J36,\"10\")","v":5},{"$f":"COUNTIF(K$3:K36,\"10\")","v":5},{"$f":"COUNTIF(L$3:L36,\"10\")","v":3},{"$f":"COUNTIF(M$3:M36,\"10\")","v":2},{"$f":"COUNTIF(N$3:N36,\"10\")","v":2},{"$f":"COUNTIF(O$3:O36,\"10\")","v":3},{"$f":"COUNTIF(P$3:P36,\"10\")","v":4},{"$f":"COUNTIF(Q$3:Q36,\"10\")","v":2},{"$f":"COUNTIF(R$3:R36,\"10\")","v":1},{"$f":"COUNTIF(S$3:S36,\"10\")","v":1},{"$f":"COUNTIF(T$3:T36,\"10\")","v":4},{"$f":"COUNTIF(U$3:U36,\"10\")","v":3},{"$f":"COUNTIF(V$3:V36,\"10\")","v":1},{"$f":"COUNTIF(W$3:W36,\"10\")","v":2},{"$f":"COUNTIF(X$3:X36,\"10\")","v":2},{"$f":"COUNTIF(Y$3:Y36,\"10\")","v":4},{"$f":"COUNTIF(Z$3:Z36,\"10\")","v":2},{"$f":"COUNTIF(AA$3:AA36,\"10\")","v":1},{"$f":"COUNTIF(AB$3:AB36,\"10\")","v":3},{"$f":"COUNTIF(AC$3:AC36,\"10\")","v":1},{"$f":"COUNTIF(AD$3:AD36,\"10\")","v":2},{"$f":"COUNTIF(AE$3:AE36,\"10\")","v":4},{"$f":"COUNTIF(AF$3:AF36,\"10\")","v":2},{"$f":"COUNTIF(AG$3:AG36,\"10\")","v":5},{"$f":"COUNTIF(AH$3:AH36,\"10\")","v":3},{"$f":"COUNTIF(AI$3:AI36,\"10\")","v":2},{"$f":"COUNTIF(AJ$3:AJ36,\"10\")","v":2},{"$f":"COUNTIF(AK$3:AK36,\"10\")","v":2},{"$f":"COUNTIF(AL$3:AL36,\"10\")","v":1},{"$f":"COUNTIF(AM$3:AM36,\"10\")","v":5},{"$f":"COUNTIF(AN$3:AN36,\"10\")","v":4},{"$f":"COUNTIF(AO$3:AO36,\"10\")","v":1},{"$f":"COUNTIF(AP$3:AP36,\"10\")","v":2},{"$f":"COUNTIF(AQ$3:AQ36,\"10\")","v":3},{"$f":"COUNTIF(AR$3:AR36,\"10\")","v":1},{"$f":"COUNTIF(AS$3:AS36,\"10\")","v":4},{"$f":"COUNTIF(AT$3:AT36,\"10\")","v":2},{"$f":"COUNTIF(AU$3:AU36,\"10\")","v":4},{"$f":"COUNTIF(AV$3:AV36,\"10\")","v":1},{"$f":"COUNTIF(AW$3:AW36,\"10\")","v":1},{"$f":"COUNTIF(AX$3:AX36,\"10\")","v":1},{"$f":"COUNTIF(AY$3:AY36,\"10\")","v":2},{"$f":"COUNTIF(AZ$3:AZ36,\"10\")","v":3},{"$f":"COUNTIF(BA$3:BA36,\"10\")","v":1},{"$f":"COUNTIF(BB$3:BB36,\"10\")","v":2},{"$f":"COUNTIF(BC$3:BC36,\"10\")","v":2},{"$f":"COUNTIF(BD$3:BD36,\"10\")","v":3},{"$f":"COUNTIF(BE$3:BE36,\"10\")","v":1},{"$f":"COUNTIF(BF$3:BF36,\"10\")","v":2},{"$f":"COUNTIF(BG$3:BG36,\"10\")","v":3},{"$f":"COUNTIF(BH$3:BH36,\"10\")","v":3},{"$f":"COUNTIF(BI$3:BI36,\"10\")","v":3},{"$f":"COUNTIF(BJ$3:BJ36,\"10\")","v":4},{"$f":"COUNTIF(BK$3:BK36,\"10\")","v":3},{"$f":"COUNTIF(BL$3:BL36,\"10\")","v":2},{"$f":"COUNTIF(BM$3:BM36,\"10\")","v":3},{"$f":"COUNTIF(BN$3:BN36,\"10\")","v":2},{"$f":"COUNTIF(BO$3:BO36,\"10\")","v":2},{"$f":"COUNTIF(BP$3:BP36,\"10\")","v":2},{"$f":"COUNTIF(BQ$3:BQ36,\"10\")","v":3},{"$f":"COUNTIF(BR$3:BR36,\"10\")","v":2},{"$f":"COUNTIF(BS$3:BS36,\"10\")","v":1},{"$f":"COUNTIF(BT$3:BT36,\"10\")","v":1},{"$f":"COUNTIF(BU$3:BU36,\"10\")","v":1},{"$f":"COUNTIF(BV$3:BV36,\"10\")","v":2},{"$f":"COUNTIF(BW$3:BW36,\"10\")","v":1},{"$f":"COUNTIF(BX$3:BX36,\"10\")","v":0},{"$f":"COUNTIF(BY$3:BY36,\"10\")","v":2},{"$f":"COUNTIF(BZ$3:BZ36,\"10\")","v":2},{"$f":"COUNTIF(CA$3:CA36,\"10\")","v":2},{"$f":"COUNTIF(CB$3:CB36,\"10\")","v":2},{"$f":"COUNTIF(CC$3:CC36,\"10\")","v":0},{"$f":"COUNTIF(CD$3:CD36,\"10\")","v":0},{"$f":"COUNTIF(CE$3:CE36,\"10\")","v":5}]

{"sheet":"November","index":3,"n_rows":88,"n_cols":83,"rows_kept":88,"cut":false,"hidden":false,"merged":[[1,2,1,5]]}
[null,null,null,null,null,null,null,null,"Aidan Scanlon","Aidan White","Alan White","Anastas Popov","Andy Dunne","Ben Creasey","Bobby Hynes","Brendan Maguire","Brian Prendergast","Brian Haughton","Brian Mullen","Callum Dunne","Calvin McGettigan","Caroline Carroll","Cathal Thornton","Christina Morgan","Ciaran Nelson","Ciaran O'Hart","Con McSweeney","Craig Calvert","Darragh Kenny","David Cooney","David Lavelle","David McGinley","Davy Doyle","Dean White","Derek Brady","Drew Armstrong","Eamon Fox","Eoghan Farrelly","Fiachra O'Brolachain","Frank McSweeney","Gareth Pierpoint","Gary Donnelly","Gary Fitzpatrick","Gary McGurk","Gavin Goodwin","Gavin Morgan","George McGettigan","Gerard McCluskey","Gerry Draper","Gerry Moore","Graham Goodwin","Javier Suarez","Joe Behan","Joe Turner","John Brophy","John O'Driscoll","Jonathan Fox","Joseph Kavanagh","Kev Dalton","Kevin Philpott","Kris Stainton","Liam Geraghty","Liam Keohan","Lionel Knott","Michael Kenaney","Micheal Joyce","Niall Cannon","Niall Carroll","Niall Murray","Patrick Mifsud","Paul Moore","Paul Prendergast","Phil Doyle","Philip Jordan","Ralph Goodwin","Richard Johnston","Robert Hynes","Robert Manley","Roisin Joyce","Sean O'Mairtin","Trevor Byrne","Victoria Reid","Wayne Donovan"]
["Day","Date","Teams",null,null,null,"Time"]
["Sun","2020-11-01","Aston Villa",3,4,"Southampton","12:00:00",null,0,0,0,5,0,0,5,5,0,0,0,0,0,5,0,0,0,0,5,0,0,0,0,0,0,0,0,"-",5,0,0,5,0,0,5,0,5,0,0,0,5,0,0,0,0,0,0,0,0,0,0,0,0,0,5,5,0,5,0,5,0,0,0,5,0,0,0,0,0,0,0,0,0,0,0]
["Sun","2020-11-01","Newcastle ",2,1,"Everton","14:00:00",null,0,0,0,0,0,0,0,0,0,0,0,10,0,0,0,10,0,0,0,0,0,0,0,0,0,0,0,"-",10,0,0,0,0,0,0,0,0,0,5,10,0,10,0,0,0,10,0,0,0,0,0,0,0,0,0,0,10,0,0,0,0,10,0,0,0,0,0,0,0,0,0,0,0,5,0]
["Sun","2020-11-01","Manchester United ",0,1,"Arsenal","16:30:00",null,0,0,0,0,0,0,0,0,0,0,0,0,0,0,0,0,0,0,0,0,0,0,0,0,0,0,5,"-",0,5,0,0,0,0,0,0,0,0,0,0,0,5,0,0,0,0,0,0,0,0,0,0,0,5,0,0,0,5,0,0,5,0,0,0,0,0,0,0,0,0,0,0,0,0,0]
["Sun","2020-11-01","Tottenham ",2,1,"Brighton","19:15:00",null,5,5,5,5,5,5,5,5,5,5,5,10,5,5,5,5,5,5,5,5,5,5,5,5,5,5,5,"-",5,5,5,5,5,5,5,5,5,5,10,10,5,0,5,5,5,5,5,5,5,5,5,5,5,0,5,5,10,5,10,5,5,10,5,5,5,5,5,5,5,5,5,5,5,5,5]
["Mon","2020-11-02","Fulham ",2,0,"West Brom","17:30:00",null,0,5,0,5,0,0,0,0,5,5,0,5,0,0,0,0,0,0,0,0,0,0,0,0,0,5,0,"-",0,0,5,5,5,0,0,5,0,0,0,0,5,5,0,0,0,0,0,0,5,0,0,0,0,0,5,0,5,0,0,5,5,5,0,0,5,0,5,0,5,5,0,0,5,5,0]
["Mon","2020-11-02","Leeds ",1,4,"Leicester","20:00:00",null,0,0,5,0,0,5,0,0,0,5,0,0,5,0,0,0,5,0,0,0,0,0,0,0,5,0,0,"-",5,5,0,0,0,0,0,5,0,0,5,0,0,0,0,0,0,0,0,5,0,0,5,0,0,0,5,5,0,0,5,5,0,0,0,5,5,0,0,5,0,0,0,0,0,0,0]
["Fri","2020-11-06","Brighton ",0,0,"Burnley","17:30:00",null,5,0,0,0,0,0,5,0,0,5,0,0,0,0,5,0,5,0,0,0,10,0,10,0,0,5,0,"-",0,0,0,0,5,0,5,0,0,0,5,5,0,10,0,0,0,0,0,5,0,0,0,0,0,0,0,0,0,0,0,5,5,5,0,0,5,5,5,0,5,0,5,5,0,0,5]
["Fri","2020-11-06","Southampton ",2,0,"Newcastle","20:00:00",null,5,10,5,5,0,10,5,10,5,5,5,10,0,10,0,5,0,10,10,10,0,5,0,5,5,5,10,"-",5,0,5,5,5,0,10,5,0,5,0,0,0,5,5,5,5,5,5,5,5,5,5,5,0,5,5,5,10,0,5,10,5,0,10,10,0,5,10,10,5,0,5,10,5,5,5]
["Sat","2020-11-07","Everton ",1,3,"Manchester United","12:30:00",null,0,0,0,0,0,0,0,10,0,0,0,0,10,0,0,0,0,0,0,0,0,0,0,0,0,0,0,"-",0,5,0,0,5,0,5,0,5,0,0,0,0,0,0,0,0,0,0,10,5,0,10,0,5,0,0,0,0,0,0,5,0,0,0,0,0,5,0,5,0,0,0,5,0,0,0]
["Sat","2020-11-07","Crystal Palace ",4,1,"Leeds","15:00:00",null,0,0,0,0,0,0,5,0,0,5,0,0,0,0,0,5,0,5,0,0,0,5,0,0,0,0,0,"-",0,0,0,0,0,0,0,5,5,5,5,0,0,5,0,0,0,5,0,0,0,0,0,0,0,0,0,0,0,0,0,0,0,5,0,5,0,0,0,0,0,5,0,5,0,0,0]
["Sat","2020-11-07","Chelsea ",4,1,"Sheffield United","17:30:00",null,5,5,5,5,5,5,5,5,5,10,5,5,5,5,5,5,5,5,5,5,5,5,5,5,5,5,5,"-",5,5,5,5,5,5,5,5,5,5,5,0,5,5,5,5,5,5,5,5,5,5,5,5,5,5,5,5,5,5,5,5,5,5,5,5,5,5,5,5,5,5,5,5,5,5,5]
["Sat","2020-11-07","West Ham ",1,0,"Fulham","15:00:00",null,5,10,5,5,5,5,5,5,5,5,5,5,5,5,5,5,5,5,5,5,5,5,5,5,5,5,5,"-",5,5,5,5,5,5,5,5,5,5,5,0,5,0,10,5,5,5,5,5,10,5,5,5,10,0,5,5,5,5,5,5,5,5,5,5,5,5,5,5,5,5,5,5,10,10,5]
["Sun","2020-11-08","West Brom ",0,1,"Tottenham","12:00:00",null,5,10,5,5,5,5,5,5,5,5,10,5,5,5,5,10,5,5,5,5,5,5,5,5,5,5,5,"-",5,5,5,5,5,5,5,5,5,10,5,0,5,5,5,5,5,5,10,5,5,5,5,5,5,5,5,5,5,5,5,5,5,5,5,10,5,5,5,5,5,5,5,5,5,5,5]
["Sun","2020-11-08","Leicester ",1,0,"Wolves","14:00:00",null,5,10,5,5,5,5,5,5,5,5,5,0,5,10,5,0,5,5,5,10,0,0,5,0,5,5,5,"-",5,5,5,0,5,5,0,0,5,5,5,0,0,0,0,5,5,0,0,5,10,0,5,5,5,0,5,0,0,0,0,0,5,5,0,5,5,0,5,10,0,5,0,0,10,5,0]
["Sun","2020-11-08","Man City ",1,1,"Liverpool","16:30:00",null,5,5,5,0,0,0,0,0,5,0,5,0,10,0,0,0,0,10,0,0,0,0,10,10,0,5,0,"-",0,0,0,0,5,0,0,0,5,0,0,10,0,5,10,0,5,5,10,5,10,0,0,5,0,0,0,0,10,0,5,10,0,0,10,10,0,0,0,0,0,0,5,0,0,10,10]
["Sun","2020-11-08","Arsenal",0,3,"Aston Villa","19:15:00",null,0,0,0,0,0,0,0,0,0,0,0,0,0,0,0,0,0,0,0,0,0,0,0,0,0,0,0,"-",0,0,0,0,0,0,0,0,0,0,0,0,0,0,0,0,0,0,0,0,0,0,0,0,0,0,0,0,0,0,0,0,0,0,0,0,0,0,0,0,0,0,0,0,0,0,0]
["Sat","2020-11-21","Newcastle ",0,2,"Chelsea","12:30:00",null,5,0,10,5,5,5,10,10,0,5,5,0,10,5,10,5,5,0,5,10,5,5,10,5,10,10,10,"-",10,0,10,5,10,0,5,10,10,5,0,5,10,5,10,5,5,5,10,5,10,0,5,5,5,5,5,0,0,5,0,5,5,5,5,0,5,5,10,0,5,5,5,0,5,0,0]
["Sat","2020-11-21","Aston Villa",1,2,"Brighton","15:00:00",null,0,0,0,0,0,0,0,0,0,0,0,0,0,0,0,10,0,0,0,0,0,0,0,0,0,0,0,"-",0,0,0,0,0,0,0,0,0,0,0,0,0,0,0,0,0,0,0,0,0,0,0,0,0,0,0,0,0,0,0,0,0,0,10,0,0,0,0,0,0,0,0,0,0,0,0]
["Sat","2020-11-21","Tottenham ",2,0,"Man City","17:30:00",null,0,5,0,0,5,0,0,0,5,0,0,0,0,0,0,5,0,0,0,0,0,0,0,0,0,0,5,"-",0,5,5,0,0,5,0,0,0,10,0,5,0,0,0,0,0,5,0,0,0,0,5,0,0,0,0,5,5,0,5,0,0,5,0,0,5,0,0,10,0,10,0,10,0,5,0]
["Sat","2020-11-21","Manchester United ",1,0,"West Brom","20:00:00",null,5,10,5,5,5,5,5,5,5,5,10,5,5,5,5,5,5,5,5,5,5,5,10,5,5,5,5,"-",5,5,10,5,5,5,5,5,5,5,5,5,5,5,10,5,5,5,0,5,5,5,5,5,5,0,5,5,5,5,5,5,5,5,5,5,5,5,5,5,5,5,5,5,10,5,5]
["Sun","2020-11-22","Fulham ",2,3,"Everton","12:00:00",null,5,0,5,5,5,5,0,5,5,5,5,5,5,5,5,10,5,0,5,0,5,0,5,5,5,5,5,"-",5,5,5,5,5,0,5,0,5,5,5,5,5,0,5,5,5,5,5,5,5,5,5,5,5,5,5,5,0,5,0,5,5,5,5,5,5,5,5,5,0,5,5,5,0,5,5]
["Sat","2020-11-21","Sheffield United ",0,1,"West Ham","14:00:00",null,0,0,5,10,0,0,0,0,0,10,0,0,5,0,5,0,0,0,5,5,0,5,5,0,0,0,10,"-",10,0,0,5,0,0,0,0,5,0,0,0,0,0,10,0,0,0,0,0,10,0,0,0,0,0,10,0,0,5,0,0,0,0,0,10,5,0,10,5,5,10,0,0,0,5,0]
["Sat","2020-11-21","Leeds ",0,0,"Arsenal","16:30:00",null,0,0,0,0,5,0,0,5,0,0,0,0,0,0,5,0,0,0,0,5,5,5,5,0,5,0,0,"-",0,0,0,0,0,0,5,0,0,0,0,5,0,0,0,0,0,5,5,0,0,0,0,0,0,5,0,0,0,0,0,0,0,0,5,0,5,0,0,0,5,0,0,5,5,0,5]
["Sat","2020-11-21","Liverpool ",3,0,"Leicester","19:15:00",null,0,5,0,0,5,0,5,0,5,5,0,5,5,10,0,5,5,0,0,0,5,5,0,5,0,0,5,"-",0,0,0,5,5,5,0,5,5,5,0,5,0,0,0,0,5,5,5,0,5,5,0,5,0,5,0,5,5,0,5,0,0,5,5,5,0,0,5,5,0,5,0,5,5,0,5]
["Mon","2020-11-23","Burnley ",1,0,"Crystal Palace","17:30:00",null,0,10,0,0,0,0,0,5,0,0,0,0,10,0,0,0,0,0,0,0,0,0,0,10,0,0,0,"-",0,10,0,0,0,5,0,10,0,5,5,0,5,0,0,0,0,0,0,0,0,0,0,0,0,0,0,0,5,0,5,0,10,0,0,0,0,10,0,5,5,10,0,0,0,0,10]
["Mon","2020-11-23","Wolves ",1,1,"Southampton","20:00:00",null,0,0,10,0,0,0,0,0,5,10,0,0,0,0,10,0,5,0,0,0,0,0,0,10,0,5,10,"-",0,0,10,10,0,0,0,0,0,0,0,0,0,10,10,0,0,0,0,0,0,0,0,10,0,0,0,0,0,5,0,0,5,0,10,0,0,0,10,0,0,10,0,0,0,10,0]
["Fri","2020-11-27","Crystal Palace ",0,2," Newcastle","20:00:00",null,0,0,0,0,0,0,0,0,0,0,0,0,5,0,0,0,0,0,0,0,10,0,0,0,0,0,0,"-",0,0,0,0,0,0,0,0,0,0,0,0,0,0,0,0,0,0,5,0,0,0,0,0,0,0,0,0,0,0,0,0,0,0,0,0,0,0,0,0,0,0,0,0,5,0,0]
["Sat","2020-11-28","Brighton ",1,1,"Liverpool","12:30:00",null,0,0,0,0,0,0,0,10,0,0,0,0,0,0,0,0,0,10,0,0,0,0,0,0,0,0,0,"-",0,0,0,0,0,0,0,0,0,0,0,0,0,0,0,0,0,0,0,0,0,0,0,0,0,0,0,0,"-",0,0,10,0,0,0,0,0,0,0,0,0,0,0,0,0,0,0]
["Sat","2020-11-28","Man City ",5,0,"Burnley","15:00:00",null,5,5,5,5,5,5,5,5,5,10,5,5,5,5,5,5,5,5,5,5,5,5,10,5,5,5,5,"-",5,5,5,5,5,5,5,5,5,5,5,5,5,5,10,5,5,5,5,5,5,5,10,5,5,5,5,5,"-",5,5,5,5,5,5,5,5,5,5,5,5,5,5,5,5,5,5]
["Sat","2020-11-28","Everton ",0,1,"Leeds","17:30:00",null,0,0,0,0,0,0,0,0,0,0,0,0,0,0,0,0,0,0,5,0,0,0,0,0,0,0,0,"-",0,0,0,0,0,0,0,0,0,0,0,0,0,0,0,0,0,0,0,0,0,0,0,0,0,5,0,5,"-",0,0,0,0,5,0,0,0,0,0,0,0,0,0,0,0,0,0]
["Sat","2020-11-28","West Brom ",1,0,"Sheffield United","20:00:00",null,0,10,0,0,5,5,0,0,0,0,10,0,0,10,0,0,0,5,0,10,10,0,0,0,0,0,0,"-",0,5,5,0,0,0,5,0,0,10,10,0,0,10,0,5,0,0,5,0,10,0,0,0,0,0,0,0,"-",0,10,10,0,0,0,10,0,0,10,0,10,10,0,0,0,0,0]
["Sun","2020-11-29","Southampton ",2,3,"Manchester United","14:00:00",null,0,5,5,0,0,0,0,5,5,5,5,0,0,0,0,0,5,0,0,5,5,0,5,5,0,5,5,"-",5,0,0,0,0,5,0,0,5,0,0,0,5,0,0,5,0,0,0,5,5,5,5,5,5,0,5,5,"-",0,5,0,5,0,0,0,5,5,0,5,5,0,0,0,5,5,0]
["Sun","2020-11-29","Chelsea ",0,0,"Tottenham","16:30:00",null,5,0,0,5,5,0,0,5,0,5,5,5,5,5,0,0,0,5,0,5,5,0,0,0,0,5,0,"-",0,0,0,5,0,5,0,0,0,5,0,0,5,5,5,5,0,0,5,0,0,10,0,5,0,0,5,0,"-",5,5,0,0,0,5,0,0,0,5,0,5,0,5,0,0,5,0]
["Sun","2020-11-29","Arsenal",1,2,"Wolves","19:15:00",null,0,0,0,0,0,0,0,0,0,0,0,0,0,0,0,0,0,0,0,0,0,0,10,0,0,0,0,"-",0,10,0,0,0,0,0,0,0,0,0,0,0,0,0,0,0,0,0,10,0,5,0,0,0,10,0,0,"-",0,0,0,0,0,0,0,0,0,0,0,0,0,0,0,0,0,0]
["Mon","2020-11-30","Leicester ",1,2,"Fulham","17:30:00",null,0,0,0,0,0,0,0,0,0,0,0,0,0,0,0,0,0,0,0,0,0,0,0,0,0,0,0,"-",0,0,0,0,0,0,0,0,0,0,0,0,0,0,0,0,0,0,0,0,0,0,0,0,0,0,0,0,"-",0,0,0,0,0,0,0,0,0,0,0,0,0,0,0,0,0,0]
["Mon","2020-11-30","West Ham ",2,1,"Aston Villa","20:00:00",null,0,0,0,10,10,5,10,5,0,10,0,10,0,5,0,5,0,10,0,10,10,10,0,10,0,0,10,"-",10,0,10,0,0,0,10,5,5,10,10,5,10,0,10,0,0,5,0,10,5,0,0,0,0,0,5,5,"-",0,10,5,0,0,0,5,0,0,0,0,10,5,0,0,0,0,10]
[]
["Golden Boots"]
["Anthony Martial - Man United",null,null,{"$f":"COUNT(I41:CE41)","v":8},{"$f":"0+0+0+0","v":0},null,null,null,null,null,null,null,null,null,null,null,null,null,null,null,{"$f":"$E41*2","v":0},null,null,null,null,null,null,{"$f":"$E41*2","v":0},null,null,null,{"$f":"$E41*2","v":0},null,null,null,null,null,null,{"$f":"$E41*2","v":0},null,null,null,null,null,null,null,null,null,null,null,null,null,null,null,null,{"$f":"$E41*2","v":0},null,null,null,null,{"$f":"$E41*2","v":0},null,null,null,null,{"$f":"$E41*2","v":0},null,null,null,null,null,null,{"$f":"$E41*2","v":0}]
["Chris Wood - Burnley",null,null,0,{"$f":"0+1+0","v":1}]
["Danny Ings - Southampton",null,null,6,{"$f":"1+0+0+0","v":1},null,null,null,null,null,null,null,null,null,null,null,null,null,null,{"$f":"$E43*2","v":2},null,null,null,null,null,null,null,null,null,null,null,null,null,null,null,null,null,null,null,null,null,{"$f":"$E43*2","v":2},null,null,null,null,null,null,null,null,null,null,null,null,null,null,null,null,null,null,null,null,null,null,null,null,{"$f":"$E43*2","v":2},null,null,{"$f":"$E43*2","v":2},null,null,null,{"$f":"$E43*2","v":2},null,null,null,null,null,null,null,{"$f":"$E43*2","v":2}]
["Harry Kane - Tottenham Hotspur",null,null,44,{"$f":"1+1+0+0","v":2},null,null,null,{"$f":"$E44*2","v":4},4,4,4,4,4,4,null,{"$f":"$E44*2","v":4},{"$f":"$E44*2","v":4},null,null,null,null,{"$f":"$E44*2","v":4},{"$f":"$E44*2","v":4},{"$f":"$E44*2","v":4},{"$f":"$E44*2","v":4},null,null,{"$f":"$E44*2","v":4},4,4,4,4,4,4,{"$f":"$E44*2","v":4},{"$f":"$E44*2","v":4},{"$f":"$E44*2","v":4},{"$f":"$E44*2","v":4},{"$f":"$E44*2","v":4},null,{"$f":"$E44*2","v":4},{"$f":"$E44*2","v":4},{"$f":"$E44*2","v":4},{"$f":"$E44*2","v":4},{"$f":"$E44*2","v":4},null,null,{"$f":"$E44*2","v":4},null,{"$f":"$E44*2","v":4},{"$f":"$E44*2","v":4},{"$f":"$E44*2","v":4},{"$f":"$E44*2","v":4},null,{"$f":"$E44*2","v":4},null,{"$f":"$E44*2","v":4},null,{"$f":"$E44*2","v":4},{"$f":"$E44*2","v":4},null,null,null,{"$f":"$E44*2","v":4},null,null,null,null,null,{"$f":"$E44*2","v":4},{"$f":"$E44*2","v":4},null,null,null,{"$f":"$E44*2","v":4},null,null,null,null,null,{"$f":"$E44*2","v":4}]
["Jamie Vardy - Leicester City",null,null,19,{"$f":"1+1+0+0","v":2},null,null,null,null,null,{"$f":"$E45*2","v":4},null,null,null,null,null,null,null,{"$f":"$E45*2","v":4},null,null,null,null,null,null,{"$f":"$E45*2","v":4},null,null,null,{"$f":"$E45*2","v":4},null,null,null,null,null,null,null,null,null,null,null,null,null,null,{"$f":"$E45*2","v":4},null,{"$f":"$E45*2","v":4},{"$f":"$E45*2","v":4},{"$f":"$E45*2","v":4},{"$f":"$E45*2","v":4},{"$f":"$E45*2","v":4},null,{"$f":"$E45*2","v":4},null,null,null,null,null,null,null,null,{"$f":"$E45*2","v":4},null,null,null,{"$f":"$E45*2","v":4},null,null,{"$f":"$E45*2","v":4},{"$f":"$E45*2","v":4},null,null,null,null,{"$f":"$E45*2","v":4},{"$f":"$E45*2","v":4},null,null,{"$f":"$E45*2","v":4},{"$f":"$E45*2","v":4}]
["Marcus Rashford - Man United",null,null,6,{"$f":"0+0+0+0","v":0},null,null,null,null,null,null,null,null,null,null,{"$f":"$E46*2","v":0},null,null,null,null,null,null,null,null,null,null,null,null,null,null,null,null,null,null,null,null,null,null,null,null,null,null,null,null,null,null,null,null,null,null,null,null,{"$f":"$E46*2","v":0},null,null,null,null,null,{"$f":"$E46*2","v":0},null,{"$f":"$E46*2","v":0},null,null,null,null,null,null,null,null,null,null,null,null,null,null,null,null,null,{"$f":"$E46*2","v":0},null,{"$f":"$E46*2","v":0}]
["Mohamed Salah - Liverpool",null,null,36,{"$f":"1+0+0","v":1},null,null,null,null,null,{"$f":"$E47*2","v":2},{"$f":"$E47*2","v":2},null,null,{"$f":"$E47*2","v":2},null,{"$f":"$E47*2","v":2},2,2,2,2,2,null,{"$f":"$E47*2","v":2},{"$f":"$E47*2","v":2},null,null,{"$f":"$E47*2","v":2},null,null,{"$f":"$E47*2","v":2},{"$f":"$E47*2","v":2},null,null,null,null,null,null,{"$f":"$E47*2","v":2},null,{"$f":"$E47*2","v":2},null,{"$f":"$E47*2","v":2},null,null,null,null,{"$f":"$E47*2","v":2},null,{"$f":"$E47*2","v":2},null,null,null,{"$f":"$E47*2","v":2},{"$f":"$E47*2","v":2},{"$f":"$E47*2","v":2},{"$f":"$E47*2","v":2},{"$f":"$E47*2","v":2},null,null,null,{"$f":"$E47*2","v":2},null,{"$f":"$E47*2","v":2},null,null,{"$f":"$E47*2","v":2},null,null,null,{"$f":"$E47*2","v":2},2,2,2,2,{"$f":"$E47*2","v":2},null,{"$f":"$E47*2","v":2},2,null,null,null,{"$f":"$E47*2","v":2}]
["Pierre Emerick Aubameyang - Arsenal",null,null,45,{"$f":"1+0+0","v":1},null,null,null,null,null,null,{"$f":"$E48*2","v":2},null,{"$f":"$E48*2","v":2},{"$f":"$E48*2","v":2},{"$f":"$E48*2","v":2},{"$f":"$E48*2","v":2},{"$f":"$E48*2","v":2},{"$f":"$E48*2","v":2},null,{"$f":"$E48*2","v":2},{"$f":"$E48*2","v":2},{"$f":"$E48*2","v":2},null,null,null,{"$f":"$E48*2","v":2},{"$f":"$E48*2","v":2},{"$f":"$E48*2","v":2},null,{"$f":"$E48*2","v":2},null,{"$f":"$E48*2","v":2},null,{"$f":"$E48*2","v":2},{"$f":"$E48*2","v":2},{"$f":"$E48*2","v":2},null,null,{"$f":"$E48*2","v":2},{"$f":"$E48*2","v":2},null,{"$f":"$E48*2","v":2},{"$f":"$E48*2","v":2},{"$f":"$E48*2","v":2},null,{"$f":"$E48*2","v":2},{"$f":"$E48*2","v":2},{"$f":"$E48*2","v":2},{"$f":"$E48*2","v":2},{"$f":"$E48*2","v":2},null,null,{"$f":"$E48*2","v":2},{"$f":"$E48*2","v":2},null,{"$f":"$E48*2","v":2},{"$f":"$E48*2","v":2},null,null,null,null,{"$f":"$E48*2","v":2},{"$f":"$E48*2","v":2},null,{"$f":"$E48*2","v":2},null,{"$f":"$E48*2","v":2},null,null,null,{"$f":"$E48*2","v":2},null,{"$f":"$E48*2","v":2},{"$f":"$E48*2","v":2},null,{"$f":"$E48*2","v":2},{"$f":"$E48*2","v":2},null,{"$f":"$E48*2","v":2},{"$f":"$E48*2","v":2},{"$f":"$E48*2","v":2},{"$f":"$E48*2","v":2}]
["Raheem Sterling - Man City",null,null,14,{"$f":"0+0+0","v":0},null,null,null,null,null,null,null,null,null,null,null,null,null,null,null,null,null,null,{"$f":"$E49*2","v":0},null,null,{"$f":"$E49*2","v":0},null,{"$f":"$E49*2","v":0},null,null,null,null,{"$f":"$E49*2","v":0},null,{"$f":"$E49*2","v":0},null,null,null,null,null,null,null,null,null,null,null,null,null,null,null,null,null,null,null,null,null,null,{"$f":"$E49*2","v":0},{"$f":"$E49*2","v":0},null,{"$f":"$E49*2","v":0},{"$f":"$E49*2","v":0},null,{"$f":"$E49*2","v":0},null,null,{"$f":"$E49*2","v":0},{"$f":"$E49*2","v":0},null,{"$f":"$E49*2","v":0},null,null,null,null,null,null,null,null,null,null,null,{"$f":"$E49*2","v":0}]
["Raul Jiminez - Wolves",null,null,1,{"$f":"0+0+0","v":0},null,null,null,null,null,null,null,null,null,null,null,null,null,null,null,null,null,null,null,null,null,null,null,null,null,null,null,null,null,null,null,null,null,null,null,null,null,null,null,null,null,{"$f":"$E50*2","v":0}]
["Richarlison - Everton",null,null,1,{"$f":"0+0+0","v":0},null,null,null,{"$f":"$E51*2","v":0}]
["Sadio Mane - Liverpool",null,null,12,{"$f":"0+0+0","v":0},null,null,null,null,{"$f":"$E52*2","v":0},null,null,{"$f":"$E52*2","v":0},null,null,{"$f":"$E52*2","v":0},null,null,null,null,null,{"$f":"$E52*2","v":0},null,null,null,null,null,null,null,null,null,null,null,{"$f":"$E52*2","v":0},{"$f":"$E52*2","v":0},null,null,null,null,null,null,null,null,null,null,{"$f":"$E52*2","v":0},null,null,null,null,null,{"$f":"$E52*2","v":0},null,null,null,null,null,null,{"$f":"$E52*2","v":0},null,null,null,null,{"$f":"$E52*2","v":0},null,null,null,{"$f":"$E52*2","v":0},null,null,null,null,null,null,null,null,null,null,null,null,{"$f":"$E52*2","v":0}]
["Sergio Aguero - Man City",null,null,9,{"$f":"0+0+0","v":0},null,null,null,null,{"$f":"$E53*2","v":0},null,null,null,null,null,null,null,null,null,{"$f":"$E53*2","v":0},null,null,null,null,null,null,null,null,null,null,null,null,null,null,null,null,null,{"$f":"$E53*2","v":0},null,null,null,{"$f":"$E53*2","v":0},null,null,null,{"$f":"$E53*2","v":0},null,null,null,null,null,null,null,null,null,null,{"$f":"$E53*2","v":0},null,null,null,null,null,null,null,{"$f":"$E53*2","v":0},null,null,null,null,null,null,null,{"$f":"$E53*2","v":0},null,null,null,{"$f":"$E53*2","v":0}]
["Tammy Abraham - Chelsea",null,null,0,{"$f":"1+1+0","v":2}]
["Timo Werner - Chelsea",null,null,24,{"$f":"1+0+0","v":1},null,null,null,{"$f":"$E55*2","v":2},null,null,null,{"$f":"$E55*2","v":2},{"$f":"$E55*2","v":2},null,null,null,null,null,null,null,null,{"$f":"$E55*2","v":2},null,{"$f":"$E55*2","v":2},{"$f":"$E55*2","v":2},{"$f":"$E55*2","v":2},null,null,{"$f":"$E55*2","v":2},null,null,{"$f":"$E55*2","v":2},null,null,null,{"$f":"$E55*2","v":2},{"$f":"$E55*2","v":2},null,{"$f":"$E55*2","v":2},{"$f":"$E55*2","v":2},null,null,{"$f":"$E55*2","v":2},null,null,null,null,null,null,null,{"$f":"$E55*2","v":2},null,null,{"$f":"$E55*2","v":2},null,null,null,null,{"$f":"$E55*2","v":2},null,null,{"$f":"$E55*2","v":2},null,null,null,{"$f":"$E55*2","v":2},null,{"$f":"$E55*2","v":2},{"$f":"$E55*2","v":2},null,null,null,null,null,null,{"$f":"$E55*2","v":2},{"$f":"$E55*2","v":2},null,{"$f":"$E55*2","v":2}]
[]
["Golden Gloves"]
["Alisson Becker - Liverpool",null,null,{"$f":"COUNT(I58:CE58)","v":57},{"$f":"0+1+0","v":1},null,null,null,null,{"$f":"$E58*2","v":2},{"$f":"$E58*2","v":2},{"$f":"$E58*2","v":2},{"$f":"$E58*2","v":2},null,{"$f":"$E58*2","v":2},{"$f":"$E58*2","v":2},null,{"$f":"$E58*2","v":2},{"$f":"$E58*2","v":2},{"$f":"$E58*2","v":2},null,{"$f":"$E58*2","v":2},{"$f":"$E58*2","v":2},{"$f":"$E58*2","v":2},{"$f":"$E58*2","v":2},{"$f":"$E58*2","v":2},null,{"$f":"$E58*2","v":2},null,{"$f":"$E58*2","v":2},null,null,{"$f":"$E58*2","v":2},2,2,2,2,2,null,{"$f":"$E58*2","v":2},{"$f":"$E58*2","v":2},{"$f":"$E58*2","v":2},{"$f":"$E58*2","v":2},{"$f":"$E58*2","v":2},null,{"$f":"$E58*2","v":2},null,{"$f":"$E58*2","v":2},null,{"$f":"$E58*2","v":2},{"$f":"$E58*2","v":2},{"$f":"$E58*2","v":2},{"$f":"$E58*2","v":2},{"$f":"$E58*2","v":2},null,{"$f":"$E58*2","v":2},{"$f":"$E58*2","v":2},{"$f":"$E58*2","v":2},{"$f":"$E58*2","v":2},null,{"$f":"$E58*2","v":2},{"$f":"$E58*2","v":2},2,{"$f":"$E58*2","v":2},2,2,{"$f":"$E58*2","v":2},2,null,{"$f":"$E58*2","v":2},2,2,null,null,{"$f":"$E58*2","v":2},2,2,{"$f":"$E58*2","v":2},2,2,2,null,{"$f":"$E58*2","v":2}]
["Ederson - Man City",null,null,{"$f":"COUNT(I59:CE59)","v":14},{"$f":"0+0+0+1","v":1},null,null,null,{"$f":"$E59*2","v":2},null,null,null,null,null,null,null,{"$f":"$E59*2","v":2},null,null,null,{"$f":"$E59*2","v":2},null,null,null,null,null,{"$f":"$E59*2","v":2},null,{"$f":"$E59*2","v":2},null,{"$f":"$E59*2","v":2},{"$f":"$E59*2","v":2},null,null,null,null,null,null,{"$f":"$E59*2","v":2},null,null,null,null,null,null,null,{"$f":"$E59*2","v":2},null,{"$f":"$E59*2","v":2},null,null,null,null,null,{"$f":"$E59*2","v":2},null,null,null,null,{"$f":"$E59*2","v":2},null,null,null,null,null,null,null,null,null,null,null,null,null,{"$f":"$E59*2","v":2},null,null,null,null,null,null,null,{"$f":"$E59*2","v":2}]
["David de Gea - Man United",null,null,{"$f":"COUNT(I60:CE60)","v":3},{"$f":"0+0+1+0","v":1},null,null,null,null,null,null,null,null,{"$f":"$E60*2","v":2},null,null,null,null,null,null,null,null,null,null,null,null,null,null,null,null,null,null,null,null,null,null,null,null,null,null,null,null,null,null,{"$f":"$E60*2","v":2},null,null,null,null,null,null,null,null,null,null,null,null,null,null,null,null,null,null,null,null,null,null,null,null,null,null,null,{"$f":"$E60*2","v":2}]
["Hugo Lloris - Tottenham Hotspur",null,null,{"$f":"COUNT(I61:CE61)","v":1},{"$f":"0+1+1+1","v":3},null,null,null,null,null,null,null,null,null,null,null,null,null,null,null,null,null,null,null,null,null,null,null,null,null,null,null,null,null,null,null,null,null,null,null,null,null,null,null,null,null,null,null,null,null,null,null,null,null,null,null,null,null,null,null,null,null,null,null,null,null,null,null,{"$f":"$E61*2","v":6}]
["Nick Pope - Burnley",null,null,{"$f":"COUNT(I62:CE62)","v":0},{"$f":"1+1+0","v":2}]
[]
["Sack Race"]
["Brendan Rodgers - Leicester City",null,null,{"$f":"COUNT(I65:CE65)","v":1},null,null,null,null,null,null,null,null,null,null,null,null,null,null,null,null,null,null,null,null,null,null,null,null,null,null,null,null,null,null,null,null,null,null,null,null,null,null,null,null,null,null,null,null,null,null,null,null,null,null,null,null,null,null,null,null,null,null,null,null,null,null,null,{"$f":"$E65*15","v":0}]
["Carlo Ancelotti - Everton",null,null,0]
["Chris Wilder - Sheffield United",null,null,0]
["David Moyes - West Ham United",null,null,14,null,null,null,null,null,null,null,null,{"$f":"$E68*15","v":0},null,null,{"$f":"$E68*15","v":0},null,null,null,null,null,null,null,null,{"$f":"$E68*15","v":0},null,null,{"$f":"$E68*15","v":0},{"$f":"$E68*15","v":0},null,null,null,null,null,{"$f":"$E68*15","v":0},{"$f":"$E68*15","v":0},{"$f":"$E68*15","v":0},null,null,null,null,null,null,{"$f":"$E68*15","v":0},{"$f":"$E68*15","v":0},null,null,null,null,null,null,null,{"$f":"$E68*15","v":0},{"$f":"$E68*15","v":0},null,null,{"$f":"$E68*15","v":0},null,null,null,null,null,null,null,null,null,{"$f":"$E68*15","v":0}]
["Dean Smith - Aston Villa",null,null,16,null,null,null,null,null,null,null,null,null,{"$f":"$E69*15","v":0},{"$f":"$E69*15","v":0},null,null,null,null,null,null,null,{"$f":"$E69*15","v":0},null,null,null,null,null,null,null,null,null,null,null,null,null,null,null,{"$f":"$E69*15","v":0},{"$f":"$E69*15","v":0},null,null,{"$f":"$E69*15","v":0},null,null,{"$f":"$E69*15","v":0},{"$f":"$E69*15","v":0},null,null,{"$f":"$E69*15","v":0},null,{"$f":"$E69*15","v":0},null,null,null,null,null,null,{"$f":"$E69*15","v":0},null,null,null,{"$f":"$E69*15","v":0},null,{"$f":"$E69*15","v":0},{"$f":"$E69*15","v":0},null,null,{"$f":"$E69*15","v":0},null,null,{"$f":"$E69*15","v":0}]
["Frank Lampard - Chelsea",null,null,0]
["Graham Potter - Brighton",null,null,6,null,null,null,null,{"$f":"$E71*15","v":0},null,null,null,null,null,null,null,null,null,null,{"$f":"$E71*15","v":0},null,{"$f":"$E71*15","v":0},null,null,null,null,{"$f":"$E71*15","v":0},null,null,null,null,{"$f":"$E71*15","v":0},null,null,null,null,null,null,null,null,null,null,null,null,null,null,null,null,null,null,null,null,null,null,null,null,null,null,null,null,null,null,null,null,null,null,null,null,null,null,null,null,null,null,null,null,null,null,null,null,{"$f":"$E71*15","v":0}]
["Jose Mourinho - Tottenham Hotspur",null,null,4,null,null,null,null,null,null,null,null,null,null,null,null,null,null,null,null,null,null,null,null,null,null,null,null,null,null,{"$f":"$E72*15","v":0},null,null,null,null,null,null,null,null,null,null,null,null,null,null,null,null,null,null,null,null,null,null,null,null,null,null,null,null,null,null,{"$f":"$E72*15","v":0},null,null,null,null,null,null,null,null,null,null,{"$f":"$E72*15","v":0},null,null,null,null,null,null,null,null,null,{"$f":"$E72*15","v":0}]
["Jurgen Klopp - Liverpool",null,null,0]
["Marco Bielsa - Leeds United",null,null,1,null,null,null,null,null,null,null,null,null,null,null,null,null,null,null,null,null,null,null,null,null,null,null,null,null,null,null,null,null,null,null,null,null,null,null,null,null,null,null,null,null,null,null,null,null,null,null,null,null,null,null,null,null,null,null,null,null,null,null,null,null,null,null,null,null,null,null,null,null,null,null,null,null,{"$f":"$E74*15","v":0}]
["Mikel Arteta - Arsenal",null,null,0]
["Nuno Espirito Santo - Wolves",null,null,0]
["Ole Gunnar Solskjaer - Manchester United",null,null,1,null,null,null,null,null,null,null,null,null,null,null,null,null,null,null,null,null,null,null,null,null,null,null,null,null,null,null,null,null,null,null,null,null,{"$f":"$E77*15","v":0}]
["Pep Guardiola - Manchester City",null,null,1,null,null,null,null,null,null,null,null,null,null,null,null,null,null,null,null,null,null,null,null,null,null,null,null,null,null,null,null,null,null,null,null,null,null,null,null,null,null,null,null,null,null,null,{"$f":"$E78*15","v":0}]
["Ralph Hassenhuttl - Southampton",null,null,2,null,null,null,null,null,null,{"$f":"$E79*15","v":0},null,null,null,null,null,null,null,null,null,null,null,null,null,null,null,null,null,null,null,null,null,null,{"$f":"$E79*15","v":0}]
["Roy Hodgson - Crystal Palace",null,null,8,null,null,null,null,null,{"$f":"$E80*15","v":0},null,{"$f":"$E80*15","v":0},null,null,null,null,null,null,null,null,null,null,null,null,null,null,null,null,null,{"$f":"$E80*15","v":0},null,null,null,null,null,null,null,null,null,null,null,{"$f":"$E80*15","v":0},null,null,null,null,null,null,null,null,null,null,null,null,null,null,null,{"$f":"$E80*15","v":0},null,null,null,null,null,null,null,null,null,null,null,null,{"$f":"$E80*15","v":0},null,null,{"$f":"$E80*15","v":0},null,null,{"$f":"$E80*15","v":0}]
["Scott Parker - Fulham",null,null,3,null,null,null,null,null,null,null,null,null,null,null,null,null,{"$f":"$E81*15","v":0},null,null,null,null,null,null,null,{"$f":"$E81*15","v":0},null,null,null,null,null,null,null,null,null,null,null,null,null,null,null,null,null,null,null,null,null,null,null,null,null,null,null,null,{"$f":"$E81*15","v":0}]
["Sean Dyche - Burnley",null,null,1,null,null,null,null,null,null,null,null,null,null,null,null,null,null,{"$f":"$E82*15","v":0}]
["Slaven Bilic - West Brom",null,null,4,null,null,null,null,null,null,null,null,null,null,null,null,null,null,null,null,{"$f":"$E83*15","v":0},null,null,null,null,null,null,null,null,null,null,null,null,null,null,null,null,null,null,null,{"$f":"$E83*15","v":0},null,null,null,null,null,null,null,null,null,null,null,null,null,null,null,null,null,null,null,{"$f":"$E83*15","v":0},null,null,{"$f":"$E83*15","v":0}]
["Steve Bruce - Newcastle United",null,null,13,null,null,null,null,null,null,null,null,null,null,null,null,{"$f":"$E84*15","v":0},null,null,null,null,null,null,{"$f":"$E84*15","v":0},null,null,null,null,null,null,null,null,{"$f":"$E84*15","v":0},null,null,null,null,null,null,null,null,null,null,null,null,null,null,null,{"$f":"$E84*15","v":0},null,{"$f":"$E84*15","v":0},null,null,null,null,{"$f":"$E84*15","v":0},null,null,null,{"$f":"$E84*15","v":0},null,null,null,null,null,null,null,null,null,{"$f":"$E84*15","v":0},null,null,null,null,{"$f":"$E84*15","v":0},{"$f":"$E84*15","v":0},null,null,{"$f":"$E84*15","v":0},{"$f":"$E84*15","v":0},null,{"$f":"$E84*15","v":0}]
[]
["Grand Total - November",null,null,null,null,null,null,null,{"$f":"SUM(I$3:I85)","v":73},{"$f":"SUM(J$3:J85)","v":116},{"$f":"SUM(K$3:K85)","v":97},{"$f":"SUM(L$3:L85)","v":95},{"$f":"SUM(M$3:M85)","v":88},{"$f":"SUM(N$3:N85)","v":80},{"$f":"SUM(O$3:O85)","v":90},{"$f":"SUM(P$3:P85)","v":114},{"$f":"SUM(Q$3:Q85)","v":85},{"$f":"SUM(R$3:R85)","v":135},{"$f":"SUM(S$3:S85)","v":95},{"$f":"SUM(T$3:T85)","v":91},{"$f":"SUM(U$3:U85)","v":111},{"$f":"SUM(V$3:V85)","v":101},{"$f":"SUM(W$3:W85)","v":85},{"$f":"SUM(X$3:X85)","v":103},{"$f":"SUM(Y$3:Y85)","v":80},{"$f":"SUM(Z$3:Z85)","v":102},{"$f":"SUM(AA$3:AA85)","v":76},{"$f":"SUM(AB$3:AB85)","v":106},{"$f":"SUM(AC$3:AC85)","v":108},{"$f":"SUM(AD$3:AD85)","v":82},{"$f":"SUM(AE$3:AE85)","v":115},{"$f":"SUM(AF$3:AF85)","v":103},{"$f":"SUM(AG$3:AG85)","v":75},{"$f":"SUM(AH$3:AH85)","v":91},{"$f":"SUM(AI$3:AI85)","v":118},{"$f":"SUM(AJ$3:AJ85)","v":8},{"$f":"SUM(AK$3:AK85)","v":110},{"$f":"SUM(AL$3:AL85)","v":93},{"$f":"SUM(AM$3:AM85)","v":103},{"$f":"SUM(AN$3:AN85)","v":90},{"$f":"SUM(AO$3:AO85)","v":88},{"$f":"SUM(AP$3:AP85)","v":68},{"$f":"SUM(AQ$3:AQ85)","v":95},{"$f":"SUM(AR$3:AR85)","v":90},{"$f":"SUM(AS$3:AS85)","v":102},{"$f":"SUM(AT$3:AT85)","v":111},{"$f":"SUM(AU$3:AU85)","v":98},{"$f":"SUM(AV$3:AV85)","v":85},{"$f":"SUM(AW$3:AW85)","v":92},{"$f":"SUM(AX$3:AX85)","v":105},{"$f":"SUM(AY$3:AY85)","v":122},{"$f":"SUM(AZ$3:AZ85)","v":73},{"$f":"SUM(BA$3:BA85)","v":70},{"$f":"SUM(BB$3:BB85)","v":95},{"$f":"SUM(BC$3:BC85)","v":93},{"$f":"SUM(BD$3:BD85)","v":108},{"$f":"SUM(BE$3:BE85)","v":126},{"$f":"SUM(BF$3:BF85)","v":75},{"$f":"SUM(BG$3:BG85)","v":82},{"$f":"SUM(BH$3:BH85)","v":88},{"$f":"SUM(BI$3:BI85)","v":66},{"$f":"SUM(BJ$3:BJ85)","v":68},{"$f":"SUM(BK$3:BK85)","v":96},{"$f":"SUM(BL$3:BL85)","v":81},{"$f":"SUM(BM$3:BM85)","v":86},{"$f":"SUM(BN$3:BN85)","v":73},{"$f":"SUM(BO$3:BO85)","v":103},{"$f":"SUM(BP$3:BP85)","v":114},{"$f":"SUM(BQ$3:BQ85)","v":97},{"$f":"SUM(BR$3:BR85)","v":100},{"$f":"SUM(BS$3:BS85)","v":103},{"$f":"SUM(BT$3:BT85)","v":120},{"$f":"SUM(BU$3:BU85)","v":84},{"$f":"SUM(BV$3:BV85)","v":78},{"$f":"SUM(BW$3:BW85)","v":120},{"$f":"SUM(BX$3:BX85)","v":107},{"$f":"SUM(BY$3:BY85)","v":101},{"$f":"SUM(BZ$3:BZ85)","v":123},{"$f":"SUM(CA$3:CA85)","v":68},{"$f":"SUM(CB$3:CB85)","v":90},{"$f":"SUM(CC$3:CC85)","v":89},{"$f":"SUM(CD$3:CD85)","v":110},{"$f":"SUM(CE$3:CE85)","v":91}]
[]
["Ten Pointers",null,null,null,null,null,null,null,{"$f":"COUNTIF(I$3:I38,\"10\")","v":0},{"$f":"COUNTIF(J$3:J38,\"10\")","v":7},{"$f":"COUNTIF(K$3:K38,\"10\")","v":2},{"$f":"COUNTIF(L$3:L38,\"10\")","v":2},{"$f":"COUNTIF(M$3:M38,\"10\")","v":1},{"$f":"COUNTIF(N$3:N38,\"10\")","v":1},{"$f":"COUNTIF(O$3:O38,\"10\")","v":2},{"$f":"COUNTIF(P$3:P38,\"10\")","v":4},{"$f":"COUNTIF(Q$3:Q38,\"10\")","v":0},{"$f":"COUNTIF(R$3:R38,\"10\")","v":5},{"$f":"COUNTIF(S$3:S38,\"10\")","v":3},{"$f":"COUNTIF(T$3:T38,\"10\")","v":4},{"$f":"COUNTIF(U$3:U38,\"10\")","v":4},{"$f":"COUNTIF(V$3:V38,\"10\")","v":4},{"$f":"COUNTIF(W$3:W38,\"10\")","v":2},{"$f":"COUNTIF(X$3:X38,\"10\")","v":4},{"$f":"COUNTIF(Y$3:Y38,\"10\")","v":0},{"$f":"COUNTIF(Z$3:Z38,\"10\")","v":4},{"$f":"COUNTIF(AA$3:AA38,\"10\")","v":1},{"$f":"COUNTIF(AB$3:AB38,\"10\")","v":5},{"$f":"COUNTIF(AC$3:AC38,\"10\")","v":4},{"$f":"COUNTIF(AD$3:AD38,\"10\")","v":1},{"$f":"COUNTIF(AE$3:AE38,\"10\")","v":6},{"$f":"COUNTIF(AF$3:AF38,\"10\")","v":4},{"$f":"COUNTIF(AG$3:AG38,\"10\")","v":1},{"$f":"COUNTIF(AH$3:AH38,\"10\")","v":1},{"$f":"COUNTIF(AI$3:AI38,\"10\")","v":5},{"$f":"COUNTIF(AJ$3:AJ38,\"10\")","v":0},{"$f":"COUNTIF(AK$3:AK38,\"10\")","v":4},{"$f":"COUNTIF(AL$3:AL38,\"10\")","v":2},{"$f":"COUNTIF(AM$3:AM38,\"10\")","v":4},{"$f":"COUNTIF(AN$3:AN38,\"10\")","v":1},{"$f":"COUNTIF(AO$3:AO38,\"10\")","v":1},{"$f":"COUNTIF(AP$3:AP38,\"10\")","v":0},{"$f":"COUNTIF(AQ$3:AQ38,\"10\")","v":2},{"$f":"COUNTIF(AR$3:AR38,\"10\")","v":2},{"$f":"COUNTIF(AS$3:AS38,\"10\")","v":1},{"$f":"COUNTIF(AT$3:AT38,\"10\")","v":4},{"$f":"COUNTIF(AU$3:AU38,\"10\")","v":3},{"$f":"COUNTIF(AV$3:AV38,\"10\")","v":3},{"$f":"COUNTIF(AW$3:AW38,\"10\")","v":2},{"$f":"COUNTIF(AX$3:AX38,\"10\")","v":4},{"$f":"COUNTIF(AY$3:AY38,\"10\")","v":8},{"$f":"COUNTIF(AZ$3:AZ38,\"10\")","v":0},{"$f":"COUNTIF(BA$3:BA38,\"10\")","v":0},{"$f":"COUNTIF(BB$3:BB38,\"10\")","v":1},{"$f":"COUNTIF(BC$3:BC38,\"10\")","v":3},{"$f":"COUNTIF(BD$3:BD38,\"10\")","v":3},{"$f":"COUNTIF(BE$3:BE38,\"10\")","v":6},{"$f":"COUNTIF(BF$3:BF38,\"10\")","v":1},{"$f":"COUNTIF(BG$3:BG38,\"10\")","v":2},{"$f":"COUNTIF(BH$3:BH38,\"10\")","v":1},{"$f":"COUNTIF(BI$3:BI38,\"10\")","v":1},{"$f":"COUNTIF(BJ$3:BJ38,\"10\")","v":1},{"$f":"COUNTIF(BK$3:BK38,\"10\")","v":1},{"$f":"COUNTIF(BL$3:BL38,\"10\")","v":0},{"$f":"COUNTIF(BM$3:BM38,\"10\")","v":4},{"$f":"COUNTIF(BN$3:BN38,\"10\")","v":0},{"$f":"COUNTIF(BO$3:BO38,\"10\")","v":3},{"$f":"COUNTIF(BP$3:BP38,\"10\")","v":4},{"$f":"COUNTIF(BQ$3:BQ38,\"10\")","v":1},{"$f":"COUNTIF(BR$3:BR38,\"10\")","v":2},{"$f":"COUNTIF(BS$3:BS38,\"10\")","v":4},{"$f":"COUNTIF(BT$3:BT38,\"10\")","v":5},{"$f":"COUNTIF(BU$3:BU38,\"10\")","v":0},{"$f":"COUNTIF(BV$3:BV38,\"10\")","v":1},{"$f":"COUNTIF(BW$3:BW38,\"10\")","v":5},{"$f":"COUNTIF(BX$3:BX38,\"10\")","v":3},{"$f":"COUNTIF(BY$3:BY38,\"10\")","v":2},{"$f":"COUNTIF(BZ$3:BZ38,\"10\")","v":5},{"$f":"COUNTIF(CA$3:CA38,\"10\")","v":0},{"$f":"COUNTIF(CB$3:CB38,\"10\")","v":2},{"$f":"COUNTIF(CC$3:CC38,\"10\")","v":3},{"$f":"COUNTIF(CD$3:CD38,\"10\")","v":3},{"$f":"COUNTIF(CE$3:CE38,\"10\")","v":3}]

{"sheet":"December","index":4,"n_rows":109,"n_cols":83,"rows_kept":109,"cut":false,"hidden":false,"merged":[[1,2,1,5]]}
[null,null,null,null,null,null,null,null,"Aidan Scanlon","Aidan White","Alan White","Anastas Popov","Andy Dunne","Ben Creasey","Bobby Hynes","Brendan Maguire","Brian Prendergast","Brian Haughton","Brian Mullen","Callum Dunne","Calvin McGettigan","Caroline Carroll","Cathal Thornton","Christina Morgan","Ciaran Nelson","Ciaran O'Hart","Con McSweeney","Craig Calvert","Darragh Kenny","David Cooney","David Lavelle","David McGinley","Davy Doyle","Dean White","Derek Brady","Drew Armstrong","Eamon Fox","Eoghan Farrelly","Fiachra O'Brolachain","Frank McSweeney","Gareth Pierpoint","Gary Donnelly","Gary Fitzpatrick","Gary McGurk","Gavin Goodwin","Gavin Morgan","George McGettigan","Gerard McCluskey","Gerry Draper","Gerry Moore","Graham Goodwin","Javier Suarez","Joe Behan","Joe Turner","John Brophy","John O'Driscoll","Jonathan Fox","Joseph Kavanagh","Kev Dalton","Kevin Philpott","Kris Stainton","Liam Geraghty","Liam Keohan","Lionel Knott","Michael Kenaney","Micheal Joyce","Niall Cannon","Niall Carroll","Niall Murray","Patrick Mifsud","Paul Moore","Paul Prendergast","Phil Doyle","Philip Jordan","Ralph Goodwin","Richard Johnston","Robert Hynes","Robert Manley","Roisin Joyce","Sean O'Mairtin","Trevor Byrne","Victoria Reid","Wayne Donovan"]
["Day","Date","Teams",null,null,null,"Time"]
["Sat","2020-12-05","Burnley ",1,1,"Everton","12:30:00",null,0,0,0,0,0,0,10,10,10,0,0,0,0,0,10,0,0,10,10,10,0,0,0,0,0,0,0,"-",0,0,0,0,0,0,0,0,0,0,10,0,0,0,10,0,0,0,0,0,0,10,0,0,0,0,0,0,"-",0,0,0,0,0,0,10,0,0,0,0,0,0,0,10,0,0,10]
["Sat","2020-12-05","Man City ",2,0,"Fulham","15:00:00",null,5,5,5,5,10,10,5,5,5,5,5,5,5,5,5,5,5,5,5,5,5,5,5,5,5,5,5,"-",5,5,10,5,5,5,5,5,5,5,0,5,5,5,5,5,5,5,5,5,5,5,5,5,10,5,5,5,"-",5,5,5,5,10,5,5,5,5,5,5,5,5,5,5,5,5,5]
["Sat","2020-12-05","West Ham ",1,3,"Manchester United","17:30:00",null,5,5,5,0,0,0,5,5,0,5,5,0,10,0,0,5,5,0,0,5,0,0,0,5,5,10,5,"-",5,0,5,0,0,0,0,0,5,0,0,0,0,0,0,5,0,0,5,5,5,5,10,5,10,0,5,5,"-",10,5,5,0,0,0,0,5,5,5,5,0,0,0,0,0,0,0]
["Sat","2020-12-05","Chelsea ",3,1,"Leeds","20:00:00",null,10,5,10,5,5,5,10,5,10,10,5,0,5,5,5,5,5,5,10,0,5,10,10,5,5,5,5,"-",5,10,10,10,5,5,5,5,5,5,5,5,5,0,5,5,5,5,10,0,5,10,5,5,5,5,5,5,"-",10,5,5,10,10,5,5,5,10,10,5,10,5,0,5,5,5,5]
["Sun","2020-12-06","West Brom ",1,5,"Crystal Palace","12:30:00",null,0,0,0,0,0,0,5,5,0,5,0,5,0,0,0,5,0,0,5,5,0,0,0,0,5,0,5,"-",5,0,5,0,0,5,0,0,5,0,0,0,0,0,0,0,0,0,0,5,0,0,5,5,0,5,5,0,"-",5,0,0,0,5,5,0,0,0,0,0,0,0,0,5,0,0,0]
["Sun","2020-12-06","Sheffield United ",1,2,"Leicester","14:15:00",null,0,5,5,5,10,0,5,10,5,10,5,5,5,10,10,0,5,5,10,10,5,10,5,0,5,5,5,"-",10,10,5,5,10,0,0,10,5,5,0,0,10,5,5,5,5,0,5,5,5,5,5,10,5,10,5,5,"-",0,5,5,10,10,5,0,5,0,5,5,10,10,10,0,0,5,0]
["Sun","2020-12-06","Tottenham ",2,0,"Arsenal","16:30:00",null,5,5,0,10,5,10,5,10,5,5,0,5,0,10,10,5,5,5,5,10,5,0,5,5,0,10,5,"-",10,5,5,0,10,0,5,0,5,5,5,10,5,0,5,10,10,10,5,5,5,10,10,5,5,0,0,5,"-",0,10,5,0,5,10,10,5,5,5,0,5,10,10,5,5,5,5]
["Sun","2020-12-06","Liverpool ",4,0,"Wolves","19:15:00",null,0,5,5,5,5,5,5,0,5,5,5,5,5,5,5,5,5,0,5,0,5,5,5,5,5,5,5,"-",5,5,5,5,5,5,5,5,5,5,5,5,5,0,5,5,5,5,0,0,5,5,5,5,0,5,5,5,"-",5,5,0,0,5,5,5,5,5,5,5,5,5,0,5,5,5,5]
["Mon","2020-12-07","Brighton ",1,2,"Southampton","20:00:00",null,10,0,5,10,5,0,0,0,0,0,0,10,0,0,10,0,0,0,10,10,5,0,5,0,5,5,0,"-",5,0,0,5,10,0,0,0,0,0,0,0,0,0,5,5,0,0,0,0,5,0,10,10,5,0,5,10,"-",5,0,5,0,5,10,10,10,0,5,10,0,10,0,0,10,0,0]
["Fri","2020-12-11","Leeds ",1,2,"West Ham","20:00:00",null,0,0,0,0,0,"-",0,0,0,0,0,0,5,10,10,0,10,0,0,0,0,0,0,0,0,0,0,"-",0,0,0,0,0,0,0,0,0,0,0,0,0,0,0,0,0,0,0,0,0,0,0,0,0,0,0,10,"-",0,0,0,0,0,0,0,0,0,0,0,0,0,0,0,0,10,0]
["Sat","2020-12-12","Wolves ",0,1,"Aston Villa","12:30:00",null,0,5,0,0,0,"-",0,0,0,0,0,0,0,0,0,0,0,0,0,0,0,0,0,0,0,0,0,"-",5,0,0,0,5,0,0,0,0,0,0,0,5,10,0,0,0,0,0,0,0,0,0,0,5,0,0,0,"-",5,10,0,0,5,0,0,5,0,0,0,0,0,0,0,0,10,0]
["Sat","2020-12-12","Newcastle ",2,1,"West Brom","15:00:00",null,10,5,5,5,5,"-",5,10,5,5,10,10,5,0,5,10,5,5,5,10,5,5,0,5,5,5,5,"-",5,5,0,5,5,0,0,5,10,5,10,5,0,5,5,5,5,5,5,5,5,5,0,10,5,0,5,0,"-",10,5,0,5,5,0,5,10,5,5,10,0,5,5,10,5,5,5]
["Sat","2020-12-12","Manchester United ",0,0,"Man City","17:30:00",null,0,5,5,0,0,"-",5,0,0,0,0,0,0,0,0,0,0,0,0,0,5,0,0,5,0,0,0,"-",0,0,0,0,0,5,5,5,0,0,0,0,0,0,0,5,0,0,0,0,0,0,0,0,0,5,0,0,"-",0,0,0,0,5,0,5,0,0,0,0,5,5,0,5,0,0,0]
["Sat","2020-12-12","Everton ",1,0,"Chelsea","20:00:00",null,0,0,0,0,0,"-",0,0,0,0,0,5,0,0,0,0,0,0,0,0,0,0,0,0,0,0,0,"-",0,0,0,0,0,0,0,0,0,0,0,0,0,0,0,0,0,0,5,0,0,0,0,0,0,0,0,0,"-",0,0,0,0,0,0,0,5,0,0,0,0,0,0,0,0,0,0]
["Sun","2020-12-13","Southampton ",3,0,"Sheffield United","12:00:00",null,5,0,5,5,5,"-",5,5,5,10,5,5,5,10,5,5,5,5,5,10,5,10,10,5,5,5,5,"-",5,5,5,5,5,5,10,0,0,5,10,5,5,5,5,0,5,5,0,5,5,5,5,5,0,5,5,5,"-",5,5,10,5,5,5,5,0,5,5,5,5,5,5,5,0,0,5]
["Sun","2020-12-13","Crystal Palace ",1,1,"Tottenham","14:15:00",null,0,0,0,0,0,"-",10,0,0,0,0,0,0,0,0,0,0,0,0,0,0,0,0,0,0,0,0,"-",0,0,0,0,0,0,0,0,0,0,0,10,0,10,0,0,0,10,10,0,0,0,0,0,0,10,0,0,"-",0,0,0,0,0,0,0,0,0,0,0,0,0,0,10,0,0,0]
["Sun","2020-12-13","Fulham ",1,1,"Liverpool","16:30:00",null,0,0,0,0,0,"-",0,0,0,0,0,0,0,0,0,0,0,0,0,0,0,0,0,0,0,0,0,"-",0,0,0,0,0,0,0,0,0,0,0,0,0,0,0,0,0,0,0,0,0,0,0,0,0,0,0,0,"-",0,0,0,0,0,0,0,0,0,0,0,0,0,0,0,0,0,0]
["Sun","2020-12-13","Arsenal",0,1,"Burnley","19:15:00",null,0,0,0,0,0,"-",0,0,0,0,0,0,0,0,0,0,0,0,0,0,0,0,0,0,0,0,0,"-",0,0,0,0,0,0,0,0,0,0,0,0,0,0,0,0,0,0,0,0,0,0,5,0,0,0,0,0,"-",0,0,0,0,0,0,0,0,0,0,0,0,0,0,0,0,10,0]
["Sun","2020-12-13","Leicester ",3,0,"Brighton","19:15:00",null,5,5,5,5,5,"-",5,5,10,5,5,5,5,0,5,5,5,5,5,5,5,5,5,5,5,5,10,"-",5,0,5,5,5,10,5,5,5,5,10,5,5,5,0,5,5,5,5,5,5,5,5,5,5,10,5,5,"-",5,10,5,5,5,5,5,5,5,5,5,5,5,5,5,5,0,5]
["Tue","2020-12-15","Wolves ",2,1,"Chelsea","18:00:00",null,0,0,10,0,0,"-",10,0,10,0,0,10,0,0,0,5,0,0,0,0,10,0,0,10,0,0,10,"-",0,0,0,0,0,0,0,5,0,0,0,0,0,0,0,0,0,0,0,0,0,0,0,0,0,0,0,0,"-",0,0,0,0,0,0,0,0,0,0,0,10,0,0,0,0,10,10]
["Tue","2020-12-15","Man City ",1,1,"West Brom","20:00:00",null,0,0,0,0,0,"-",0,0,0,0,0,0,0,0,0,0,0,0,0,0,0,0,0,0,0,0,0,"-",0,0,0,0,0,0,0,0,0,0,0,0,0,0,0,0,0,0,0,0,0,0,0,0,0,0,0,0,"-",0,0,0,0,0,0,0,0,0,0,0,0,0,5,0,0,0,0]
["Wed","2020-12-16","Arsenal",1,1,"Southampton","18:00:00",null,0,0,10,0,5,"-",0,0,0,10,0,0,5,0,0,10,0,10,0,0,0,0,0,10,5,10,0,"-",0,10,0,10,10,0,10,0,0,10,10,5,0,0,0,5,0,5,0,5,10,0,0,0,0,0,0,0,"-",10,0,0,0,0,10,0,5,0,0,0,0,0,5,0,0,0,10]
["Wed","2020-12-16","Leeds ",5,2,"Newcastle","18:00:00",null,5,0,5,5,0,"-",5,0,5,0,0,5,0,5,5,5,0,5,5,5,0,5,5,5,5,0,5,"-",5,0,5,5,5,0,5,0,5,5,0,5,5,0,0,5,5,5,5,5,5,5,0,5,5,5,5,5,"-",5,5,5,0,5,0,5,5,5,5,5,5,5,0,5,0,5,5]
["Wed","2020-12-16","Leicester ",0,2,"Everton","18:00:00",null,0,0,0,0,0,"-",0,0,0,5,0,0,0,0,0,0,0,0,0,0,0,0,0,0,0,0,0,"-",0,0,0,0,0,0,0,0,0,0,0,0,0,0,0,0,0,0,0,0,0,0,0,0,0,0,0,0,"-",0,0,0,0,0,0,0,0,0,0,0,0,0,0,0,0,0,0]
["Wed","2020-12-16","Fulham ",0,0,"Brighton","20:00:00",null,5,5,0,0,10,"-",5,0,5,10,5,5,5,0,0,10,5,0,5,0,0,5,10,5,0,0,0,"-",0,5,0,0,5,0,0,0,5,0,0,5,0,10,0,10,5,5,10,5,0,0,5,5,0,0,0,5,"-",5,10,5,0,0,5,10,0,0,0,5,5,0,5,0,5,0,5]
["Wed","2020-12-16","Liverpool ",2,1,"Tottenham","20:00:00",null,0,0,0,10,10,"-",10,0,10,5,5,10,0,10,0,5,10,0,0,0,0,0,0,10,10,0,5,"-",10,0,0,5,5,10,5,10,0,5,0,10,10,0,10,5,5,10,5,0,5,5,10,0,0,5,10,10,"-",0,10,0,0,0,10,5,0,0,10,5,10,5,5,10,5,0,10]
["Wed","2020-12-16","West Ham ",1,1,"Crystal Palace","20:00:00",null,0,10,10,0,0,"-",10,5,10,0,0,10,0,0,0,0,10,0,0,0,0,0,0,10,5,0,0,"-",0,0,10,0,0,5,10,0,0,0,0,10,0,10,0,0,0,10,5,0,0,10,0,0,0,10,0,0,"-",10,5,10,0,5,0,10,0,0,5,0,0,5,5,0,0,0,10]
["Thu","2020-12-17","Aston Villa ",0,0,"Burnley","18:00:00",null,0,0,0,0,5,"-",5,0,0,5,5,5,0,0,5,0,0,0,0,0,0,0,0,0,0,0,0,"-",0,0,0,0,0,0,0,0,0,0,5,0,0,5,0,0,0,0,0,0,0,0,0,0,0,0,0,0,"-",0,0,0,0,0,0,0,0,0,0,0,5,0,0,5,0,5,0]
["Thu","2020-12-17","Sheffield United ",2,3,"Manchester United","20:00:00",null,5,5,5,5,5,"-",5,5,5,5,5,0,5,5,5,5,5,5,5,5,5,5,5,5,5,5,0,"-",5,5,0,5,5,0,5,5,5,5,5,5,5,5,5,5,0,5,0,5,5,5,5,5,5,5,5,5,"-",0,5,5,0,5,0,5,5,5,5,5,5,5,5,5,0,5,5]
["Sat","2020-12-19","Crystal Palace ",0,7,"Liverpool","12:30:00",null,0,5,5,5,5,"-",5,0,5,5,0,0,0,5,5,5,5,0,5,5,5,0,5,5,0,5,5,"-",5,5,5,5,5,0,5,5,5,0,5,5,5,0,0,5,5,5,0,0,5,5,5,5,5,5,5,0,"-",0,0,0,0,0,5,5,0,5,5,5,5,5,0,5,5,0,5]
["Sat","2020-12-19","Southampton ",0,1,"Man City","15:00:00",null,0,5,5,5,0,"-",5,5,5,5,0,0,5,0,0,0,5,0,5,0,0,0,5,0,5,5,5,"-",5,5,0,5,5,0,0,0,5,0,5,0,0,0,5,5,0,0,0,5,10,5,5,5,5,5,5,0,"-",5,0,5,5,0,0,0,0,5,5,5,5,0,0,5,5,5,0]
["Sat","2020-12-19","Everton ",2,1,"Arsenal","17:30:00",null,5,0,0,5,5,"-",0,10,10,10,10,"-",10,5,10,10,5,0,0,5,10,10,10,10,10,0,0,"-",5,0,5,10,10,10,5,10,10,5,10,0,5,0,5,0,0,5,5,10,5,10,0,0,10,0,0,0,"-",5,10,5,10,10,5,5,10,0,10,10,10,5,5,5,0,0,0]
["Sat","2020-12-19","Newcastle ",1,1,"Fulham","20:00:00",null,0,0,0,0,0,"-",10,0,0,0,0,"-",0,10,10,10,0,10,0,0,0,10,10,0,0,10,0,"-",0,0,10,10,0,0,10,0,10,0,0,5,0,0,0,0,0,0,0,0,0,0,10,0,0,0,0,0,"-",0,0,10,10,0,0,0,0,0,0,0,10,0,0,0,0,0,0]
["Sun","2020-12-20","Brighton ",1,1,"Sheffield United","12:00:00",null,0,0,0,0,0,"-",10,5,0,0,0,"-",0,0,10,0,0,10,0,0,0,0,5,0,0,0,10,"-",0,0,0,10,10,0,0,0,0,0,10,0,0,5,10,0,10,0,0,0,0,0,0,0,10,0,5,0,"-",0,0,0,0,0,10,0,0,10,0,0,0,0,0,5,0,0,10]
["Sun","2020-12-20","Tottenham ",0,2,"Leicester","14:15:00",null,0,0,0,0,0,"-",0,0,0,0,0,"-",0,0,0,0,0,0,0,0,0,0,0,0,0,0,0,"-",0,0,0,0,0,0,5,0,0,0,0,0,0,0,0,0,0,0,0,0,0,0,0,0,0,0,5,0,"-",0,0,0,0,0,0,0,0,0,0,0,0,0,0,0,0,0,0]
["Sun","2020-12-20","Manchester United ",6,2,"Leeds","16:30:00",null,5,5,5,5,0,"-",5,5,5,5,5,"-",5,0,5,5,5,0,0,5,5,5,0,5,0,5,5,"-",5,0,0,5,5,5,5,5,5,5,5,5,5,0,0,5,5,5,5,5,5,5,5,5,5,0,0,0,"-",0,5,5,0,5,0,5,5,5,0,0,5,5,0,5,0,5,5]
["Sun","2020-12-20","West Brom ",0,3,"Aston Villa","19:15:00",null,0,0,0,0,0,"-",0,0,0,0,0,"-",5,0,0,0,5,0,5,0,0,0,5,0,5,0,5,"-",5,5,5,0,5,0,0,0,0,5,0,0,0,0,5,0,0,0,0,0,5,5,5,0,0,0,0,5,"-",0,0,0,5,0,0,0,0,5,0,5,5,0,0,0,0,5,0]
["Mon","2020-12-21","Burnley ",2,1,"Wolves","17:30:00",null,5,0,0,0,0,"-",0,0,0,0,10,"-",0,0,0,0,0,0,0,0,0,10,0,0,10,0,0,"-",0,10,0,0,0,10,0,0,0,0,0,5,0,0,0,0,0,0,5,0,0,0,0,0,5,0,5,0,"-",0,10,0,0,10,0,0,10,0,0,0,0,5,0,5,0,5,0]
["Mon","2020-12-21","Chelsea ",3,0,"West Ham","20:00:00",null,5,5,5,5,5,"-",5,5,5,5,5,"-",5,0,5,5,5,0,5,5,0,5,5,5,10,5,5,"-",5,0,0,5,10,5,5,5,5,5,5,5,5,0,5,5,5,5,5,5,5,5,5,5,5,5,5,10,"-",10,5,5,5,5,5,5,5,5,5,10,5,5,5,5,0,5,5]
["Sat","2020-12-26","Leicester ",2,2,"Manchester United","12:30:00",null,0,5,5,0,0,"-",5,0,10,0,10,"-",0,0,5,0,0,5,0,0,0,10,0,0,0,10,0,"-",5,0,0,0,0,0,0,5,0,0,5,0,0,10,0,0,0,10,5,0,0,10,0,0,0,0,0,0,"-",5,0,0,0,10,10,5,0,0,0,0,5,5,5,10,5,0,5]
["Sat","2020-12-26","Aston Villa ",3,0,"Crystal Palace","15:00:00",null,5,5,5,5,5,"-",0,0,5,5,5,"-",5,0,0,5,5,5,5,5,5,5,5,5,5,0,0,"-",5,5,10,5,5,5,0,5,5,5,0,5,5,5,5,5,5,5,5,5,5,5,5,0,5,0,5,0,"-",0,0,0,0,0,0,5,5,5,10,5,5,5,0,5,5,5,5]
["Sat","2020-12-26","Fulham ",0,0,"Southampton","15:00:00",null,0,0,0,0,0,"-",0,5,5,5,0,"-",0,0,0,0,0,0,5,0,0,5,0,0,0,0,0,"-",0,5,0,0,0,0,0,0,0,0,5,0,0,0,0,0,0,0,0,0,0,0,0,0,0,0,0,0,"-",5,5,0,0,0,0,0,0,5,0,0,5,0,10,0,5,5,5]
["Sat","2020-12-26","Arsenal",3,1,"Chelsea","17:30:00",null,0,0,0,0,0,"-",0,0,0,0,0,"-",5,0,0,0,0,0,0,0,0,0,5,0,0,0,0,"-",0,0,0,5,0,5,0,0,0,0,0,0,0,0,0,0,0,0,0,0,0,0,0,0,0,0,0,0,"-",0,0,0,0,0,0,0,0,0,0,0,0,0,0,0,0,0,0]
["Sat","2020-12-26","Man City ",2,0,"Newcastle","20:00:00",null,5,10,5,5,10,"-",5,5,5,5,5,"-",10,5,10,5,5,5,5,5,5,5,10,5,5,5,5,"-",10,5,10,5,5,5,5,10,5,5,0,5,5,5,5,5,5,5,0,5,5,5,5,5,5,5,5,5,"-",0,5,5,5,5,10,5,10,10,5,5,5,5,5,5,10,5,10]
["Sat","2020-12-26","Sheffield United ",0,1,"Everton","20:00:00",null,5,0,5,10,5,"-",0,0,5,5,5,"-",0,0,5,0,5,10,5,0,5,5,0,0,5,5,5,"-",10,0,5,0,0,0,5,0,5,0,0,0,0,5,10,5,0,0,0,0,10,0,5,5,10,5,5,5,"-",0,10,5,5,5,5,0,5,0,10,5,0,5,0,0,5,0,0]
["Sun","2020-12-27","Leeds ",1,0,"Burnley","12:00:00",null,5,10,5,5,5,"-",5,5,5,5,5,"-",5,5,5,5,5,10,5,5,5,5,5,5,5,5,5,"-",5,5,0,10,5,5,0,10,0,5,0,5,5,5,5,5,5,5,5,0,5,5,5,5,5,5,5,5,"-",0,5,0,5,10,5,5,5,5,5,5,5,0,5,5,0,5,5]
["Sun","2020-12-27","West Ham ",2,2,"Brighton","14:15:00",null,0,0,0,0,0,"-",0,0,0,0,0,"-",0,0,0,0,0,0,0,0,0,0,0,0,0,0,0,"-",0,0,0,0,0,0,0,0,0,0,0,0,0,0,0,0,0,0,0,0,0,0,0,0,0,0,0,0,"-",0,0,0,0,0,0,0,0,0,0,0,0,0,0,0,0,0,0]
["Sun","2020-12-27","Liverpool ",1,1,"West Brom","16:30:00",null,0,0,0,0,0,"-",0,0,0,0,0,"-",0,0,0,0,0,0,0,0,0,0,0,0,0,0,0,"-",0,0,0,0,0,0,0,0,0,0,10,0,0,0,0,0,0,0,0,0,0,0,0,0,0,0,0,0,"-",10,0,0,0,0,0,0,0,0,0,0,0,0,0,0,0,0,0]
["Sun","2020-12-27","Wolves ",1,1,"Tottenham","19:15:00",null,0,0,5,0,5,"-",10,0,5,0,0,"-",0,10,0,0,0,0,0,10,0,10,0,10,10,0,5,"-",0,0,0,0,0,0,10,5,0,0,10,0,10,10,0,5,0,0,0,10,0,0,0,0,0,0,0,10,"-",10,0,0,0,0,5,10,0,0,0,0,0,10,5,0,0,0,0]
["Mon","2020-12-28","Crystal Palace ",1,1,"Leicester","15:00:00",null,0,0,0,0,10,"-",0,5,0,0,0,"-",0,0,0,0,0,10,0,0,0,0,0,0,0,0,0,"-",0,0,0,0,0,"-",10,0,10,0,10,0,0,0,10,0,0,0,10,0,0,0,0,0,0,0,0,0,"-",10,0,0,0,0,0,0,0,0,0,0,0,0,0,0,0,0,0]
["Mon","2020-12-28","Chelsea ",1,1,"Aston Villa","17:30:00",null,0,5,0,0,0,"-",0,0,0,0,0,0,0,0,5,0,0,0,0,5,10,0,0,0,0,0,0,"-",0,0,0,0,0,"-",0,0,0,0,10,0,0,5,0,0,0,0,0,0,0,0,0,0,0,0,0,0,"-",10,0,0,0,0,0,0,0,0,0,0,0,0,0,0,0,0,0]
["Tue","2020-12-29","Brighton ",0,1,"Arsenal","18:00:00",null,5,0,5,0,0,"-",5,5,0,5,5,5,0,0,0,0,0,0,5,0,0,0,0,5,5,5,5,"-",5,5,5,0,0,"-",0,5,0,0,0,0,0,0,0,0,0,0,10,0,10,5,5,5,5,5,5,5,"-",0,5,5,5,0,0,0,5,5,10,5,5,5,0,5,5,10,0]
["Tue","2020-12-29","Burnley",1,0,"Sheffield United","18:00:00",null,0,5,10,10,5,"-",10,0,10,0,0,10,5,5,10,10,0,5,5,10,5,5,5,10,0,10,10,"-",10,0,0,10,0,"-",5,5,5,10,0,10,5,5,0,10,0,10,0,0,10,0,0,5,0,5,10,0,"-",0,0,5,0,5,5,5,5,0,5,10,5,5,0,5,0,0,10]
["Tue","2020-12-29","Southampton ",0,0,"West Ham","18:00:00",null,0,5,0,0,0,"-",0,0,0,0,0,0,5,5,0,0,5,5,0,0,5,0,0,0,0,0,5,"-",0,0,0,0,0,"-",0,0,5,0,5,0,0,0,0,0,0,0,0,5,0,0,0,5,0,5,0,5,"-",5,0,5,5,0,0,0,0,0,0,0,0,0,5,0,0,0,0]
["Tue","2020-12-29","West Brom ",0,5,"Leeds","18:00:00",null,0,0,5,5,5,"-",0,0,0,0,0,5,0,0,0,5,5,5,5,5,0,5,0,0,5,0,5,"-",5,5,0,0,5,"-",5,0,5,5,0,0,5,0,0,0,0,5,0,5,5,5,0,0,5,5,5,0,"-",0,5,0,5,5,0,0,0,5,5,5,5,5,5,0,0,5,5]
["Tue","2020-12-29","Manchester United ",1,0,"Wolves","20:00:00",null,5,5,5,5,5,"-",0,5,5,5,5,0,5,0,5,5,10,5,5,5,5,5,5,5,5,5,0,"-",5,0,0,10,5,"-",0,0,5,5,"-",10,5,5,5,5,5,0,5,5,5,5,5,5,5,0,5,5,"-",0,5,10,5,5,0,5,5,5,5,5,5,0,5,0,0,5,0]
["Wed","2020-12-30","Newcastle ",0,0,"Liverpool","20:00:00",null,0,0,0,0,0,"-",0,0,0,0,0,0,0,0,0,0,0,0,0,0,0,0,0,0,0,0,0,"-",0,0,0,0,0,"-",0,5,0,0,"-",0,0,0,0,0,0,0,0,0,0,0,0,0,0,0,0,0,"-",5,0,0,5,0,0,0,0,0,0,0,0,0,0,0,0,0,0]
[]
["Golden Boots"]
["Anthony Martial - Man United",null,null,{"$f":"COUNT(I62:CE62)","v":8},{"$f":"0+0+1+0+0+0","v":1},null,null,null,null,null,null,null,null,null,null,null,null,null,null,null,{"$f":"$E62*2","v":2},null,null,null,null,null,null,{"$f":"$E62*2","v":2},null,null,null,{"$f":"$E62*2","v":2},null,null,null,null,null,null,{"$f":"$E62*2","v":2},null,null,null,null,null,null,null,null,null,null,null,null,null,null,null,null,{"$f":"$E62*2","v":2},null,null,null,null,{"$f":"$E62*2","v":2},null,null,null,null,{"$f":"$E62*2","v":2},null,null,null,null,null,null,{"$f":"$E62*2","v":2}]
["Chris Wood - Burnley",null,null,0,{"$f":"0+0+0+1+0+0","v":1}]
["Danny Ings - Southampton",null,null,6,{"$f":"1+0+0+0+0+0","v":1},null,null,null,null,null,null,null,null,null,null,null,null,null,null,{"$f":"$E64*2","v":2},null,null,null,null,null,null,null,null,null,null,null,null,null,null,null,null,null,null,null,null,null,{"$f":"$E64*2","v":2},null,null,null,null,null,null,null,null,null,null,null,null,null,null,null,null,null,null,null,null,null,null,null,null,{"$f":"$E64*2","v":2},null,null,{"$f":"$E64*2","v":2},null,null,null,{"$f":"$E64*2","v":2},null,null,null,null,null,null,null,{"$f":"$E64*2","v":2}]
["Harry Kane - Tottenham Hotspur",null,null,44,{"$f":"1+1+0+0+0","v":2},null,null,null,{"$f":"$E65*2","v":4},4,4,4,4,4,4,null,{"$f":"$E65*2","v":4},{"$f":"$E65*2","v":4},null,null,null,null,{"$f":"$E65*2","v":4},{"$f":"$E65*2","v":4},{"$f":"$E65*2","v":4},{"$f":"$E65*2","v":4},null,null,{"$f":"$E65*2","v":4},4,4,4,4,4,4,{"$f":"$E65*2","v":4},{"$f":"$E65*2","v":4},{"$f":"$E65*2","v":4},{"$f":"$E65*2","v":4},{"$f":"$E65*2","v":4},null,{"$f":"$E65*2","v":4},{"$f":"$E65*2","v":4},{"$f":"$E65*2","v":4},{"$f":"$E65*2","v":4},{"$f":"$E65*2","v":4},null,null,{"$f":"$E65*2","v":4},null,{"$f":"$E65*2","v":4},{"$f":"$E65*2","v":4},{"$f":"$E65*2","v":4},{"$f":"$E65*2","v":4},null,{"$f":"$E65*2","v":4},null,{"$f":"$E65*2","v":4},null,{"$f":"$E65*2","v":4},{"$f":"$E65*2","v":4},null,null,null,{"$f":"$E65*2","v":4},null,null,null,null,null,{"$f":"$E65*2","v":4},{"$f":"$E65*2","v":4},null,null,null,{"$f":"$E65*2","v":4},null,null,null,null,null,{"$f":"$E65*2","v":4}]
["Jamie Vardy - Leicester City",null,null,19,{"$f":"1+1+0+1+0+0","v":3},null,null,null,null,null,{"$f":"$E66*2","v":6},null,null,null,null,null,null,null,{"$f":"$E66*2","v":6},null,null,null,null,null,null,{"$f":"$E66*2","v":6},null,null,null,{"$f":"$E66*2","v":6},null,null,null,null,null,null,null,null,null,null,null,null,null,null,{"$f":"$E66*2","v":6},null,{"$f":"$E66*2","v":6},{"$f":"$E66*2","v":6},{"$f":"$E66*2","v":6},{"$f":"$E66*2","v":6},{"$f":"$E66*2","v":6},null,{"$f":"$E66*2","v":6},null,null,null,null,null,null,null,null,{"$f":"$E66*2","v":6},null,null,null,{"$f":"$E66*2","v":6},null,null,{"$f":"$E66*2","v":6},{"$f":"$E66*2","v":6},null,null,null,null,{"$f":"$E66*2","v":6},{"$f":"$E66*2","v":6},null,null,{"$f":"$E66*2","v":6},{"$f":"$E66*2","v":6}]
["Marcus Rashford - Man United",null,null,6,{"$f":"1+0+2+0+1+1","v":5},null,null,null,null,null,null,null,null,null,null,{"$f":"$E67*2","v":10},null,null,null,null,null,null,null,null,null,null,null,null,null,null,null,null,null,null,null,null,null,null,null,null,null,null,null,null,null,null,null,null,null,null,null,null,{"$f":"$E67*2","v":10},null,null,null,null,null,{"$f":"$E67*2","v":10},null,{"$f":"$E67*2","v":10},null,null,null,null,null,null,null,null,null,null,null,null,null,null,null,null,null,{"$f":"$E67*2","v":10},null,{"$f":"$E67*2","v":10}]
["Mohamed Salah - Liverpool",null,null,36,{"$f":"1+1+1+2+0+0","v":5},null,null,null,null,null,{"$f":"$E68*2","v":10},{"$f":"$E68*2","v":10},null,null,{"$f":"$E68*2","v":10},null,{"$f":"$E68*2","v":10},10,10,10,10,10,null,{"$f":"$E68*2","v":10},{"$f":"$E68*2","v":10},null,null,{"$f":"$E68*2","v":10},null,null,{"$f":"$E68*2","v":10},{"$f":"$E68*2","v":10},null,null,null,null,null,null,{"$f":"$E68*2","v":10},null,{"$f":"$E68*2","v":10},null,{"$f":"$E68*2","v":10},null,null,null,null,{"$f":"$E68*2","v":10},null,{"$f":"$E68*2","v":10},null,null,null,{"$f":"$E68*2","v":10},{"$f":"$E68*2","v":10},{"$f":"$E68*2","v":10},{"$f":"$E68*2","v":10},{"$f":"$E68*2","v":10},null,null,null,{"$f":"$E68*2","v":10},null,{"$f":"$E68*2","v":10},null,null,{"$f":"$E68*2","v":10},null,null,null,{"$f":"$E68*2","v":10},10,10,10,10,{"$f":"$E68*2","v":10},null,{"$f":"$E68*2","v":10},10,null,null,null,{"$f":"$E68*2","v":10}]
["Pierre Emerick Aubameyang - Arsenal",null,null,45,{"$f":"0+0+1+0+0+0","v":1},null,null,null,null,null,null,{"$f":"$E69*2","v":2},null,{"$f":"$E69*2","v":2},{"$f":"$E69*2","v":2},{"$f":"$E69*2","v":2},{"$f":"$E69*2","v":2},{"$f":"$E69*2","v":2},{"$f":"$E69*2","v":2},null,{"$f":"$E69*2","v":2},{"$f":"$E69*2","v":2},{"$f":"$E69*2","v":2},null,null,null,{"$f":"$E69*2","v":2},{"$f":"$E69*2","v":2},{"$f":"$E69*2","v":2},null,{"$f":"$E69*2","v":2},null,{"$f":"$E69*2","v":2},null,{"$f":"$E69*2","v":2},{"$f":"$E69*2","v":2},{"$f":"$E69*2","v":2},null,null,{"$f":"$E69*2","v":2},{"$f":"$E69*2","v":2},null,{"$f":"$E69*2","v":2},{"$f":"$E69*2","v":2},{"$f":"$E69*2","v":2},null,{"$f":"$E69*2","v":2},{"$f":"$E69*2","v":2},{"$f":"$E69*2","v":2},{"$f":"$E69*2","v":2},{"$f":"$E69*2","v":2},null,null,{"$f":"$E69*2","v":2},{"$f":"$E69*2","v":2},null,{"$f":"$E69*2","v":2},{"$f":"$E69*2","v":2},null,null,null,null,{"$f":"$E69*2","v":2},{"$f":"$E69*2","v":2},null,{"$f":"$E69*2","v":2},null,{"$f":"$E69*2","v":2},null,null,null,{"$f":"$E69*2","v":2},null,{"$f":"$E69*2","v":2},{"$f":"$E69*2","v":2},null,{"$f":"$E69*2","v":2},{"$f":"$E69*2","v":2},null,{"$f":"$E69*2","v":2},{"$f":"$E69*2","v":2},{"$f":"$E69*2","v":2},{"$f":"$E69*2","v":2}]
["Raheem Sterling - Man City",null,null,14,{"$f":"1+0+0+1+0","v":2},null,null,null,null,null,null,null,null,null,null,null,null,null,null,null,null,null,null,{"$f":"$E70*2","v":4},null,null,{"$f":"$E70*2","v":4},null,{"$f":"$E70*2","v":4},null,null,null,null,{"$f":"$E70*2","v":4},null,{"$f":"$E70*2","v":4},null,null,null,null,null,null,null,null,null,null,null,null,null,null,null,null,null,null,null,null,null,null,{"$f":"$E70*2","v":4},{"$f":"$E70*2","v":4},null,{"$f":"$E70*2","v":4},{"$f":"$E70*2","v":4},null,{"$f":"$E70*2","v":4},null,null,{"$f":"$E70*2","v":4},{"$f":"$E70*2","v":4},null,{"$f":"$E70*2","v":4},null,null,null,null,null,null,null,null,null,null,null,{"$f":"$E70*2","v":4}]
["Raul Jiminez - Wolves",null,null,1,{"$f":"0+0+0+0+0+0","v":0},null,null,null,null,null,null,null,null,null,null,null,null,null,null,null,null,null,null,null,null,null,null,null,null,null,null,null,null,null,null,null,null,null,null,null,null,null,null,null,null,null,{"$f":"$E71*2","v":0}]
["Richarlison - Everton",null,null,1,{"$f":"0+0+1+0+0","v":1},null,null,null,{"$f":"$E72*2","v":2}]
["Sadio Mane - Liverpool",null,null,12,{"$f":"0+0+0+1+1+0","v":2},null,null,null,null,{"$f":"$E73*2","v":4},null,null,{"$f":"$E73*2","v":4},null,null,{"$f":"$E73*2","v":4},null,null,null,null,null,{"$f":"$E73*2","v":4},null,null,null,null,null,null,null,null,null,null,null,{"$f":"$E73*2","v":4},{"$f":"$E73*2","v":4},null,null,null,null,null,null,null,null,null,null,{"$f":"$E73*2","v":4},null,null,null,null,null,{"$f":"$E73*2","v":4},null,null,null,null,null,null,{"$f":"$E73*2","v":4},null,null,null,null,{"$f":"$E73*2","v":4},null,null,null,{"$f":"$E73*2","v":4},null,null,null,null,null,null,null,null,null,null,null,null,{"$f":"$E73*2","v":4}]
["Sergio Aguero - Man City",null,null,9,{"$f":"0+0+0+0+0","v":0},null,null,null,null,{"$f":"$E74*2","v":0},null,null,null,null,null,null,null,null,null,{"$f":"$E74*2","v":0},null,null,null,null,null,null,null,null,null,null,null,null,null,null,null,null,null,{"$f":"$E74*2","v":0},null,null,null,{"$f":"$E74*2","v":0},null,null,null,{"$f":"$E74*2","v":0},null,null,null,null,null,null,null,null,null,null,{"$f":"$E74*2","v":0},null,null,null,null,null,null,null,{"$f":"$E74*2","v":0},null,null,null,null,null,null,null,{"$f":"$E74*2","v":0},null,null,null,{"$f":"$E74*2","v":0}]
["Tammy Abraham - Chelsea",null,null,0,{"$f":"0+0+0+2+1+0","v":3}]
["Timo Werner - Chelsea",null,null,24,{"$f":"0+0+0+0+0+0","v":0},null,null,null,{"$f":"$E76*2","v":0},null,null,null,{"$f":"$E76*2","v":0},{"$f":"$E76*2","v":0},null,null,null,null,null,null,null,null,{"$f":"$E76*2","v":0},null,{"$f":"$E76*2","v":0},{"$f":"$E76*2","v":0},{"$f":"$E76*2","v":0},null,null,{"$f":"$E76*2","v":0},null,null,{"$f":"$E76*2","v":0},null,null,null,{"$f":"$E76*2","v":0},{"$f":"$E76*2","v":0},null,{"$f":"$E76*2","v":0},{"$f":"$E76*2","v":0},null,null,{"$f":"$E76*2","v":0},null,null,null,null,null,null,null,{"$f":"$E76*2","v":0},null,null,{"$f":"$E76*2","v":0},null,null,null,null,{"$f":"$E76*2","v":0},null,null,{"$f":"$E76*2","v":0},null,null,null,{"$f":"$E76*2","v":0},null,{"$f":"$E76*2","v":0},{"$f":"$E76*2","v":0},null,null,null,null,null,null,{"$f":"$E76*2","v":0},{"$f":"$E76*2","v":0},null,{"$f":"$E76*2","v":0}]
[]
["Golden Gloves"]
["Alisson Becker - Liverpool",null,null,{"$f":"COUNT(I79:CE79)","v":57},{"$f":"0+0+0+1+0+1","v":2},null,null,null,null,{"$f":"$E79*2","v":4},{"$f":"$E79*2","v":4},{"$f":"$E79*2","v":4},{"$f":"$E79*2","v":4},null,{"$f":"$E79*2","v":4},{"$f":"$E79*2","v":4},null,{"$f":"$E79*2","v":4},{"$f":"$E79*2","v":4},{"$f":"$E79*2","v":4},null,{"$f":"$E79*2","v":4},{"$f":"$E79*2","v":4},{"$f":"$E79*2","v":4},{"$f":"$E79*2","v":4},{"$f":"$E79*2","v":4},null,{"$f":"$E79*2","v":4},null,{"$f":"$E79*2","v":4},null,null,{"$f":"$E79*2","v":4},4,4,4,4,4,null,{"$f":"$E79*2","v":4},{"$f":"$E79*2","v":4},{"$f":"$E79*2","v":4},{"$f":"$E79*2","v":4},{"$f":"$E79*2","v":4},null,{"$f":"$E79*2","v":4},null,{"$f":"$E79*2","v":4},null,{"$f":"$E79*2","v":4},{"$f":"$E79*2","v":4},{"$f":"$E79*2","v":4},{"$f":"$E79*2","v":4},{"$f":"$E79*2","v":4},null,{"$f":"$E79*2","v":4},{"$f":"$E79*2","v":4},{"$f":"$E79*2","v":4},{"$f":"$E79*2","v":4},null,{"$f":"$E79*2","v":4},{"$f":"$E79*2","v":4},4,{"$f":"$E79*2","v":4},4,4,{"$f":"$E79*2","v":4},4,null,{"$f":"$E79*2","v":4},4,4,null,null,{"$f":"$E79*2","v":4},4,4,{"$f":"$E79*2","v":4},4,4,4,null,{"$f":"$E79*2","v":4}]
["Ederson - Man City",null,null,{"$f":"COUNT(I80:CE80)","v":14},{"$f":"1+1+0+1+1","v":4},null,null,null,{"$f":"$E80*2","v":8},null,null,null,null,null,null,null,{"$f":"$E80*2","v":8},null,null,null,{"$f":"$E80*2","v":8},null,null,null,null,null,{"$f":"$E80*2","v":8},null,{"$f":"$E80*2","v":8},null,{"$f":"$E80*2","v":8},{"$f":"$E80*2","v":8},null,null,null,null,null,null,{"$f":"$E80*2","v":8},null,null,null,null,null,null,null,{"$f":"$E80*2","v":8},null,{"$f":"$E80*2","v":8},null,null,null,null,null,{"$f":"$E80*2","v":8},null,null,null,null,{"$f":"$E80*2","v":8},null,null,null,null,null,null,null,null,null,null,null,null,null,{"$f":"$E80*2","v":8},null,null,null,null,null,null,null,{"$f":"$E80*2","v":8}]
["David de Gea - Man United",null,null,{"$f":"COUNT(I81:CE81)","v":3},{"$f":"0+1+0+0+0+1","v":2},null,null,null,null,null,null,null,null,{"$f":"$E81*2","v":4},null,null,null,null,null,null,null,null,null,null,null,null,null,null,null,null,null,null,null,null,null,null,null,null,null,null,null,null,null,null,{"$f":"$E81*2","v":4},null,null,null,null,null,null,null,null,null,null,null,null,null,null,null,null,null,null,null,null,null,null,null,null,null,null,null,{"$f":"$E81*2","v":4}]
["Hugo Lloris - Tottenham Hotspur",null,null,{"$f":"COUNT(I82:CE82)","v":1},{"$f":"1+0+0+0+0","v":1},null,null,null,null,null,null,null,null,null,null,null,null,null,null,null,null,null,null,null,null,null,null,null,null,null,null,null,null,null,null,null,null,null,null,null,null,null,null,null,null,null,null,null,null,null,null,null,null,null,null,null,null,null,null,null,null,null,null,null,null,null,null,null,{"$f":"$E82*2","v":2}]
["Nick Pope - Burnley",null,null,{"$f":"COUNT(I83:CE83)","v":0},{"$f":"0+1+1+0+0+1","v":3}]
[]
["Sack Race"]
["Brendan Rodgers - Leicester City",null,null,{"$f":"COUNT(I86:CE86)","v":1},null,null,null,null,null,null,null,null,null,null,null,null,null,null,null,null,null,null,null,null,null,null,null,null,null,null,null,null,null,null,null,null,null,null,null,null,null,null,null,null,null,null,null,null,null,null,null,null,null,null,null,null,null,null,null,null,null,null,null,null,null,null,null,{"$f":"$E86*15","v":0}]
["Carlo Ancelotti - Everton",null,null,0]
["Chris Wilder - Sheffield United",null,null,0]
["David Moyes - West Ham United",null,null,14,null,null,null,null,null,null,null,null,{"$f":"$E89*15","v":0},null,null,{"$f":"$E89*15","v":0},null,null,null,null,null,null,null,null,{"$f":"$E89*15","v":0},null,null,{"$f":"$E89*15","v":0},{"$f":"$E89*15","v":0},null,null,null,null,null,{"$f":"$E89*15","v":0},{"$f":"$E89*15","v":0},{"$f":"$E89*15","v":0},null,null,null,null,null,null,{"$f":"$E89*15","v":0},{"$f":"$E89*15","v":0},null,null,null,null,null,null,null,{"$f":"$E89*15","v":0},{"$f":"$E89*15","v":0},null,null,{"$f":"$E89*15","v":0},null,null,null,null,null,null,null,null,null,{"$f":"$E89*15","v":0}]
["Dean Smith - Aston Villa",null,null,16,null,null,null,null,null,null,null,null,null,{"$f":"$E90*15","v":0},{"$f":"$E90*15","v":0},null,null,null,null,null,null,null,{"$f":"$E90*15","v":0},null,null,null,null,null,null,null,null,null,null,null,null,null,null,null,{"$f":"$E90*15","v":0},{"$f":"$E90*15","v":0},null,null,{"$f":"$E90*15","v":0},null,null,{"$f":"$E90*15","v":0},{"$f":"$E90*15","v":0},null,null,{"$f":"$E90*15","v":0},null,{"$f":"$E90*15","v":0},null,null,null,null,null,null,{"$f":"$E90*15","v":0},null,null,null,{"$f":"$E90*15","v":0},null,{"$f":"$E90*15","v":0},{"$f":"$E90*15","v":0},null,null,{"$f":"$E90*15","v":0},null,null,{"$f":"$E90*15","v":0}]
["Frank Lampard - Chelsea",null,null,0]
["Graham Potter - Brighton",null,null,6,null,null,null,null,{"$f":"$E92*15","v":0},null,null,null,null,null,null,null,null,null,null,{"$f":"$E92*15","v":0},null,{"$f":"$E92*15","v":0},null,null,null,null,{"$f":"$E92*15","v":0},null,null,null,null,{"$f":"$E92*15","v":0},null,null,null,null,null,null,null,null,null,null,null,null,null,null,null,null,null,null,null,null,null,null,null,null,null,null,null,null,null,null,null,null,null,null,null,null,null,null,null,null,null,null,null,null,null,null,null,null,{"$f":"$E92*15","v":0}]
["Jose Mourinho - Tottenham Hotspur",null,null,4,null,null,null,null,null,null,null,null,null,null,null,null,null,null,null,null,null,null,null,null,null,null,null,null,null,null,{"$f":"$E93*15","v":0},null,null,null,null,null,null,null,null,null,null,null,null,null,null,null,null,null,null,null,null,null,null,null,null,null,null,null,null,null,null,{"$f":"$E93*15","v":0},null,null,null,null,null,null,null,null,null,null,{"$f":"$E93*15","v":0},null,null,null,null,null,null,null,null,null,{"$f":"$E93*15","v":0}]
["Jurgen Klopp - Liverpool",null,null,0]
["Marco Bielsa - Leeds United",null,null,1,null,null,null,null,null,null,null,null,null,null,null,null,null,null,null,null,null,null,null,null,null,null,null,null,null,null,null,null,null,null,null,null,null,null,null,null,null,null,null,null,null,null,null,null,null,null,null,null,null,null,null,null,null,null,null,null,null,null,null,null,null,null,null,null,null,null,null,null,null,null,null,null,null,{"$f":"$E95*15","v":0}]
["Mikel Arteta - Arsenal",null,null,0]
["Nuno Espirito Santo - Wolves",null,null,0]
["Ole Gunnar Solskjaer - Manchester United",null,null,1,null,null,null,null,null,null,null,null,null,null,null,null,null,null,null,null,null,null,null,null,null,null,null,null,null,null,null,null,null,null,null,null,null,{"$f":"$E98*15","v":0}]
["Pep Guardiola - Manchester City",null,null,1,null,null,null,null,null,null,null,null,null,null,null,null,null,null,null,null,null,null,null,null,null,null,null,null,null,null,null,null,null,null,null,null,null,null,null,null,null,null,null,null,null,null,null,{"$f":"$E99*15","v":0}]
["Ralph Hassenhuttl - Southampton",null,null,2,null,null,null,null,null,null,{"$f":"$E100*15","v":0},null,null,null,null,null,null,null,null,null,null,null,null,null,null,null,null,null,null,null,null,null,null,{"$f":"$E100*15","v":0}]
["Roy Hodgson - Crystal Palace",null,null,8,null,null,null,null,null,{"$f":"$E101*15","v":0},null,{"$f":"$E101*15","v":0},null,null,null,null,null,null,null,null,null,null,null,null,null,null,null,null,null,{"$f":"$E101*15","v":0},null,null,null,null,null,null,null,null,null,null,null,{"$f":"$E101*15","v":0},null,null,null,null,null,null,null,null,null,null,null,null,null,null,null,{"$f":"$E101*15","v":0},null,null,null,null,null,null,null,null,null,null,null,null,{"$f":"$E101*15","v":0},null,null,{"$f":"$E101*15","v":0},null,null,{"$f":"$E101*15","v":0}]
["Scott Parker - Fulham",null,null,3,null,null,null,null,null,null,null,null,null,null,null,null,null,{"$f":"$E102*15","v":0},null,null,null,null,null,null,null,{"$f":"$E102*15","v":0},null,null,null,null,null,null,null,null,null,null,null,null,null,null,null,null,null,null,null,null,null,null,null,null,null,null,null,null,{"$f":"$E102*15","v":0}]
["Sean Dyche - Burnley",null,null,1,null,null,null,null,null,null,null,null,null,null,null,null,null,null,{"$f":"$E103*15","v":0}]
["Slaven Bilic - West Brom",null,null,4,1,null,null,null,null,null,null,null,null,null,null,null,null,null,null,null,{"$f":"$E104*15","v":15},null,null,null,null,null,null,null,null,null,null,null,null,null,null,null,null,null,null,null,{"$f":"$E104*15","v":15},null,null,null,null,null,null,null,null,null,null,null,null,null,null,null,null,null,null,null,{"$f":"$E104*15","v":15},null,null,{"$f":"$E104*15","v":15}]
["Steve Bruce - Newcastle United",null,null,13,null,null,null,null,null,null,null,null,null,null,null,null,{"$f":"$E105*15","v":0},null,null,null,null,null,null,{"$f":"$E105*15","v":0},null,null,null,null,null,null,null,null,{"$f":"$E105*15","v":0},null,null,null,null,null,null,null,null,null,null,null,null,null,null,null,{"$f":"$E105*15","v":0},null,{"$f":"$E105*15","v":0},null,null,null,null,{"$f":"$E105*15","v":0},null,null,null,{"$f":"$E105*15","v":0},null,null,null,null,null,null,null,null,null,{"$f":"$E105*15","v":0},null,null,null,null,{"$f":"$E105*15","v":0},{"$f":"$E105*15","v":0},null,null,{"$f":"$E105*15","v":0},{"$f":"$E105*15","v":0},null,{"$f":"$E105*15","v":0}]
[]
["Grand Total - December",null,null,null,null,null,null,null,{"$f":"SUM(I$3:I106)","v":134},{"$f":"SUM(J$3:J106)","v":152},{"$f":"SUM(K$3:K106)","v":194},{"$f":"SUM(L$3:L106)","v":165},{"$f":"SUM(M$3:M106)","v":172},{"$f":"SUM(N$3:N106)","v":40},{"$f":"SUM(O$3:O106)","v":230},{"$f":"SUM(P$3:P106)","v":160},{"$f":"SUM(Q$3:Q106)","v":214},{"$f":"SUM(R$3:R106)","v":190},{"$f":"SUM(S$3:S106)","v":157},{"$f":"SUM(T$3:T106)","v":141},{"$f":"SUM(U$3:U106)","v":172},{"$f":"SUM(V$3:V106)","v":145},{"$f":"SUM(W$3:W106)","v":195},{"$f":"SUM(X$3:X106)","v":182},{"$f":"SUM(Y$3:Y106)","v":173},{"$f":"SUM(Z$3:Z106)","v":164},{"$f":"SUM(AA$3:AA106)","v":169},{"$f":"SUM(AB$3:AB106)","v":178},{"$f":"SUM(AC$3:AC106)","v":148},{"$f":"SUM(AD$3:AD106)","v":179},{"$f":"SUM(AE$3:AE106)","v":174},{"$f":"SUM(AF$3:AF106)","v":194},{"$f":"SUM(AG$3:AG106)","v":175},{"$f":"SUM(AH$3:AH106)","v":166},{"$f":"SUM(AI$3:AI106)","v":169},{"$f":"SUM(AJ$3:AJ106)","v":14},{"$f":"SUM(AK$3:AK106)","v":190},{"$f":"SUM(AL$3:AL106)","v":128},{"$f":"SUM(AM$3:AM106)","v":149},{"$f":"SUM(AN$3:AN106)","v":175},{"$f":"SUM(AO$3:AO106)","v":201},{"$f":"SUM(AP$3:AP106)","v":115},{"$f":"SUM(AQ$3:AQ106)","v":170},{"$f":"SUM(AR$3:AR106)","v":145},{"$f":"SUM(AS$3:AS106)","v":166},{"$f":"SUM(AT$3:AT106)","v":132},{"$f":"SUM(AU$3:AU106)","v":186},{"$f":"SUM(AV$3:AV106)","v":172},{"$f":"SUM(AW$3:AW106)","v":145},{"$f":"SUM(AX$3:AX106)","v":157},{"$f":"SUM(AY$3:AY106)","v":151},{"$f":"SUM(AZ$3:AZ106)","v":157},{"$f":"SUM(BA$3:BA106)","v":129},{"$f":"SUM(BB$3:BB106)","v":170},{"$f":"SUM(BC$3:BC106)","v":160},{"$f":"SUM(BD$3:BD106)","v":140},{"$f":"SUM(BE$3:BE106)","v":181},{"$f":"SUM(BF$3:BF106)","v":185},{"$f":"SUM(BG$3:BG106)","v":177},{"$f":"SUM(BH$3:BH106)","v":156},{"$f":"SUM(BI$3:BI106)","v":185},{"$f":"SUM(BJ$3:BJ106)","v":159},{"$f":"SUM(BK$3:BK106)","v":155},{"$f":"SUM(BL$3:BL106)","v":175},{"$f":"SUM(BM$3:BM106)","v":12},{"$f":"SUM(BN$3:BN106)","v":189},{"$f":"SUM(BO$3:BO106)","v":186},{"$f":"SUM(BP$3:BP106)","v":149},{"$f":"SUM(BQ$3:BQ106)","v":127},{"$f":"SUM(BR$3:BR106)","v":177},{"$f":"SUM(BS$3:BS106)","v":167},{"$f":"SUM(BT$3:BT106)","v":180},{"$f":"SUM(BU$3:BU106)","v":166},{"$f":"SUM(BV$3:BV106)","v":152},{"$f":"SUM(BW$3:BW106)","v":182},{"$f":"SUM(BX$3:BX106)","v":179},{"$f":"SUM(BY$3:BY106)","v":186},{"$f":"SUM(BZ$3:BZ106)","v":171},{"$f":"SUM(CA$3:CA106)","v":155},{"$f":"SUM(CB$3:CB106)","v":177},{"$f":"SUM(CC$3:CC106)","v":115},{"$f":"SUM(CD$3:CD106)","v":166},{"$f":"SUM(CE$3:CE106)","v":190}]
[]
["Ten Pointers",null,null,null,null,null,null,null,{"$f":"COUNTIF(I$3:I59,\"10\")","v":3},{"$f":"COUNTIF(J$3:J59,\"10\")","v":3},{"$f":"COUNTIF(K$3:K59,\"10\")","v":5},{"$f":"COUNTIF(L$3:L59,\"10\")","v":5},{"$f":"COUNTIF(M$3:M59,\"10\")","v":6},{"$f":"COUNTIF(N$3:N59,\"10\")","v":2},{"$f":"COUNTIF(O$3:O59,\"10\")","v":10},{"$f":"COUNTIF(P$3:P59,\"10\")","v":5},{"$f":"COUNTIF(Q$3:Q59,\"10\")","v":9},{"$f":"COUNTIF(R$3:R59,\"10\")","v":6},{"$f":"COUNTIF(S$3:S59,\"10\")","v":4},{"$f":"COUNTIF(T$3:T59,\"10\")","v":6},{"$f":"COUNTIF(U$3:U59,\"10\")","v":3},{"$f":"COUNTIF(V$3:V59,\"10\")","v":7},{"$f":"COUNTIF(W$3:W59,\"10\")","v":10},{"$f":"COUNTIF(X$3:X59,\"10\")","v":6},{"$f":"COUNTIF(Y$3:Y59,\"10\")","v":4},{"$f":"COUNTIF(Z$3:Z59,\"10\")","v":7},{"$f":"COUNTIF(AA$3:AA59,\"10\")","v":4},{"$f":"COUNTIF(AB$3:AB59,\"10\")","v":8},{"$f":"COUNTIF(AC$3:AC59,\"10\")","v":3},{"$f":"COUNTIF(AD$3:AD59,\"10\")","v":8},{"$f":"COUNTIF(AE$3:AE59,\"10\")","v":6},{"$f":"COUNTIF(AF$3:AF59,\"10\")","v":7},{"$f":"COUNTIF(AG$3:AG59,\"10\")","v":5},{"$f":"COUNTIF(AH$3:AH59,\"10\")","v":6},{"$f":"COUNTIF(AI$3:AI59,\"10\")","v":4},{"$f":"COUNTIF(AJ$3:AJ59,\"10\")","v":0},{"$f":"COUNTIF(AK$3:AK59,\"10\")","v":6},{"$f":"COUNTIF(AL$3:AL59,\"10\")","v":4},{"$f":"COUNTIF(AM$3:AM59,\"10\")","v":6},{"$f":"COUNTIF(AN$3:AN59,\"10\")","v":8},{"$f":"COUNTIF(AO$3:AO59,\"10\")","v":7},{"$f":"COUNTIF(AP$3:AP59,\"10\")","v":4},{"$f":"COUNTIF(AQ$3:AQ59,\"10\")","v":6},{"$f":"COUNTIF(AR$3:AR59,\"10\")","v":5},{"$f":"COUNTIF(AS$3:AS59,\"10\")","v":4},{"$f":"COUNTIF(AT$3:AT59,\"10\")","v":2},{"$f":"COUNTIF(AU$3:AU59,\"10\")","v":11},{"$f":"COUNTIF(AV$3:AV59,\"10\")","v":6},{"$f":"COUNTIF(AW$3:AW59,\"10\")","v":3},{"$f":"COUNTIF(AX$3:AX59,\"10\")","v":6},{"$f":"COUNTIF(AY$3:AY59,\"10\")","v":5},{"$f":"COUNTIF(AZ$3:AZ59,\"10\")","v":3},{"$f":"COUNTIF(BA$3:BA59,\"10\")","v":2},{"$f":"COUNTIF(BB$3:BB59,\"10\")","v":6},{"$f":"COUNTIF(BC$3:BC59,\"10\")","v":5},{"$f":"COUNTIF(BD$3:BD59,\"10\")","v":2},{"$f":"COUNTIF(BE$3:BE59,\"10\")","v":5},{"$f":"COUNTIF(BF$3:BF59,\"10\")","v":6},{"$f":"COUNTIF(BG$3:BG59,\"10\")","v":5},{"$f":"COUNTIF(BH$3:BH59,\"10\")","v":3},{"$f":"COUNTIF(BI$3:BI59,\"10\")","v":5},{"$f":"COUNTIF(BJ$3:BJ59,\"10\")","v":4},{"$f":"COUNTIF(BK$3:BK59,\"10\")","v":2},{"$f":"COUNTIF(BL$3:BL59,\"10\")","v":5},{"$f":"COUNTIF(BM$3:BM59,\"10\")","v":0},{"$f":"COUNTIF(BN$3:BN59,\"10\")","v":10},{"$f":"COUNTIF(BO$3:BO59,\"10\")","v":8},{"$f":"COUNTIF(BP$3:BP59,\"10\")","v":4},{"$f":"COUNTIF(BQ$3:BQ59,\"10\")","v":4},{"$f":"COUNTIF(BR$3:BR59,\"10\")","v":7},{"$f":"COUNTIF(BS$3:BS59,\"10\")","v":7},{"$f":"COUNTIF(BT$3:BT59,\"10\")","v":6},{"$f":"COUNTIF(BU$3:BU59,\"10\")","v":5},{"$f":"COUNTIF(BV$3:BV59,\"10\")","v":3},{"$f":"COUNTIF(BW$3:BW59,\"10\")","v":6},{"$f":"COUNTIF(BX$3:BX59,\"10\")","v":5},{"$f":"COUNTIF(BY$3:BY59,\"10\")","v":6},{"$f":"COUNTIF(BZ$3:BZ59,\"10\")","v":4},{"$f":"COUNTIF(CA$3:CA59,\"10\")","v":3},{"$f":"COUNTIF(CB$3:CB59,\"10\")","v":5},{"$f":"COUNTIF(CC$3:CC59,\"10\")","v":2},{"$f":"COUNTIF(CD$3:CD59,\"10\")","v":5},{"$f":"COUNTIF(CE$3:CE59,\"10\")","v":8}]

{"sheet":"January","index":5,"n_rows":80,"n_cols":83,"rows_kept":80,"cut":false,"hidden":false,"merged":[[1,2,1,5]]}
[null,null,null,null,null,null,null,null,"Aidan Scanlon","Aidan White","Alan White","Anastas Popov","Andy Dunne","Ben Creasey","Bobby Hynes","Brendan Maguire","Brian Prendergast","Brian Haughton","Brian Mullen","Callum Dunne","Calvin McGettigan","Caroline Carroll","Cathal Thornton","Christina Morgan","Ciaran Nelson","Ciaran O'Hart","Con McSweeney","Craig Calvert","Darragh Kenny","David Cooney","David Lavelle","David McGinley","Davy Doyle","Dean White","Derek Brady","Drew Armstrong","Eamon Fox","Eoghan Farrelly","Fiachra O'Brolachain","Frank McSweeney","Gareth Pierpoint","Gary Donnelly","Gary Fitzpatrick","Gary McGurk","Gavin Goodwin","Gavin Morgan","George McGettigan","Gerard McCluskey","Gerry Draper","Gerry Moore","Graham Goodwin","Javier Suarez","Joe Behan","Joe Turner","John Brophy","John O'Driscoll","Jonathan Fox","Joseph Kavanagh","Kev Dalton","Kevin Philpott","Kris Stainton","Liam Geraghty","Liam Keohan","Lionel Knott","Michael Kenaney","Micheal Joyce","Niall Cannon","Niall Carroll","Niall Murray","Patrick Mifsud","Paul Moore","Paul Prendergast","Phil Doyle","Philip Jordan","Ralph Goodwin","Richard Johnston","Robert Hynes","Robert Manley","Roisin Joyce","Sean O'Mairtin","Trevor Byrne","Victoria Reid","Wayne Donovan"]
["Day","Date","Teams",null,null,null,"Time"]
["Fri","2021-01-01","Everton ",0,1,"West Ham","17:30:00",null,0,0,0,0,0,"-",0,0,0,0,0,0,0,0,0,0,0,0,0,0,0,0,0,0,0,0,0,"-",0,5,0,0,0,"-",0,0,0,0,0,0,0,0,0,0,0,0,0,0,0,0,0,0,0,0,0,0,"-",0,0,0,0,0,0,0,0,0,0,0,0,0,0,0,0,0,0]
["Fri","2021-01-01","Manchester United ",2,1,"Aston Villa","20:00:00",null,10,0,0,5,5,"-",5,5,5,5,5,10,5,0,10,0,5,10,0,5,5,5,0,5,10,5,10,"-",0,10,0,0,10,"-",5,5,5,5,10,0,10,0,10,0,5,10,5,5,5,10,5,5,5,10,5,5,"-",5,0,5,5,0,0,5,5,5,5,5,5,5,10,5,5,5,10]
["Sat","2021-01-02","Tottenham ",3,0,"Leeds","12:30:00",null,5,0,5,5,0,"-",5,0,5,5,5,0,0,5,5,0,5,0,0,0,5,5,5,5,0,5,5,"-",5,5,5,5,5,"-",5,5,5,10,5,5,5,0,5,5,0,5,5,10,5,10,5,5,0,0,5,5,"-",0,5,5,0,5,5,5,5,5,0,5,5,5,0,5,5,0,5]
["Sat","2021-01-02","Crystal Palace ",2,0,"Sheffield United","15:00:00",null,0,5,5,5,10,"-",5,5,5,5,0,5,0,5,5,5,5,5,5,10,5,5,10,5,5,0,5,"-",5,5,5,0,5,"-",5,5,10,5,5,5,10,5,5,10,10,10,0,5,5,5,0,5,0,10,10,0,"-",0,10,10,0,5,0,5,5,0,10,10,5,5,10,5,5,5,5]
["Sat","2021-01-02","Brighton",3,3,"Wolves","17:30:00",null,0,5,0,5,5,"-",0,0,5,0,0,0,5,0,0,0,0,5,0,5,5,5,0,5,5,5,0,"-",5,5,0,0,0,"-",0,0,0,0,0,5,5,0,5,5,5,5,0,0,0,0,5,0,0,0,0,0,"-",0,10,0,0,0,0,0,5,0,0,0,0,5,5,0,0,5,0]
["Sat","2021-01-02","West Brom ",0,4,"Arsenal","20:00:00",null,0,5,5,5,5,"-",5,5,5,5,5,5,5,5,0,0,5,5,5,5,5,5,0,5,5,5,5,"-",5,5,5,5,5,"-",5,5,5,5,0,5,5,5,0,0,5,5,0,5,5,5,0,5,5,5,5,5,"-",5,0,5,5,5,0,5,5,5,5,5,5,5,5,0,0,5,5]
["Sun","2021-01-03","Newcastle ",1,2,"Leicester","14:15:00",null,0,10,10,5,0,"-",0,5,5,5,5,0,5,0,5,0,10,5,10,0,10,10,5,0,5,10,5,"-",5,10,5,10,5,"-",10,10,10,0,0,5,5,5,10,5,5,5,5,0,5,5,5,10,10,5,5,5,"-",0,0,10,5,5,0,5,5,0,5,5,5,5,5,10,5,0,10]
["Sun","2021-01-03","Chelsea ",1,3,"Man City","16:30:00",null,0,0,5,5,0,"-",0,5,0,0,0,0,0,0,5,0,5,0,5,0,5,0,10,0,0,0,0,"-",5,10,5,0,0,"-",5,0,5,0,0,5,5,0,0,5,5,0,0,0,5,0,0,0,0,0,5,5,"-",5,0,5,0,0,0,0,0,0,0,5,0,0,0,5,0,10,0]
["Mon","2021-01-04","Southampton ",1,0,"Liverpool","20:00:00",null,5,0,0,0,0,"-",0,0,0,0,0,0,0,0,0,0,0,0,0,0,0,0,0,0,0,0,0,"-",0,0,0,0,0,"-",0,0,0,5,0,5,0,0,0,0,0,0,0,0,0,0,0,0,0,0,5,0,"-",0,0,0,5,0,0,0,0,5,0,0,0,0,0,0,0,0,0]
["Tue","2021-01-12","Sheffield United ",1,0," Newcastle","18:00:00",null,5,0,0,0,0,"-",0,5,5,0,0,"-",0,0,0,10,0,10,0,5,10,0,0,0,0,0,5,"-",0,5,5,10,5,"-",0,10,0,0,0,10,0,10,10,0,10,10,10,5,0,10,5,0,0,10,0,0,"-",0,0,0,5,0,10,5,0,10,0,5,5,0,0,0,0,10,5]
["Tue","2021-01-12","Burnley ",0,1," Manchester United","20:15:00",null,5,5,5,5,5,"-",5,5,0,5,5,"-",10,5,10,5,5,5,5,0,5,5,5,10,5,5,10,"-",5,5,0,5,5,"-",5,0,5,5,0,5,10,0,5,0,10,5,5,0,5,10,5,5,5,0,5,5,"-",0,5,5,5,5,5,0,5,5,5,0,0,0,5,5,5,5,10]
["Tue","2021-01-12","Wolves ",1,2," Everton","20:15:00",null,0,10,10,0,0,"-",0,0,0,10,0,"-",0,0,0,0,0,0,0,0,0,0,0,0,10,10,0,"-",5,0,10,10,0,"-",0,0,0,0,0,0,0,0,0,0,0,0,0,0,0,0,10,10,5,0,0,0,"-",0,5,0,0,0,0,0,0,0,0,0,0,0,0,0,0,5,0]
["Wed","2021-01-13","Man City",1,0,"Brighton","18:00:00",null,5,5,5,5,5,"-",5,5,5,5,5,"-",5,5,5,5,5,5,5,5,5,5,5,5,5,5,5,"-",5,5,5,5,5,"-",5,5,5,5,5,5,5,5,5,5,5,5,5,5,5,5,5,5,5,10,5,5,"-",5,5,5,5,5,5,5,5,5,5,5,5,5,5,5,5,5,5]
["Wed","2021-01-13","Tottenham",1,1,"Fulham","20:15:00",null,0,0,0,0,0,"-",0,0,0,0,0,"-",0,0,0,0,0,10,0,0,0,0,0,0,0,0,0,"-",0,0,0,0,0,"-",0,0,0,0,0,0,0,0,0,0,0,0,0,0,0,0,0,0,0,0,0,0,"-",0,0,0,0,0,0,0,0,0,0,0,0,0,0,0,0,0,0]
["Thu","2021-01-14","Arsenal",0,0,"Crystal Palace","20:00:00",null,0,0,0,0,0,"-",0,0,0,0,0,"-",0,0,0,0,0,0,0,0,0,0,0,0,0,0,0,"-",0,5,0,0,0,"-",5,0,0,0,0,0,0,0,0,0,0,0,0,0,0,0,0,0,0,5,0,0,"-",0,5,0,0,5,0,0,5,0,0,0,0,0,0,0,0,0,0]
["Sat","2021-01-16","Wolves ",2,3,"West Brom","12:30:00",null,10,5,0,0,0,"-",0,0,0,0,0,0,0,0,5,0,0,0,0,0,0,0,0,0,0,0,0,"-",0,0,0,0,0,"-",0,0,0,0,0,0,0,0,0,0,0,0,5,0,0,0,0,0,0,0,0,0,"-",0,0,0,0,0,0,0,0,0,0,0,0,0,0,0,0,0,0]
["Sat","2021-01-16","Leeds ",0,1,"Brighton","15:00:00",null,0,0,0,0,0,"-",0,0,0,0,0,0,0,0,0,0,0,0,0,0,0,0,0,0,0,0,0,"-",0,0,0,0,0,"-",0,0,0,0,0,0,0,0,0,0,0,0,0,0,0,0,0,0,0,0,0,0,"-",0,0,5,0,0,0,0,0,0,0,0,0,0,0,0,0,0,0]
["Sat","2021-01-16","West Ham ",1,0,"Burnley","15:00:00",null,5,10,10,10,5,"-",0,5,5,0,5,5,5,10,0,0,10,10,10,5,5,5,10,0,5,10,5,"-",5,10,0,10,5,"-",0,5,10,5,5,5,5,0,10,0,10,5,0,5,10,5,0,0,10,0,5,5,"-",0,0,5,10,5,5,10,10,0,10,5,0,5,5,5,0,5,10]
["Sat","2021-01-16","Fulham ",0,1,"Chelsea","17:30:00",null,5,5,5,10,5,"-",5,5,5,10,5,5,0,5,0,5,5,5,5,5,5,5,5,5,5,0,5,"-",10,5,5,0,5,"-",5,5,5,10,5,5,5,0,0,5,0,5,5,0,10,5,5,5,0,5,10,5,"-",5,0,5,5,5,5,5,5,10,5,5,5,5,5,5,5,10,0]
["Sat","2021-01-16","Leicester ",2,0,"Southampton","20:00:00",null,0,5,0,0,5,"-",5,0,10,0,5,5,10,0,5,5,10,0,10,0,5,5,5,5,0,5,5,"-",5,10,0,5,10,"-",5,5,10,10,10,5,10,0,5,5,10,5,10,5,5,5,10,0,5,5,0,5,"-",5,0,10,0,5,5,10,5,5,5,5,0,10,5,5,5,10,5]
["Sun","2021-01-17","Sheffield United ",1,3,"Tottenham","14:00:00",null,10,5,5,5,5,"-",5,5,5,5,10,0,0,5,5,5,5,5,5,5,0,5,5,5,5,5,5,"-",5,5,5,0,0,"-",5,5,5,5,5,5,5,5,0,10,5,5,0,0,5,0,5,5,5,10,5,5,"-",5,5,5,5,5,5,0,5,5,5,5,5,5,5,0,5,5,5]
["Sun","2021-01-17","Liverpool ",0,0,"Manchester United","16:30:00",null,5,5,5,0,0,"-",0,0,0,0,5,0,0,0,0,0,5,5,5,0,5,5,10,5,5,5,0,"-",0,0,0,0,0,"-",0,0,0,0,0,0,10,0,0,0,5,0,0,0,0,0,0,0,0,0,0,0,"-",5,0,0,5,0,0,0,0,0,0,0,5,0,5,0,0,0,0]
["Sun","2021-01-17","Man City ",4,0,"Crystal Palace","19:15:00",null,5,5,10,5,5,"-",5,5,5,5,5,5,5,5,5,5,5,5,5,5,10,5,5,5,5,5,5,"-",5,5,5,5,5,"-",5,0,5,10,5,5,5,5,5,5,5,5,5,5,5,5,5,5,5,5,5,5,"-",10,5,5,5,5,10,10,5,5,5,5,5,5,5,5,5,5,5]
["Mon","2021-01-18","Arsenal",3,0,"Newcastle","20:00:00",null,5,5,5,5,5,"-",5,10,5,5,5,0,5,10,0,5,5,5,5,0,5,5,5,5,5,5,5,"-",5,0,10,5,5,"-",5,0,5,5,0,5,5,5,5,5,5,5,0,5,5,5,5,5,5,5,5,5,"-",0,10,10,5,0,5,5,5,5,10,5,5,5,5,5,5,5,5]
["Tue","2021-01-19","West Ham ",2,1," West Brom","18:00:00",null,10,5,5,5,10,"-",5,0,0,5,5,5,5,5,0,5,5,10,5,5,0,5,5,10,5,0,10,"-",5,5,5,5,5,"-",10,5,0,5,10,5,10,0,5,5,5,5,0,10,5,10,0,10,5,0,5,0,"-",5,0,5,10,5,0,5,5,5,5,10,0,10,5,5,0,5,10]
["Tue","2021-01-19","Leicester ",2,0," Chelsea","20:15:00",null,5,0,0,5,0,"-",0,0,5,0,0,5,10,0,5,5,0,0,10,5,5,0,5,0,0,5,0,"-",5,5,0,5,0,"-",5,5,0,5,0,5,5,0,5,0,5,5,0,5,0,0,0,0,0,0,5,0,"-",0,5,0,0,5,0,0,10,5,5,0,0,5,0,0,0,0,5]
["Wed","2021-01-20","Man City",2,0,"Aston Villa","18:00:00",null,10,10,5,5,10,"-",5,5,5,5,5,5,5,10,10,10,5,10,5,5,5,5,5,5,5,5,5,"-",5,5,5,"-",5,"-",5,10,5,5,5,10,5,5,5,10,10,10,5,5,10,5,5,10,5,0,5,5,"-",5,5,5,5,0,5,10,5,5,5,5,5,10,5,5,5,10,5]
["Wed","2021-01-20","Fulham ",1,2,"Manchester United","20:15:00",null,5,5,5,5,5,"-",10,5,10,10,5,0,5,5,10,5,5,5,5,5,5,10,5,5,5,5,5,"-",5,5,5,"-",5,"-",10,5,5,5,5,5,5,0,0,5,5,5,0,0,5,5,0,5,5,0,5,5,"-",5,10,5,0,5,0,5,10,5,5,5,10,5,0,0,10,5,10]
["Thu","2021-01-21","Liverpool",0,1,"Burnley","20:00:00",null,0,0,0,0,0,"-",0,0,0,0,0,0,0,0,0,0,0,0,0,0,0,0,0,0,0,0,0,"-",0,0,0,"-",0,"-",0,0,0,0,0,0,0,0,0,0,0,0,0,0,0,0,0,0,0,0,0,0,"-",0,0,0,0,0,0,0,0,0,0,0,0,0,0,0,0,0,0]
["Sat","2021-01-23","Aston Villa ",2,0,"Newcastle Utd","20:00:00",null,5,5,5,5,10,"-",5,5,5,10,5,"-",10,10,5,5,10,10,5,10,10,5,10,10,10,5,10,"-",10,5,5,5,5,"-",10,10,10,10,5,0,10,5,5,5,5,10,5,"-",10,10,5,5,10,5,10,0,"-",0,5,5,0,5,10,10,5,10,5,10,5,10,5,10,5,10,5]
["Tue","2021-01-26","Crystal Palace",2,3,"West Ham","18:00:00",null,5,0,5,0,0,"-",0,5,0,0,5,"-",5,5,5,0,0,0,0,5,5,0,0,0,5,0,5,"-",5,5,5,5,0,"-",0,0,0,5,5,0,0,0,0,0,5,0,0,"-",0,5,5,5,5,0,5,5,"-",5,0,0,0,0,0,0,0,0,5,0,0,0,5,5,5,0,0]
["Tue","2021-01-26","Newcastle Utd",1,2,"Leeds Utd","18:00:00",null,10,0,5,10,0,"-",0,0,0,0,0,"-",0,5,10,0,0,0,10,5,5,5,5,0,10,10,5,"-",10,10,5,0,0,"-",5,0,10,0,5,0,5,0,0,10,5,0,0,"-",0,5,0,10,0,5,5,10,"-",0,5,5,5,0,0,0,10,5,5,0,10,5,0,10,0,5,0]
["Tue","2021-01-26","Southampton",1,3,"Arsenal","20:15:00",null,0,5,0,0,0,"-",0,0,10,5,5,"-",0,0,0,5,0,10,0,0,0,0,0,0,0,5,5,"-",5,0,5,0,0,"-",0,0,5,0,10,0,5,5,0,5,0,0,0,"-",0,0,0,5,5,0,10,0,"-",10,0,0,0,0,0,0,0,5,0,5,0,0,5,0,5,5,0]
["Tue","2021-01-26","West Bromwich",0,5,"Manchester City","20:15:00",null,5,5,5,5,0,"-",5,5,5,5,5,"-",5,5,5,5,5,5,5,5,5,5,5,5,5,5,5,"-",5,5,5,5,5,"-",5,5,5,5,5,0,5,5,5,5,5,5,0,"-",0,5,10,5,5,5,5,5,"-",5,0,5,5,0,5,5,5,5,5,10,5,5,5,5,5,5,5]
["Wed","2021-01-27","Burnley",3,2,"Aston Villa","18:00:00",null,0,0,0,5,5,"-",0,0,5,0,0,"-",0,0,0,0,0,0,0,5,0,0,0,0,0,0,5,"-",0,0,0,0,0,"-",0,5,0,5,5,0,0,0,0,0,0,0,5,"-",0,0,0,0,0,5,0,0,"-",5,0,0,0,5,0,0,0,0,0,5,0,0,0,5,0,0,0]
["Wed","2021-01-27","Chelsea",0,0,"Wolverhampton","18:00:00",null,0,0,0,0,0,"-",0,0,0,0,0,"-",0,0,5,0,0,0,0,0,5,0,0,0,0,5,0,"-",0,5,0,0,0,"-",5,0,0,0,0,5,0,0,0,0,5,5,0,"-",0,0,0,0,0,0,0,0,"-",0,0,5,0,0,0,0,0,0,0,0,0,0,0,0,0,0,5]
["Wed","2021-01-27","Brighton",0,0,"Fulham","19:30:00",null,5,0,0,0,0,"-",0,0,5,5,10,"-",0,5,0,0,5,0,0,5,0,5,0,0,5,0,5,"-",0,0,5,5,0,"-",5,0,5,0,0,0,0,10,0,10,0,0,0,"-",0,5,10,5,5,0,0,0,"-",0,0,0,0,"-",5,0,0,0,0,0,0,0,5,5,0,5,5]
["Wed","2021-01-27","Everton",1,1,"Leicester City","20:15:00",null,5,10,0,0,0,"-",10,10,0,0,5,"-",10,10,0,0,0,0,0,10,5,0,0,10,0,0,0,"-",0,0,5,10,10,"-",0,5,0,0,0,0,0,5,0,5,5,0,0,"-",0,10,0,0,0,5,0,0,"-",0,0,0,5,"-",5,10,0,0,0,5,10,0,0,0,10,0,0]
["Wed","2021-01-27","Manchester United",1,2,"Sheffield Utd","20:15:00",null,0,0,0,0,0,"-",0,0,0,0,0,"-",0,0,0,0,0,0,0,0,0,0,0,0,0,0,0,"-",0,0,0,0,0,"-",0,0,0,0,0,0,0,0,0,0,0,0,0,"-",0,0,0,0,0,0,0,0,"-",0,0,0,0,"-",0,0,0,0,0,0,0,0,0,0,0,0,0]
["Thu","2021-01-28","Tottenham",1,3,"Liverpool","20:00:00",null,0,0,0,0,0,"-",0,0,0,5,0,"-",0,5,0,5,0,0,0,0,0,0,0,0,0,0,5,"-",0,0,0,5,5,"-",0,0,0,0,0,5,0,0,0,5,5,5,0,"-",5,5,0,5,0,10,0,5,"-",0,5,0,5,"-",5,0,0,0,10,10,0,5,0,0,10,0,0]
["Sat","2021-01-30","Everton",0,2,"Newcastle Utd","12:30:00",null,0,0,0,0,0,"-",0,0,0,0,0,"-",0,0,0,0,0,0,0,0,0,0,0,0,0,0,0,"-",0,0,0,0,0,"-",0,0,0,0,0,0,0,0,0,0,0,0,0,0,0,0,0,0,0,0,0,0,"-",0,0,0,0,"-",0,0,0,0,0,0,0,0,0,0,0,0,0]
["Sat","2021-01-30","Crystal Palace",1,0,"Wolverhampton","15:00:00",null,0,10,0,0,5,"-",0,0,0,5,0,"-",0,0,0,0,0,0,0,0,0,0,0,0,0,0,0,"-",0,0,0,0,0,"-",0,10,0,10,0,0,0,5,5,0,0,0,10,0,0,5,0,5,0,0,0,0,"-",5,0,0,0,"-",0,0,0,0,5,5,0,5,0,5,0,10,0]
["Sat","2021-01-30","Manchester City",1,0,"Sheffield Utd","15:00:00",null,5,10,5,5,5,"-",5,5,5,5,5,"-",5,5,5,5,5,5,5,5,5,5,5,5,5,5,5,"-",5,5,5,5,5,"-",5,5,5,5,0,5,5,5,5,5,5,5,0,5,5,5,5,5,5,5,5,5,"-",5,5,5,5,"-",5,5,5,5,5,5,5,5,5,5,5,5,5]
["Sat","2021-01-30","West Bromwich",2,2,"Fulham","15:00:00",null,0,0,5,0,0,"-",5,0,0,5,0,"-",0,0,0,0,5,5,0,5,0,5,5,0,5,5,5,"-",0,0,0,5,0,"-",5,0,5,0,5,0,0,0,5,5,0,0,0,0,5,0,0,0,0,5,0,0,"-",10,0,5,0,"-",5,0,5,0,0,0,0,0,5,0,5,5,0]
["Sat","2021-01-30","Arsenal",0,0,"Manchester United","17:30:00",null,0,0,5,0,0,"-",5,0,5,0,0,"-",5,0,0,0,0,5,0,0,0,5,5,5,0,0,0,"-",0,0,0,5,5,"-",0,0,0,0,0,0,5,0,5,5,5,0,0,0,0,0,0,0,0,5,0,0,"-",0,5,5,5,"-",0,5,0,0,0,0,0,0,0,5,5,5,5]
["Sat","2021-01-30","Southampton",0,1,"Aston Villa","20:00:00",null,0,0,0,0,0,"-",0,0,0,0,0,"-",0,0,0,0,0,0,0,0,0,0,0,0,0,0,0,"-",0,5,0,0,0,"-",0,0,5,0,5,0,5,0,0,0,5,0,0,0,0,0,0,0,5,5,0,0,"-",0,0,0,0,"-",0,0,5,5,0,5,0,0,0,0,5,0,0]
["Sun","2021-01-31","Chelsea",2,0,"Burnley","12:00:00",null,5,5,5,5,10,"-",10,5,5,5,10,"-",0,10,5,5,5,10,10,10,10,10,10,5,10,10,10,"-",5,10,5,10,10,"-",5,5,10,10,5,10,5,5,5,10,10,10,5,10,10,10,5,5,5,5,5,10,"-",0,10,10,5,"-",0,10,5,10,10,5,5,5,10,5,10,5,5]
["Sun","2021-01-31","Leicester City",1,3,"Leeds Utd","14:00:00",null,0,0,0,5,0,"-",0,0,0,0,0,"-",0,0,0,0,0,0,0,0,0,0,0,0,0,0,0,"-",0,0,0,0,0,"-",0,0,0,0,0,0,0,0,0,0,0,0,0,0,0,0,0,0,0,0,0,0,"-",0,0,0,0,"-",0,0,0,0,0,0,0,0,0,0,0,0,0]
["Sun","2021-01-31","West Ham",1,3,"Liverpool","16:30:00",null,0,0,10,5,10,"-",5,10,5,5,5,"-",5,10,5,5,5,10,5,0,5,5,5,5,5,5,5,"-",5,5,5,10,10,"-",0,5,5,5,0,5,10,0,5,10,5,5,5,5,5,10,5,0,0,5,5,10,"-",0,5,0,10,"-",10,5,0,0,5,10,5,0,0,5,5,5,0]
["Sun","2021-01-31","Brighton",1,0,"Tottenham","19:15:00",null,0,10,0,0,0,"-",0,0,0,0,0,"-",0,0,0,0,0,0,0,0,0,0,0,0,0,0,10,"-",0,0,0,0,0,"-",0,0,0,10,0,0,0,5,0,0,0,0,0,0,0,0,0,5,0,0,0,0,"-",0,0,0,0,"-",0,0,0,0,0,0,0,0,0,0,0,0,0]
[]
["Golden Boots"]
["Anthony Martial - Man United",null,null,{"$f":"COUNT(I55:CE55)","v":8},{"$f":"1+0+0+0+0+0","v":1},null,null,null,null,null,null,null,null,null,null,null,null,null,null,null,{"$f":"$E55*2","v":2},null,null,null,null,null,null,{"$f":"$E55*2","v":2},null,null,null,{"$f":"$E55*2","v":2},null,null,null,null,null,null,{"$f":"$E55*2","v":2},null,null,null,null,null,null,null,null,null,null,null,null,null,null,null,null,{"$f":"$E55*2","v":2},null,null,null,null,{"$f":"$E55*2","v":2},null,null,null,null,{"$f":"$E55*2","v":2},null,null,null,null,null,null,{"$f":"$E55*2","v":2}]
["Chris Wood - Burnley",null,null,0,{"$f":"0+0+0+1+0+0","v":1}]
["Danny Ings - Southampton",null,null,6,{"$f":"1+0+0","v":1},null,null,null,null,null,null,null,null,null,null,null,null,null,null,{"$f":"$E57*2","v":2},null,null,null,null,null,null,null,null,null,null,null,null,null,null,null,null,null,null,null,null,null,{"$f":"$E57*2","v":2},null,null,null,null,null,null,null,null,null,null,null,null,null,null,null,null,null,null,null,null,null,null,null,null,{"$f":"$E57*2","v":2},null,null,{"$f":"$E57*2","v":2},null,null,null,{"$f":"$E57*2","v":2},null,null,null,null,null,null,null,{"$f":"$E57*2","v":2}]
["Harry Kane - Tottenham Hotspur",null,null,44,{"$f":"1+1+1+0+0","v":3},null,null,null,{"$f":"$E58*2","v":6},6,6,6,6,6,6,null,{"$f":"$E58*2","v":6},{"$f":"$E58*2","v":6},null,null,null,null,{"$f":"$E58*2","v":6},{"$f":"$E58*2","v":6},{"$f":"$E58*2","v":6},{"$f":"$E58*2","v":6},null,null,{"$f":"$E58*2","v":6},6,6,6,6,6,6,{"$f":"$E58*2","v":6},{"$f":"$E58*2","v":6},{"$f":"$E58*2","v":6},{"$f":"$E58*2","v":6},{"$f":"$E58*2","v":6},null,{"$f":"$E58*2","v":6},{"$f":"$E58*2","v":6},{"$f":"$E58*2","v":6},{"$f":"$E58*2","v":6},{"$f":"$E58*2","v":6},null,null,{"$f":"$E58*2","v":6},null,{"$f":"$E58*2","v":6},{"$f":"$E58*2","v":6},{"$f":"$E58*2","v":6},{"$f":"$E58*2","v":6},null,{"$f":"$E58*2","v":6},null,{"$f":"$E58*2","v":6},null,{"$f":"$E58*2","v":6},{"$f":"$E58*2","v":6},null,null,null,{"$f":"$E58*2","v":6},null,null,null,null,null,{"$f":"$E58*2","v":6},{"$f":"$E58*2","v":6},null,null,null,{"$f":"$E58*2","v":6},null,null,null,null,null,{"$f":"$E58*2","v":6}]
["Jamie Vardy - Leicester City",null,null,19,{"$f":"0+0+0+0+0","v":0},null,null,null,null,null,{"$f":"$E59*2","v":0},null,null,null,null,null,null,null,{"$f":"$E59*2","v":0},null,null,null,null,null,null,{"$f":"$E59*2","v":0},null,null,null,{"$f":"$E59*2","v":0},null,null,null,null,null,null,null,null,null,null,null,null,null,null,{"$f":"$E59*2","v":0},null,{"$f":"$E59*2","v":0},{"$f":"$E59*2","v":0},{"$f":"$E59*2","v":0},{"$f":"$E59*2","v":0},{"$f":"$E59*2","v":0},null,{"$f":"$E59*2","v":0},null,null,null,null,null,null,null,null,{"$f":"$E59*2","v":0},null,null,null,{"$f":"$E59*2","v":0},null,null,{"$f":"$E59*2","v":0},{"$f":"$E59*2","v":0},null,null,null,null,{"$f":"$E59*2","v":0},{"$f":"$E59*2","v":0},null,null,{"$f":"$E59*2","v":0},{"$f":"$E59*2","v":0}]
["Marcus Rashford - Man United",null,null,6,{"$f":"0+0+0+0+0+0","v":0},null,null,null,null,null,null,null,null,null,null,{"$f":"$E60*2","v":0},null,null,null,null,null,null,null,null,null,null,null,null,null,null,null,null,null,null,null,null,null,null,null,null,null,null,null,null,null,null,null,null,null,null,null,null,{"$f":"$E60*2","v":0},null,null,null,null,null,{"$f":"$E60*2","v":0},null,{"$f":"$E60*2","v":0},null,null,null,null,null,null,null,null,null,null,null,null,null,null,null,null,null,{"$f":"$E60*2","v":0},null,{"$f":"$E60*2","v":0}]
["Mohamed Salah - Liverpool",null,null,36,{"$f":"0+0+0+0+2","v":2},null,null,null,null,null,{"$f":"$E61*2","v":4},{"$f":"$E61*2","v":4},null,null,{"$f":"$E61*2","v":4},null,{"$f":"$E61*2","v":4},4,4,4,4,4,null,{"$f":"$E61*2","v":4},{"$f":"$E61*2","v":4},null,null,{"$f":"$E61*2","v":4},null,null,{"$f":"$E61*2","v":4},{"$f":"$E61*2","v":4},null,null,null,null,null,null,{"$f":"$E61*2","v":4},null,{"$f":"$E61*2","v":4},null,{"$f":"$E61*2","v":4},null,null,null,null,{"$f":"$E61*2","v":4},null,{"$f":"$E61*2","v":4},null,null,null,{"$f":"$E61*2","v":4},{"$f":"$E61*2","v":4},{"$f":"$E61*2","v":4},{"$f":"$E61*2","v":4},{"$f":"$E61*2","v":4},null,null,null,{"$f":"$E61*2","v":4},null,{"$f":"$E61*2","v":4},null,null,{"$f":"$E61*2","v":4},null,null,null,{"$f":"$E61*2","v":4},4,4,4,4,{"$f":"$E61*2","v":4},null,{"$f":"$E61*2","v":4},4,null,null,null,{"$f":"$E61*2","v":4}]
["Pierre Emerick Aubameyang - Arsenal",null,null,45,{"$f":"0+0+2+0","v":2},null,null,null,null,null,null,{"$f":"$E62*2","v":4},null,{"$f":"$E62*2","v":4},{"$f":"$E62*2","v":4},{"$f":"$E62*2","v":4},{"$f":"$E62*2","v":4},{"$f":"$E62*2","v":4},{"$f":"$E62*2","v":4},null,{"$f":"$E62*2","v":4},{"$f":"$E62*2","v":4},{"$f":"$E62*2","v":4},null,null,null,{"$f":"$E62*2","v":4},{"$f":"$E62*2","v":4},{"$f":"$E62*2","v":4},null,{"$f":"$E62*2","v":4},null,{"$f":"$E62*2","v":4},null,{"$f":"$E62*2","v":4},{"$f":"$E62*2","v":4},{"$f":"$E62*2","v":4},null,null,{"$f":"$E62*2","v":4},{"$f":"$E62*2","v":4},null,{"$f":"$E62*2","v":4},{"$f":"$E62*2","v":4},{"$f":"$E62*2","v":4},null,{"$f":"$E62*2","v":4},{"$f":"$E62*2","v":4},{"$f":"$E62*2","v":4},{"$f":"$E62*2","v":4},{"$f":"$E62*2","v":4},null,null,{"$f":"$E62*2","v":4},{"$f":"$E62*2","v":4},null,{"$f":"$E62*2","v":4},{"$f":"$E62*2","v":4},null,null,null,null,{"$f":"$E62*2","v":4},{"$f":"$E62*2","v":4},null,{"$f":"$E62*2","v":4},null,{"$f":"$E62*2","v":4},null,null,null,{"$f":"$E62*2","v":4},null,{"$f":"$E62*2","v":4},{"$f":"$E62*2","v":4},null,{"$f":"$E62*2","v":4},{"$f":"$E62*2","v":4},null,{"$f":"$E62*2","v":4},{"$f":"$E62*2","v":4},{"$f":"$E62*2","v":4},{"$f":"$E62*2","v":4}]
["Raheem Sterling - Man City",null,null,14,{"$f":"0+0+1+0+1+0","v":2},null,null,null,null,null,null,null,null,null,null,null,null,null,null,null,null,null,null,{"$f":"$E63*2","v":4},null,null,{"$f":"$E63*2","v":4},null,{"$f":"$E63*2","v":4},null,null,null,null,{"$f":"$E63*2","v":4},null,{"$f":"$E63*2","v":4},null,null,null,null,null,null,null,null,null,null,null,null,null,null,null,null,null,null,null,null,null,null,{"$f":"$E63*2","v":4},{"$f":"$E63*2","v":4},null,{"$f":"$E63*2","v":4},{"$f":"$E63*2","v":4},null,{"$f":"$E63*2","v":4},null,null,{"$f":"$E63*2","v":4},{"$f":"$E63*2","v":4},null,{"$f":"$E63*2","v":4},null,null,null,null,null,null,null,null,null,null,null,{"$f":"$E63*2","v":4}]
["Raul Jiminez - Wolves",null,null,1,{"$f":"0+0+0+0+0","v":0},null,null,null,null,null,null,null,null,null,null,null,null,null,null,null,null,null,null,null,null,null,null,null,null,null,null,null,null,null,null,null,null,null,null,null,null,null,null,null,null,null,{"$f":"$E64*2","v":0}]
["Richarlison - Everton",null,null,1,{"$f":"0+0+0+0","v":0},null,null,null,{"$f":"$E65*2","v":0}]
["Sadio Mane - Liverpool",null,null,12,{"$f":"0+0+0+1+0","v":1},null,null,null,null,{"$f":"$E66*2","v":2},null,null,{"$f":"$E66*2","v":2},null,null,{"$f":"$E66*2","v":2},null,null,null,null,null,{"$f":"$E66*2","v":2},null,null,null,null,null,null,null,null,null,null,null,{"$f":"$E66*2","v":2},{"$f":"$E66*2","v":2},null,null,null,null,null,null,null,null,null,null,{"$f":"$E66*2","v":2},null,null,null,null,null,{"$f":"$E66*2","v":2},null,null,null,null,null,null,{"$f":"$E66*2","v":2},null,null,null,null,{"$f":"$E66*2","v":2},null,null,null,{"$f":"$E66*2","v":2},null,null,null,null,null,null,null,null,null,null,null,null,{"$f":"$E66*2","v":2}]
["Sergio Aguero - Man City",null,null,9,{"$f":"0+0+0+0+0","v":0},null,null,null,null,{"$f":"$E67*2","v":0},null,null,null,null,null,null,null,null,null,{"$f":"$E67*2","v":0},null,null,null,null,null,null,null,null,null,null,null,null,null,null,null,null,null,{"$f":"$E67*2","v":0},null,null,null,{"$f":"$E67*2","v":0},null,null,null,{"$f":"$E67*2","v":0},null,null,null,null,null,null,null,null,null,null,{"$f":"$E67*2","v":0},null,null,null,null,null,null,null,{"$f":"$E67*2","v":0},null,null,null,null,null,null,null,{"$f":"$E67*2","v":0},null,null,null,{"$f":"$E67*2","v":0}]
["Tammy Abraham - Chelsea",null,null,0,{"$f":"0+0+0+0+0+0","v":0}]
["Timo Werner - Chelsea",null,null,24,{"$f":"0+0+0+0+0+0","v":0},null,null,null,{"$f":"$E69*2","v":0},null,null,null,{"$f":"$E69*2","v":0},{"$f":"$E69*2","v":0},null,null,null,null,null,null,null,null,{"$f":"$E69*2","v":0},null,{"$f":"$E69*2","v":0},{"$f":"$E69*2","v":0},{"$f":"$E69*2","v":0},null,null,{"$f":"$E69*2","v":0},null,null,{"$f":"$E69*2","v":0},null,null,null,{"$f":"$E69*2","v":0},{"$f":"$E69*2","v":0},null,{"$f":"$E69*2","v":0},{"$f":"$E69*2","v":0},null,null,{"$f":"$E69*2","v":0},null,null,null,null,null,null,null,{"$f":"$E69*2","v":0},null,null,{"$f":"$E69*2","v":0},null,null,null,null,{"$f":"$E69*2","v":0},null,null,{"$f":"$E69*2","v":0},null,null,null,{"$f":"$E69*2","v":0},null,{"$f":"$E69*2","v":0},{"$f":"$E69*2","v":0},null,null,null,null,null,null,{"$f":"$E69*2","v":0},{"$f":"$E69*2","v":0},null,{"$f":"$E69*2","v":0}]
[]
["Golden Gloves"]
["Alisson Becker - Liverpool",null,null,{"$f":"COUNT(I72:CE72)","v":57},{"$f":"0+1+0+0+0","v":1},null,null,null,null,{"$f":"$E72*2","v":2},{"$f":"$E72*2","v":2},{"$f":"$E72*2","v":2},{"$f":"$E72*2","v":2},null,{"$f":"$E72*2","v":2},{"$f":"$E72*2","v":2},null,{"$f":"$E72*2","v":2},{"$f":"$E72*2","v":2},{"$f":"$E72*2","v":2},null,{"$f":"$E72*2","v":2},{"$f":"$E72*2","v":2},{"$f":"$E72*2","v":2},{"$f":"$E72*2","v":2},{"$f":"$E72*2","v":2},null,{"$f":"$E72*2","v":2},null,{"$f":"$E72*2","v":2},null,null,{"$f":"$E72*2","v":2},2,2,2,2,2,null,{"$f":"$E72*2","v":2},{"$f":"$E72*2","v":2},{"$f":"$E72*2","v":2},{"$f":"$E72*2","v":2},{"$f":"$E72*2","v":2},null,{"$f":"$E72*2","v":2},null,{"$f":"$E72*2","v":2},null,{"$f":"$E72*2","v":2},{"$f":"$E72*2","v":2},{"$f":"$E72*2","v":2},{"$f":"$E72*2","v":2},{"$f":"$E72*2","v":2},null,{"$f":"$E72*2","v":2},{"$f":"$E72*2","v":2},{"$f":"$E72*2","v":2},{"$f":"$E72*2","v":2},null,{"$f":"$E72*2","v":2},{"$f":"$E72*2","v":2},2,{"$f":"$E72*2","v":2},2,2,{"$f":"$E72*2","v":2},2,null,{"$f":"$E72*2","v":2},2,2,null,null,{"$f":"$E72*2","v":2},2,2,{"$f":"$E72*2","v":2},2,2,2,null,{"$f":"$E72*2","v":2}]
["Ederson - Man City",null,null,{"$f":"COUNT(I73:CE73)","v":14},{"$f":"0+1+1+1+1+1","v":5},null,null,null,{"$f":"$E73*2","v":10},null,null,null,null,null,null,null,{"$f":"$E73*2","v":10},null,null,null,{"$f":"$E73*2","v":10},null,null,null,null,null,{"$f":"$E73*2","v":10},null,{"$f":"$E73*2","v":10},null,{"$f":"$E73*2","v":10},{"$f":"$E73*2","v":10},null,null,null,null,null,null,{"$f":"$E73*2","v":10},null,null,null,null,null,null,null,{"$f":"$E73*2","v":10},null,{"$f":"$E73*2","v":10},null,null,null,null,null,{"$f":"$E73*2","v":10},null,null,null,null,{"$f":"$E73*2","v":10},null,null,null,null,null,null,null,null,null,null,null,null,null,{"$f":"$E73*2","v":10},null,null,null,null,null,null,null,{"$f":"$E73*2","v":10}]
["David de Gea - Man United",null,null,{"$f":"COUNT(I74:CE74)","v":3},{"$f":"0+1+1+0+0+1","v":3},null,null,null,null,null,null,null,null,{"$f":"$E74*2","v":6},null,null,null,null,null,null,null,null,null,null,null,null,null,null,null,null,null,null,null,null,null,null,null,null,null,null,null,null,null,null,{"$f":"$E74*2","v":6},null,null,null,null,null,null,null,null,null,null,null,null,null,null,null,null,null,null,null,null,null,null,null,null,null,null,null,{"$f":"$E74*2","v":6}]
["Hugo Lloris - Tottenham Hotspur",null,null,{"$f":"COUNT(I75:CE75)","v":1},{"$f":"1+0+0","v":1},null,null,null,null,null,null,null,null,null,null,null,null,null,null,null,null,null,null,null,null,null,null,null,null,null,null,null,null,null,null,null,null,null,null,null,null,null,null,null,null,null,null,null,null,null,null,null,null,null,null,null,null,null,null,null,null,null,null,null,null,null,null,null,{"$f":"$E75*2","v":2}]
["Nick Pope - Burnley",null,null,{"$f":"COUNT(I76:CE76)","v":0},{"$f":"0+0+1+0+0+0","v":1}]
[]
["Grand Total - January",null,null,null,null,null,null,null,{"$f":"SUM(I$3:I77)","v":171},{"$f":"SUM(J$3:J77)","v":180},{"$f":"SUM(K$3:K77)","v":167},{"$f":"SUM(L$3:L77)","v":161},{"$f":"SUM(M$3:M77)","v":145},{"$f":"SUM(N$3:N77)","v":16},{"$f":"SUM(O$3:O77)","v":141},{"$f":"SUM(P$3:P77)","v":133},{"$f":"SUM(Q$3:Q77)","v":169},{"$f":"SUM(R$3:R77)","v":161},{"$f":"SUM(S$3:S77)","v":150},{"$f":"SUM(T$3:T77)","v":63},{"$f":"SUM(U$3:U77)","v":150},{"$f":"SUM(V$3:V77)","v":162},{"$f":"SUM(W$3:W77)","v":147},{"$f":"SUM(X$3:X77)","v":126},{"$f":"SUM(Y$3:Y77)","v":157},{"$f":"SUM(Z$3:Z77)","v":188},{"$f":"SUM(AA$3:AA77)","v":163},{"$f":"SUM(AB$3:AB77)","v":152},{"$f":"SUM(AC$3:AC77)","v":189},{"$f":"SUM(AD$3:AD77)","v":158},{"$f":"SUM(AE$3:AE77)","v":179},{"$f":"SUM(AF$3:AF77)","v":157},{"$f":"SUM(AG$3:AG77)","v":167},{"$f":"SUM(AH$3:AH77)","v":169},{"$f":"SUM(AI$3:AI77)","v":194},{"$f":"SUM(AJ$3:AJ77)","v":16},{"$f":"SUM(AK$3:AK77)","v":162},{"$f":"SUM(AL$3:AL77)","v":193},{"$f":"SUM(AM$3:AM77)","v":157},{"$f":"SUM(AN$3:AN77)","v":167},{"$f":"SUM(AO$3:AO77)","v":155},{"$f":"SUM(AP$3:AP77)","v":10},{"$f":"SUM(AQ$3:AQ77)","v":166},{"$f":"SUM(AR$3:AR77)","v":152},{"$f":"SUM(AS$3:AS77)","v":181},{"$f":"SUM(AT$3:AT77)","v":180},{"$f":"SUM(AU$3:AU77)","v":139},{"$f":"SUM(AV$3:AV77)","v":150},{"$f":"SUM(AW$3:AW77)","v":205},{"$f":"SUM(AX$3:AX77)","v":110},{"$f":"SUM(AY$3:AY77)","v":147},{"$f":"SUM(AZ$3:AZ77)","v":175},{"$f":"SUM(BA$3:BA77)","v":198},{"$f":"SUM(BB$3:BB77)","v":176},{"$f":"SUM(BC$3:BC77)","v":113},{"$f":"SUM(BD$3:BD77)","v":109},{"$f":"SUM(BE$3:BE77)","v":150},{"$f":"SUM(BF$3:BF77)","v":196},{"$f":"SUM(BG$3:BG77)","v":133},{"$f":"SUM(BH$3:BH77)","v":175},{"$f":"SUM(BI$3:BI77)","v":135},{"$f":"SUM(BJ$3:BJ77)","v":160},{"$f":"SUM(BK$3:BK77)","v":160},{"$f":"SUM(BL$3:BL77)","v":137},{"$f":"SUM(BM$3:BM77)","v":12},{"$f":"SUM(BN$3:BN77)","v":118},{"$f":"SUM(BO$3:BO77)","v":133},{"$f":"SUM(BP$3:BP77)","v":167},{"$f":"SUM(BQ$3:BQ77)","v":136},{"$f":"SUM(BR$3:BR77)","v":89},{"$f":"SUM(BS$3:BS77)","v":131},{"$f":"SUM(BT$3:BT77)","v":161},{"$f":"SUM(BU$3:BU77)","v":162},{"$f":"SUM(BV$3:BV77)","v":155},{"$f":"SUM(BW$3:BW77)","v":160},{"$f":"SUM(BX$3:BX77)","v":182},{"$f":"SUM(BY$3:BY77)","v":126},{"$f":"SUM(BZ$3:BZ77)","v":150},{"$f":"SUM(CA$3:CA77)","v":141},{"$f":"SUM(CB$3:CB77)","v":146},{"$f":"SUM(CC$3:CC77)","v":153},{"$f":"SUM(CD$3:CD77)","v":202},{"$f":"SUM(CE$3:CE77)","v":164}]
[]
["Ten Pointers",null,null,null,null,null,null,null,{"$f":"COUNTIF(I$3:I52,\"10\")","v":6},{"$f":"COUNTIF(J$3:J52,\"10\")","v":8},{"$f":"COUNTIF(K$3:K52,\"10\")","v":5},{"$f":"COUNTIF(L$3:L52,\"10\")","v":3},{"$f":"COUNTIF(M$3:M52,\"10\")","v":6},{"$f":"COUNTIF(N$3:N52,\"10\")","v":0},{"$f":"COUNTIF(O$3:O52,\"10\")","v":3},{"$f":"COUNTIF(P$3:P52,\"10\")","v":3},{"$f":"COUNTIF(Q$3:Q52,\"10\")","v":3},{"$f":"COUNTIF(R$3:R52,\"10\")","v":4},{"$f":"COUNTIF(S$3:S52,\"10\")","v":3},{"$f":"COUNTIF(T$3:T52,\"10\")","v":1},{"$f":"COUNTIF(U$3:U52,\"10\")","v":5},{"$f":"COUNTIF(V$3:V52,\"10\")","v":7},{"$f":"COUNTIF(W$3:W52,\"10\")","v":5},{"$f":"COUNTIF(X$3:X52,\"10\")","v":2},{"$f":"COUNTIF(Y$3:Y52,\"10\")","v":4},{"$f":"COUNTIF(Z$3:Z52,\"10\")","v":10},{"$f":"COUNTIF(AA$3:AA52,\"10\")","v":6},{"$f":"COUNTIF(AB$3:AB52,\"10\")","v":4},{"$f":"COUNTIF(AC$3:AC52,\"10\")","v":5},{"$f":"COUNTIF(AD$3:AD52,\"10\")","v":3},{"$f":"COUNTIF(AE$3:AE52,\"10\")","v":6},{"$f":"COUNTIF(AF$3:AF52,\"10\")","v":4},{"$f":"COUNTIF(AG$3:AG52,\"10\")","v":5},{"$f":"COUNTIF(AH$3:AH52,\"10\")","v":5},{"$f":"COUNTIF(AI$3:AI52,\"10\")","v":6},{"$f":"COUNTIF(AJ$3:AJ52,\"10\")","v":0},{"$f":"COUNTIF(AK$3:AK52,\"10\")","v":3},{"$f":"COUNTIF(AL$3:AL52,\"10\")","v":7},{"$f":"COUNTIF(AM$3:AM52,\"10\")","v":2},{"$f":"COUNTIF(AN$3:AN52,\"10\")","v":7},{"$f":"COUNTIF(AO$3:AO52,\"10\")","v":5},{"$f":"COUNTIF(AP$3:AP52,\"10\")","v":0},{"$f":"COUNTIF(AQ$3:AQ52,\"10\")","v":4},{"$f":"COUNTIF(AR$3:AR52,\"10\")","v":5},{"$f":"COUNTIF(AS$3:AS52,\"10\")","v":7},{"$f":"COUNTIF(AT$3:AT52,\"10\")","v":8},{"$f":"COUNTIF(AU$3:AU52,\"10\")","v":4},{"$f":"COUNTIF(AV$3:AV52,\"10\")","v":3},{"$f":"COUNTIF(AW$3:AW52,\"10\")","v":8},{"$f":"COUNTIF(AX$3:AX52,\"10\")","v":2},{"$f":"COUNTIF(AY$3:AY52,\"10\")","v":4},{"$f":"COUNTIF(AZ$3:AZ52,\"10\")","v":7},{"$f":"COUNTIF(BA$3:BA52,\"10\")","v":7},{"$f":"COUNTIF(BB$3:BB52,\"10\")","v":6},{"$f":"COUNTIF(BC$3:BC52,\"10\")","v":3},{"$f":"COUNTIF(BD$3:BD52,\"10\")","v":3},{"$f":"COUNTIF(BE$3:BE52,\"10\")","v":5},{"$f":"COUNTIF(BF$3:BF52,\"10\")","v":9},{"$f":"COUNTIF(BG$3:BG52,\"10\")","v":4},{"$f":"COUNTIF(BH$3:BH52,\"10\")","v":5},{"$f":"COUNTIF(BI$3:BI52,\"10\")","v":3},{"$f":"COUNTIF(BJ$3:BJ52,\"10\")","v":6},{"$f":"COUNTIF(BK$3:BK52,\"10\")","v":4},{"$f":"COUNTIF(BL$3:BL52,\"10\")","v":3},{"$f":"COUNTIF(BM$3:BM52,\"10\")","v":0},{"$f":"COUNTIF(BN$3:BN52,\"10\")","v":3},{"$f":"COUNTIF(BO$3:BO52,\"10\")","v":5},{"$f":"COUNTIF(BP$3:BP52,\"10\")","v":5},{"$f":"COUNTIF(BQ$3:BQ52,\"10\")","v":3},{"$f":"COUNTIF(BR$3:BR52,\"10\")","v":0},{"$f":"COUNTIF(BS$3:BS52,\"10\")","v":4},{"$f":"COUNTIF(BT$3:BT52,\"10\")","v":7},{"$f":"COUNTIF(BU$3:BU52,\"10\")","v":4},{"$f":"COUNTIF(BV$3:BV52,\"10\")","v":4},{"$f":"COUNTIF(BW$3:BW52,\"10\")","v":5},{"$f":"COUNTIF(BX$3:BX52,\"10\")","v":6},{"$f":"COUNTIF(BY$3:BY52,\"10\")","v":3},{"$f":"COUNTIF(BZ$3:BZ52,\"10\")","v":4},{"$f":"COUNTIF(CA$3:CA52,\"10\")","v":3},{"$f":"COUNTIF(CB$3:CB52,\"10\")","v":3},{"$f":"COUNTIF(CC$3:CC52,\"10\")","v":4},{"$f":"COUNTIF(CD$3:CD52,\"10\")","v":7},{"$f":"COUNTIF(CE$3:CE52,\"10\")","v":6}]

{"sheet":"February","index":6,"n_rows":82,"n_cols":83,"rows_kept":82,"cut":false,"hidden":false,"merged":[[1,2,1,5]]}
[null,null,null,null,null,null,null,null,"Aidan Scanlon","Aidan White","Alan White","Anastas Popov","Andy Dunne","Ben Creasey","Bobby Hynes","Brendan Maguire","Brian Prendergast","Brian Haughton","Brian Mullen","Callum Dunne","Calvin McGettigan","Caroline Carroll","Cathal Thornton","Christina Morgan","Ciaran Nelson","Ciaran O'Hart","Con McSweeney","Craig Calvert","Darragh Kenny","David Cooney","David Lavelle","David McGinley","Davy Doyle","Dean White","Derek Brady","Drew Armstrong","Eamon Fox","Eoghan Farrelly","Fiachra O'Brolachain","Frank McSweeney","Gareth Pierpoint","Gary Donnelly","Gary Fitzpatrick","Gary McGurk","Gavin Goodwin","Gavin Morgan","George McGettigan","Gerard McCluskey","Gerry Draper","Gerry Moore","Graham Goodwin","Javier Suarez","Joe Behan","Joe Turner","John Brophy","John O'Driscoll","Jonathan Fox","Joseph Kavanagh","Kev Dalton","Kevin Philpott","Kris Stainton","Liam Geraghty","Liam Keohan","Lionel Knott","Michael Kenaney","Micheal Joyce","Niall Cannon","Niall Carroll","Niall Murray","Patrick Mifsud","Paul Moore","Paul Prendergast","Phil Doyle","Philip Jordan","Ralph Goodwin","Richard Johnston","Robert Hynes","Robert Manley","Roisin Joyce","Sean O'Mairtin","Trevor Byrne","Victoria Reid","Wayne Donovan"]
["Day","Date","Teams",null,null,null,"Time"]
["Tue","2021-02-02","Sheffield Utd",2,1,"West Bromwich","18:00:00",null,5,5,5,5,5,"-",10,5,10,5,0,"-",5,5,5,5,0,5,5,5,5,5,0,10,0,5,5,"-",5,0,10,5,5,"-",10,0,10,5,10,5,10,0,5,0,0,5,0,10,5,5,5,10,0,10,0,0,"-",0,10,10,0,"-",5,5,0,10,5,5,0,10,0,5,0,0,5]
["Tue","2021-02-02","Wolverhampton",2,1,"Arsenal","18:00:00",null,0,5,0,0,0,"-",10,10,10,0,0,"-",0,10,0,0,0,0,0,0,0,10,0,10,0,5,0,"-",0,0,10,0,0,"-",0,0,0,5,0,0,5,0,0,0,0,0,5,0,0,0,0,10,0,0,0,10,"-",0,0,0,10,"-",0,0,0,0,5,0,0,0,0,5,0,0,0]
["Tue","2021-02-02","Manchester United",9,0,"Southampton","20:15:00",null,5,5,0,5,0,"-",5,5,5,5,5,"-",0,0,5,5,5,5,5,5,5,5,5,5,5,5,0,"-",5,5,5,5,5,"-",5,5,5,5,5,5,5,0,5,5,5,5,5,5,5,0,5,5,5,5,0,5,"-",0,0,5,0,"-",5,5,5,5,5,5,5,5,5,5,5,5,5]
["Tue","2021-02-02","Newcastle Utd",1,2,"Crystal Palace","20:15:00",null,0,0,0,0,0,"-",0,0,0,0,0,"-",0,0,0,0,5,0,0,0,0,0,5,0,5,0,0,"-",0,0,0,0,0,"-",10,0,5,0,0,0,0,0,0,0,0,0,10,0,5,0,5,0,0,0,0,0,"-",0,0,0,0,"-",0,0,0,0,0,0,0,10,0,0,0,5,0]
["Wed","2021-02-03","Burnley",0,2,"Manchester City","18:00:00",null,10,5,5,10,0,"-",10,10,10,5,5,"-",10,5,5,5,10,10,5,10,5,5,5,10,10,10,5,"-",10,5,0,10,5,"-",5,0,10,10,5,5,10,5,5,5,10,5,5,5,5,5,5,5,5,0,5,10,"-",5,5,5,5,"-",5,10,10,10,5,5,10,10,10,5,5,5,5]
["Wed","2021-02-03","Fulham",0,2,"Leicester City","18:00:00",null,5,5,5,5,10,"-",0,5,10,5,10,"-",5,0,10,10,5,5,10,10,5,5,10,5,10,10,5,"-",10,10,0,10,0,"-",5,0,0,5,5,5,10,5,0,5,0,5,5,5,5,10,10,5,10,10,5,5,"-",5,0,0,5,"-",5,5,5,5,10,5,5,10,0,5,5,5,0]
["Wed","2021-02-03","Leeds Utd",1,2,"Everton","19:30:00",null,5,0,0,0,0,"-",0,0,0,0,0,"-",5,0,0,0,0,0,0,0,10,5,0,0,0,0,0,"-",0,0,0,0,0,"-",0,0,10,0,10,0,10,10,0,0,0,0,0,0,10,10,5,0,10,0,10,0,"-",0,0,0,0,"-",0,0,0,0,0,10,0,0,0,0,0,0,0]
["Wed","2021-02-03","Aston Villa",1,3,"West Ham","20:15:00",null,10,0,5,0,0,"-",0,0,0,0,5,"-",0,0,5,0,0,0,0,0,0,0,0,0,0,5,0,"-",0,0,0,0,0,"-",0,0,0,0,0,0,0,0,5,0,0,0,0,0,0,0,0,0,0,0,0,5,"-",5,5,0,5,"-",0,0,0,0,0,5,0,0,0,0,5,0,0]
["Wed","2021-02-03","Liverpool",0,1,"Brighton","20:15:00",null,0,0,0,0,0,"-",0,0,0,0,0,"-",0,0,0,0,0,0,0,0,0,0,0,0,0,0,0,"-",0,0,0,0,0,"-",0,0,0,0,0,0,0,0,0,0,0,0,0,0,0,0,0,0,0,0,0,0,"-",0,0,0,0,"-",0,0,0,0,0,0,0,0,0,0,0,0,0]
["Thu","2021-02-04","Tottenham",0,1,"Chelsea","20:00:00",null,0,0,0,0,0,"-",0,0,0,0,0,"-",0,0,0,0,0,0,5,0,5,5,0,0,0,0,5,"-",10,0,0,0,10,"-",0,0,0,0,0,0,0,5,0,0,0,0,5,0,0,5,0,5,5,0,5,0,"-",0,0,5,10,"-",5,0,0,5,5,0,0,5,5,0,0,5,0]
["Sat","2021-02-06","Aston Villa",1,0,"Arsenal","12:30:00",null,0,0,0,5,5,"-",0,5,5,10,0,0,5,0,5,5,5,0,0,0,0,5,5,0,5,0,5,"-",0,0,5,0,0,"-",0,0,0,10,0,0,0,0,10,0,5,0,0,"-",0,5,5,0,10,0,0,0,"-",0,0,5,5,"-",5,0,5,5,0,5,0,5,0,5,5,0,0]
["Sat","2021-02-06","Burnley",1,1,"Brighton","15:00:00",null,10,0,0,0,0,"-",10,10,10,0,0,10,0,0,10,0,10,0,0,10,10,10,5,0,0,0,0,"-",0,10,0,10,5,"-",0,5,10,0,0,10,5,5,0,5,0,10,10,"-",10,0,0,0,5,0,0,10,"-",0,5,10,0,"-",0,5,0,10,0,0,10,0,10,0,0,10,0]
["Sat","2021-02-06","Newcastle Utd",3,2,"Southampton","15:00:00",null,0,0,0,0,5,"-",0,5,0,5,5,0,5,0,0,5,0,5,5,0,0,5,0,0,0,0,0,"-",5,5,5,0,0,"-",0,5,5,0,5,0,5,5,0,0,0,0,0,"-",0,0,0,0,0,0,0,0,"-",5,0,0,5,"-",0,0,0,5,0,5,0,0,0,0,5,0,5]
["Sat","2021-02-06","Fulham",0,0,"West Ham","17:30:00",null,0,5,0,0,0,"-",5,0,0,0,0,0,0,0,0,0,0,0,0,0,0,5,0,0,0,0,0,"-",0,0,0,0,0,"-",0,0,0,0,0,5,0,0,0,0,0,5,5,"-",0,0,0,0,0,5,0,0,"-",0,5,0,5,"-",0,0,0,0,0,0,0,0,0,0,0,0,5]
["Sat","2021-02-06","Manchester United",3,3,"Everton","20:00:00",null,0,0,0,0,5,"-",0,0,0,0,0,5,0,5,0,0,0,5,0,0,0,0,5,0,0,0,0,"-",0,0,0,0,0,"-",0,5,0,0,0,0,0,0,0,0,0,0,0,"-",0,0,0,0,0,0,5,0,"-",5,0,0,0,"-",5,0,0,0,0,0,0,5,0,5,0,0,0]
["Sun","2021-02-07","Tottenham",2,0,"West Bromwich","12:00:00",null,10,10,10,10,5,"-",10,10,5,5,10,5,5,10,5,5,5,10,10,10,0,10,5,10,10,5,5,"-",10,5,5,5,5,"-",5,5,5,5,0,10,10,0,5,5,5,10,0,"-",10,10,10,10,5,5,5,5,"-",10,5,5,5,"-",5,5,10,10,5,5,5,5,5,10,5,5,5]
["Sun","2021-02-07","Wolverhampton",0,0,"Leicester City","14:00:00",null,0,5,0,0,5,"-",5,5,0,0,5,0,0,5,0,0,5,0,0,5,5,0,0,5,0,0,0,"-",0,0,0,5,5,"-",0,5,0,0,5,5,0,5,0,0,5,5,0,"-",0,5,0,5,0,0,0,0,"-",0,5,5,0,"-",5,5,0,0,0,0,0,5,0,0,0,0,0]
["Sun","2021-02-07","Liverpool",1,4,"Manchester City","16:30:00",null,5,0,0,5,0,"-",0,5,0,0,5,0,0,0,5,0,5,0,5,0,5,5,0,0,5,0,0,"-",5,5,0,0,0,"-",5,0,0,5,10,0,5,0,0,0,5,0,5,"-",5,0,5,5,5,0,5,0,"-",5,0,0,5,"-",0,0,5,5,0,0,0,0,5,0,0,5,0]
["Sun","2021-02-07","Sheffield Utd",1,2,"Chelsea","19:15:00",null,5,0,5,5,5,"-",5,0,5,5,5,10,5,5,5,0,5,10,5,5,0,5,5,10,5,5,5,"-",5,5,0,5,5,"-",10,5,5,5,10,5,5,5,5,5,5,5,5,"-",5,5,5,5,5,5,5,5,"-",5,5,5,5,"-",5,5,5,5,5,5,5,5,5,0,0,5,0]
["Mon","2021-02-08","Leeds Utd",2,0,"Crystal Palace","20:00:00",null,5,5,5,5,10,"-",0,5,5,5,5,5,0,0,0,5,5,10,10,5,5,5,5,5,0,5,5,"-",10,5,"-",0,5,"-",5,0,0,10,0,5,5,0,5,5,5,5,5,"-",5,0,5,5,5,10,5,10,"-",5,5,5,0,"-",5,5,10,5,10,5,5,5,5,10,5,0,5]
["Sat","2021-02-13","Leicester City",3,1,"Liverpool","12:30:00",null,5,0,0,5,0,"-",0,0,0,0,0,"-",0,0,0,5,0,0,0,0,0,0,0,0,0,0,0,"-",5,5,0,0,0,"-",0,0,0,5,0,0,0,0,5,0,0,0,0,"-",0,0,5,0,5,0,5,0,"-",5,5,5,0,"-",0,0,0,5,0,0,0,0,0,0,0,0,0]
["Sat","2021-02-13","Crystal Palace",0,3,"Burnley","15:00:00",null,0,5,0,0,0,"-",0,0,0,0,0,"-",0,0,0,0,0,0,0,0,0,0,0,0,5,0,0,"-",5,0,5,0,0,"-",0,5,0,0,0,0,0,0,0,0,0,0,0,"-",0,0,0,0,0,0,5,0,"-",0,0,0,0,"-",0,0,0,0,0,0,0,0,0,0,0,0,0]
["Sat","2021-02-13","Manchester City",3,0,"Tottenham","17:30:00",null,5,5,10,5,5,"-",5,5,5,5,5,"-",5,5,10,5,5,5,5,5,5,5,5,5,10,0,5,"-",5,5,5,0,5,"-",5,5,10,10,5,5,5,5,5,0,5,5,10,"-",5,5,5,5,5,5,5,5,"-",5,5,5,5,"-",5,5,5,5,5,5,5,10,5,5,5,5,5]
["Sat","2021-02-13","Brighton",0,0,"Aston Villa","20:00:00",null,0,5,0,0,0,"-",5,0,0,0,0,"-",0,0,0,0,0,5,0,0,5,5,0,5,0,0,0,"-",0,5,0,5,5,"-",5,5,0,5,0,0,0,10,0,5,5,0,0,"-",0,0,0,5,0,0,0,0,"-",0,0,5,0,"-",0,5,0,0,5,5,0,5,5,0,0,0,5]
["Sun","2021-02-14","Southampton",1,2,"Wolverhampton","12:00:00",null,0,0,0,5,0,"-",0,5,0,0,5,"-",0,0,0,10,10,0,5,0,10,0,0,0,0,5,0,"-",0,5,0,0,0,"-",10,0,10,0,0,0,5,0,0,0,0,0,0,"-",0,0,0,0,10,5,5,0,"-",0,0,0,10,"-",0,0,0,0,0,5,0,0,0,0,0,0,10]
["Sun","2021-02-14","West Bromwich",1,1,"Manchester United","14:00:00",null,0,0,0,0,0,"-",0,0,0,0,0,"-",0,0,0,0,0,0,0,0,0,0,0,0,0,0,0,"-",0,0,0,0,0,"-",0,0,0,0,10,0,0,0,10,0,0,0,0,"-",0,5,0,0,0,0,0,0,"-",0,0,0,0,"-",0,0,0,0,0,0,0,0,0,0,0,0,0]
["Sun","2021-02-14","Arsenal",4,2,"Leeds Utd","16:30:00",null,0,0,5,5,5,"-",5,5,5,5,5,"-",0,5,0,5,0,0,0,0,0,5,0,5,5,0,5,"-",5,0,0,5,5,"-",5,5,0,5,0,5,0,5,0,0,0,5,0,"-",5,5,5,5,0,0,0,0,"-",5,"-",5,0,"-",0,5,0,5,0,0,5,5,0,0,0,0,5]
["Sun","2021-02-14","Everton",0,2,"Fulham","19:00:00",null,0,0,0,0,0,"-",0,0,0,0,0,"-",0,0,0,0,0,0,0,0,0,0,0,0,0,0,0,"-",0,0,0,0,0,"-",0,0,0,0,0,0,0,0,0,0,0,0,0,"-",0,0,0,0,0,0,0,0,"-",0,"-",0,0,"-",0,0,0,0,0,0,0,0,0,0,0,0,0]
["Mon","2021-02-15","West Ham",3,0,"Sheffield Utd","18:00:00",null,5,5,5,5,5,"-",0,5,5,5,5,"-",5,0,5,5,5,5,5,5,5,5,5,5,5,0,5,"-",5,5,0,5,5,"-",5,5,5,5,5,5,5,5,5,5,5,5,0,"-",5,5,5,5,5,5,5,5,"-",5,"-",5,0,"-",0,5,5,5,5,5,5,5,5,5,0,5,5]
["Mon","2021-02-15","Chelsea",2,0,"Newcastle Utd","20:00:00",null,5,5,5,10,5,"-",10,10,5,10,10,"-",5,5,10,0,0,10,10,10,10,10,10,10,5,10,10,"-",10,5,10,5,5,"-",10,5,10,10,5,10,10,5,5,5,10,10,5,"-",10,5,10,5,5,10,10,5,"-",10,"-",5,5,"-",10,5,5,10,5,5,5,10,10,5,10,5,10]
["Wed","2021-02-17","Burnley",1,1,"Fulham","18:00:00",null,10,10,10,0,0,"-",0,10,0,10,0,"-",0,0,0,0,10,0,10,0,0,10,0,0,10,10,10,"-",5,0,0,0,10,"-",0,0,10,0,0,0,0,5,0,0,0,0,0,"-",0,0,0,0,5,0,0,0,"-",0,"-",0,10,"-",0,0,10,0,0,0,0,0,10,0,0,10,0]
["Wed","2021-02-17","Everton",1,3,"Manchester City","20:15:00",null,5,5,10,10,5,"-",5,5,10,5,10,"-",10,5,5,5,10,10,5,10,10,5,5,5,5,10,10,"-",5,5,5,5,5,"-",10,0,5,0,10,10,5,0,5,5,5,10,10,"-",5,5,5,5,5,5,5,5,"-",10,"-",5,5,"-",5,0,10,0,5,5,5,5,5,10,5,5,5]
["Fri","2021-02-19","Wolverhampton",1,0,"Leeds Utd","20:00:00",null,0,10,0,10,0,"-",0,5,5,0,5,"-",5,5,0,5,5,0,5,5,0,5,0,5,5,0,0,"-",5,0,0,5,0,"-",5,5,0,0,5,0,5,0,10,0,0,5,0,"-",5,0,0,0,10,5,5,0,"-",0,0,5,0,"-",5,10,0,5,0,5,5,5,5,0,0,0,5]
["Sat","2021-02-20","Southampton",1,1,"Chelsea","12:30:00",null,0,0,0,0,10,"-",10,0,0,0,0,"-",0,0,0,0,0,0,0,0,0,0,0,0,0,0,0,"-",0,0,0,10,0,"-",0,0,0,0,0,0,0,0,0,0,0,5,0,"-",0,0,0,0,0,0,0,0,"-",0,0,0,0,"-",0,10,0,0,0,0,0,0,0,0,0,0,0]
["Sat","2021-02-20","Burnley",0,0,"West Bromwich","15:00:00",null,5,0,5,0,0,"-",0,0,0,0,0,"-",0,0,0,0,0,0,0,0,5,5,0,0,0,0,0,"-",0,0,0,5,0,"-",0,5,5,0,0,0,0,0,0,0,0,0,0,"-",0,0,5,0,0,0,0,5,"-",5,5,5,5,"-",0,0,0,0,0,0,0,0,0,0,5,5,0]
["Sat","2021-02-20","Liverpool",0,2,"Everton","17:30:00",null,0,0,0,0,0,"-",0,0,0,0,0,"-","-",0,0,0,0,0,0,0,0,0,0,0,0,0,0,"-",0,0,0,0,0,"-",0,0,0,0,0,0,5,0,0,0,0,0,0,"-",0,0,0,0,0,0,5,0,"-",0,0,0,5,"-",0,0,0,0,0,0,0,0,0,0,0,0,0]
["Sat","2021-02-20","Fulham",1,0,"Sheffield Utd","20:00:00",null,0,10,5,0,5,"-",0,10,0,10,10,"-","-",5,5,0,5,10,5,5,5,10,10,10,0,0,5,"-",0,5,5,5,5,"-",5,0,10,5,5,0,5,0,0,0,0,0,0,"-",10,0,0,5,0,5,10,5,"-",5,5,10,5,"-",0,10,10,10,10,5,5,5,10,5,10,10,0]
["Sun","2021-02-21","West Ham",2,1,"Tottenham","12:00:00",null,0,0,0,0,0,"-",0,0,0,0,0,"-","-",10,10,10,0,0,0,10,0,0,0,0,10,0,0,"-",10,0,0,10,0,"-",10,0,5,10,10,0,0,0,0,0,0,0,5,"-",0,0,10,0,0,0,0,0,"-",0,0,0,0,"-",5,0,0,0,0,0,0,10,10,0,0,0,0]
["Sun","2021-02-21","Aston Villa",1,2,"Leicester City","14:00:00",null,0,0,5,0,0,"-",0,0,0,10,5,"-","-",0,10,0,0,0,10,0,10,0,10,0,5,10,0,"-",10,10,10,0,0,"-",0,0,0,0,5,0,0,5,10,5,0,0,5,"-",5,0,5,0,0,10,5,5,"-",10,0,0,10,"-",0,0,5,10,0,10,0,0,5,10,5,5,10]
["Sun","2021-02-21","Arsenal",0,1,"Manchester City","16:30:00",null,5,5,5,5,5,"-",5,5,5,5,5,"-","-",5,5,5,5,0,5,5,5,5,5,5,5,5,5,"-",5,5,5,5,5,"-",5,0,5,5,5,5,5,0,5,5,5,5,5,"-",5,5,5,5,5,0,0,5,"-",5,0,5,10,"-",5,5,5,5,5,0,5,5,5,5,5,5,5]
["Sun","2021-02-21","Manchester United",3,1,"Newcastle Utd","19:00:00",null,5,5,5,5,5,"-",10,5,5,5,5,"-","-",5,5,5,5,5,5,5,10,5,5,5,5,5,5,"-",5,10,5,5,5,"-",5,5,5,5,5,5,5,0,5,5,5,5,0,"-",5,5,5,5,10,0,5,0,"-",5,5,5,10,"-",5,5,5,5,5,0,10,5,5,5,5,5,5]
["Mon","2021-02-22","Brighton",1,2,"Crystal Palace","20:00:00",null,0,0,5,0,0,"-",0,0,0,5,0,"-","-",0,0,0,0,0,0,0,0,0,0,0,0,0,0,"-",0,0,0,0,0,"-",0,0,0,0,10,0,0,0,0,0,0,0,0,"-",0,0,0,0,0,0,0,0,"-",0,0,0,0,"-",0,5,0,0,0,0,0,0,0,0,0,5,0]
["Tue","2021-02-23","Leeds Utd",3,0,"Southampton","18:00:00",null,5,0,5,5,5,"-",0,0,5,5,5,"-",0,5,5,5,0,5,5,5,5,5,0,5,0,0,5,"-",5,5,0,0,0,"-",0,5,5,5,5,5,5,5,0,5,5,5,10,"-",5,0,5,0,5,5,5,0,"-",5,0,0,5,"-",0,0,5,5,5,5,5,0,5,5,5,0,5]
["Sat","2021-02-27","Manchester City",2,1,"West Ham","12:30:00",null,5,10,5,10,5,"-",5,10,5,5,5,"-",5,5,5,10,5,10,5,10,5,5,5,5,5,5,5,"-",5,5,5,"-",5,"-",5,5,5,5,5,0,5,10,5,5,5,5,0,"-",5,10,5,5,10,5,5,5,"-",5,10,5,0,"-",5,5,10,5,5,5,10,5,5,5,10,5,5]
["Sat","2021-02-27","West Bromwich",1,0,"Brighton","15:00:00",null,0,0,0,0,0,"-",0,0,0,0,0,"-",0,0,0,5,0,10,0,0,0,0,0,5,0,0,0,"-",0,0,0,"-",0,"-",0,0,0,10,10,0,0,0,10,10,0,0,0,"-",0,10,0,0,0,0,0,0,"-",0,0,5,5,"-",0,0,5,0,0,10,0,0,0,0,5,0,10]
["Sat","2021-02-27","Leeds Utd",0,1,"Aston Villa","17:30:00",null,5,0,5,0,0,"-",0,0,0,0,0,"-",5,5,5,0,0,0,0,0,0,0,0,0,0,0,0,"-",0,5,5,"-",0,"-",0,0,0,0,0,0,0,0,"-",0,0,0,0,"-",0,5,5,0,0,0,0,0,"-",0,0,0,0,"-",0,0,5,0,0,0,0,0,0,0,0,0,0]
["Sat","2021-02-27","Newcastle Utd",1,1,"Wolverhampton","20:00:00",null,0,0,0,0,0,"-",10,0,0,5,0,"-",5,0,10,0,0,0,0,0,0,0,0,10,0,0,0,"-",0,0,0,"-",0,"-",0,10,10,0,0,10,0,0,"-",0,0,10,0,"-",0,0,0,0,0,0,0,0,"-",0,0,0,0,"-",0,10,0,0,0,0,0,0,0,0,0,0,10]
["Sun","2021-02-28","Crystal Palace",0,0,"Fulham","12:00:00",null,5,0,0,5,0,"-",0,0,0,0,0,"-",5,0,0,0,5,0,5,0,0,0,0,0,0,5,0,"-",0,0,0,"-",10,"-",0,0,0,0,5,5,0,0,"-",0,0,5,5,"-",0,0,5,5,10,0,0,0,"-",0,5,5,0,"-",5,0,0,0,0,0,0,0,5,0,0,0,5]
["Sun","2021-02-28","Leicester City",1,3,"Arsenal","12:00:00",null,10,0,0,0,0,"-",5,0,0,0,5,"-",0,5,0,0,0,0,0,0,0,0,0,0,0,0,0,"-",0,0,0,"-",0,"-",0,0,5,0,0,0,0,5,"-",0,0,0,0,"-",0,0,0,5,0,0,5,0,"-",0,0,5,5,"-",0,0,0,5,0,0,5,0,0,0,0,0,0]
["Sun","2021-02-28","Tottenham",4,0,"Burnley","14:00:00",null,5,0,5,5,5,"-",5,5,5,5,5,"-",5,5,0,5,5,5,5,5,5,5,5,5,5,5,5,"-",5,5,5,"-",5,"-",5,5,5,5,5,0,5,5,"-",5,5,5,5,"-",5,5,5,5,5,0,5,5,"-",5,5,5,5,"-",5,5,0,5,5,5,5,5,5,5,5,5,5]
["Sun","2021-02-28","Chelsea",0,0,"Manchester United","16:30:00",null,5,0,5,0,5,"-",5,0,0,5,0,"-",0,0,5,0,0,5,0,0,0,0,0,5,0,5,0,"-",0,0,0,"-",5,"-",5,5,0,0,0,5,5,5,"-",0,0,0,5,"-",0,0,0,0,0,0,0,0,"-",5,0,5,0,"-",0,5,0,0,0,0,0,5,5,0,"-",0,0]
["Sun","2021-02-28","Sheffield Utd",0,2,"Liverpool","19:15:00",null,0,10,5,10,10,"-",5,5,10,10,5,"-",5,5,10,0,10,10,10,5,10,10,5,10,10,5,5,"-",10,5,5,"-",10,"-",5,5,5,5,0,0,5,5,"-",0,10,5,0,"-",10,10,5,10,5,5,10,10,"-",5,5,10,5,"-",5,10,10,10,10,5,5,10,10,5,"-",10,5]
[]
["Golden Boots"]
["Anthony Martial - Man United",null,null,{"$f":"COUNT(I57:CE57)","v":8},{"$f":"2+0+0+0+0","v":2},null,null,null,null,null,null,null,null,null,null,null,null,null,null,null,{"$f":"$E57*2","v":4},null,null,null,null,null,null,{"$f":"$E57*2","v":4},null,null,null,{"$f":"$E57*2","v":4},null,null,null,null,null,null,{"$f":"$E57*2","v":4},null,null,null,null,null,null,null,null,null,null,null,null,null,null,null,null,{"$f":"$E57*2","v":4},null,null,null,null,{"$f":"$E57*2","v":4},null,null,null,null,{"$f":"$E57*2","v":4},null,null,null,null,null,null,{"$f":"$E57*2","v":4}]
["Chris Wood - Burnley",null,null,0,{"$f":"0+0+0+0+0+0","v":0}]
["Danny Ings - Southampton",null,null,6,{"$f":"0+0+1+0","v":1},null,null,null,null,null,null,null,null,null,null,null,null,null,null,{"$f":"$E59*2","v":2},null,null,null,null,null,null,null,null,null,null,null,null,null,null,null,null,null,null,null,null,null,{"$f":"$E59*2","v":2},null,null,null,null,null,null,null,null,null,null,null,null,null,null,null,null,null,null,null,null,null,null,null,null,{"$f":"$E59*2","v":2},null,null,{"$f":"$E59*2","v":2},null,null,null,{"$f":"$E59*2","v":2},null,null,null,null,null,null,null,{"$f":"$E59*2","v":2}]
["Harry Kane - Tottenham Hotspur",null,null,44,{"$f":"0+1+0+0+1","v":2},null,null,null,{"$f":"$E60*2","v":4},4,4,4,4,4,4,null,{"$f":"$E60*2","v":4},{"$f":"$E60*2","v":4},null,null,null,null,{"$f":"$E60*2","v":4},{"$f":"$E60*2","v":4},{"$f":"$E60*2","v":4},{"$f":"$E60*2","v":4},null,null,{"$f":"$E60*2","v":4},4,4,4,4,4,4,{"$f":"$E60*2","v":4},{"$f":"$E60*2","v":4},{"$f":"$E60*2","v":4},{"$f":"$E60*2","v":4},{"$f":"$E60*2","v":4},null,{"$f":"$E60*2","v":4},{"$f":"$E60*2","v":4},{"$f":"$E60*2","v":4},{"$f":"$E60*2","v":4},{"$f":"$E60*2","v":4},null,null,{"$f":"$E60*2","v":4},null,{"$f":"$E60*2","v":4},{"$f":"$E60*2","v":4},{"$f":"$E60*2","v":4},{"$f":"$E60*2","v":4},null,{"$f":"$E60*2","v":4},null,{"$f":"$E60*2","v":4},null,{"$f":"$E60*2","v":4},{"$f":"$E60*2","v":4},null,null,null,{"$f":"$E60*2","v":4},null,null,null,null,null,{"$f":"$E60*2","v":4},{"$f":"$E60*2","v":4},null,null,null,{"$f":"$E60*2","v":4},null,null,null,null,null,{"$f":"$E60*2","v":4}]
["Jamie Vardy - Leicester City",null,null,19,{"$f":"0+0+1+0+0","v":1},null,null,null,null,null,{"$f":"$E61*2","v":2},null,null,null,null,null,null,null,{"$f":"$E61*2","v":2},null,null,null,null,null,null,{"$f":"$E61*2","v":2},null,null,null,{"$f":"$E61*2","v":2},null,null,null,null,null,null,null,null,null,null,null,null,null,null,{"$f":"$E61*2","v":2},null,{"$f":"$E61*2","v":2},{"$f":"$E61*2","v":2},{"$f":"$E61*2","v":2},{"$f":"$E61*2","v":2},{"$f":"$E61*2","v":2},null,{"$f":"$E61*2","v":2},null,null,null,null,null,null,null,null,{"$f":"$E61*2","v":2},null,null,null,{"$f":"$E61*2","v":2},null,null,{"$f":"$E61*2","v":2},{"$f":"$E61*2","v":2},null,null,null,null,{"$f":"$E61*2","v":2},{"$f":"$E61*2","v":2},null,null,{"$f":"$E61*2","v":2},{"$f":"$E61*2","v":2}]
["Marcus Rashford - Man United",null,null,6,{"$f":"1+0+0+1+0","v":2},null,null,null,null,null,null,null,null,null,null,{"$f":"$E62*2","v":4},null,null,null,null,null,null,null,null,null,null,null,null,null,null,null,null,null,null,null,null,null,null,null,null,null,null,null,null,null,null,null,null,null,null,null,null,{"$f":"$E62*2","v":4},null,null,null,null,null,{"$f":"$E62*2","v":4},null,{"$f":"$E62*2","v":4},null,null,null,null,null,null,null,null,null,null,null,null,null,null,null,null,null,{"$f":"$E62*2","v":4},null,{"$f":"$E62*2","v":4}]
["Mohamed Salah - Liverpool",null,null,36,{"$f":"0+1+1+0+0","v":2},null,null,null,null,null,{"$f":"$E63*2","v":4},{"$f":"$E63*2","v":4},null,null,{"$f":"$E63*2","v":4},null,{"$f":"$E63*2","v":4},4,4,4,4,4,null,{"$f":"$E63*2","v":4},{"$f":"$E63*2","v":4},null,null,{"$f":"$E63*2","v":4},null,null,{"$f":"$E63*2","v":4},{"$f":"$E63*2","v":4},null,null,null,null,null,null,{"$f":"$E63*2","v":4},null,{"$f":"$E63*2","v":4},null,{"$f":"$E63*2","v":4},null,null,null,null,{"$f":"$E63*2","v":4},null,{"$f":"$E63*2","v":4},null,null,null,{"$f":"$E63*2","v":4},{"$f":"$E63*2","v":4},{"$f":"$E63*2","v":4},{"$f":"$E63*2","v":4},{"$f":"$E63*2","v":4},null,null,null,{"$f":"$E63*2","v":4},null,{"$f":"$E63*2","v":4},null,null,{"$f":"$E63*2","v":4},null,null,null,{"$f":"$E63*2","v":4},4,4,4,4,{"$f":"$E63*2","v":4},null,{"$f":"$E63*2","v":4},4,null,null,null,{"$f":"$E63*2","v":4}]
["Pierre Emerick Aubameyang - Arsenal",null,null,45,{"$f":"0+0+3+0","v":3},null,null,null,null,null,null,{"$f":"$E64*2","v":6},null,{"$f":"$E64*2","v":6},{"$f":"$E64*2","v":6},{"$f":"$E64*2","v":6},{"$f":"$E64*2","v":6},{"$f":"$E64*2","v":6},{"$f":"$E64*2","v":6},null,{"$f":"$E64*2","v":6},{"$f":"$E64*2","v":6},{"$f":"$E64*2","v":6},null,null,null,{"$f":"$E64*2","v":6},{"$f":"$E64*2","v":6},{"$f":"$E64*2","v":6},null,{"$f":"$E64*2","v":6},null,{"$f":"$E64*2","v":6},null,{"$f":"$E64*2","v":6},{"$f":"$E64*2","v":6},{"$f":"$E64*2","v":6},null,null,{"$f":"$E64*2","v":6},{"$f":"$E64*2","v":6},null,{"$f":"$E64*2","v":6},{"$f":"$E64*2","v":6},{"$f":"$E64*2","v":6},null,{"$f":"$E64*2","v":6},{"$f":"$E64*2","v":6},{"$f":"$E64*2","v":6},{"$f":"$E64*2","v":6},{"$f":"$E64*2","v":6},null,null,{"$f":"$E64*2","v":6},{"$f":"$E64*2","v":6},null,{"$f":"$E64*2","v":6},{"$f":"$E64*2","v":6},null,null,null,null,{"$f":"$E64*2","v":6},{"$f":"$E64*2","v":6},null,{"$f":"$E64*2","v":6},null,{"$f":"$E64*2","v":6},null,null,null,{"$f":"$E64*2","v":6},null,{"$f":"$E64*2","v":6},{"$f":"$E64*2","v":6},null,{"$f":"$E64*2","v":6},{"$f":"$E64*2","v":6},null,{"$f":"$E64*2","v":6},{"$f":"$E64*2","v":6},{"$f":"$E64*2","v":6},{"$f":"$E64*2","v":6}]
["Raheem Sterling - Man City",null,null,14,{"$f":"1+1+0+0+1+0","v":3},null,null,null,null,null,null,null,null,null,null,null,null,null,null,null,null,null,null,{"$f":"$E65*2","v":6},null,null,{"$f":"$E65*2","v":6},null,{"$f":"$E65*2","v":6},null,null,null,null,{"$f":"$E65*2","v":6},null,{"$f":"$E65*2","v":6},null,null,null,null,null,null,null,null,null,null,null,null,null,null,null,null,null,null,null,null,null,null,{"$f":"$E65*2","v":6},{"$f":"$E65*2","v":6},null,{"$f":"$E65*2","v":6},{"$f":"$E65*2","v":6},null,{"$f":"$E65*2","v":6},null,null,{"$f":"$E65*2","v":6},{"$f":"$E65*2","v":6},null,{"$f":"$E65*2","v":6},null,null,null,null,null,null,null,null,null,null,null,{"$f":"$E65*2","v":6}]
["Raul Jiminez - Wolves",null,null,1,{"$f":"0+0+0+0+0","v":0},null,null,null,null,null,null,null,null,null,null,null,null,null,null,null,null,null,null,null,null,null,null,null,null,null,null,null,null,null,null,null,null,null,null,null,null,null,null,null,null,null,{"$f":"$E66*2","v":0}]
["Richarlison - Everton",null,null,1,{"$f":"0+0+0+1","v":1},null,null,null,{"$f":"$E67*2","v":2}]
["Sadio Mane - Liverpool",null,null,12,{"$f":"0+0+0+0+0","v":0},null,null,null,null,{"$f":"$E68*2","v":0},null,null,{"$f":"$E68*2","v":0},null,null,{"$f":"$E68*2","v":0},null,null,null,null,null,{"$f":"$E68*2","v":0},null,null,null,null,null,null,null,null,null,null,null,{"$f":"$E68*2","v":0},{"$f":"$E68*2","v":0},null,null,null,null,null,null,null,null,null,null,{"$f":"$E68*2","v":0},null,null,null,null,null,{"$f":"$E68*2","v":0},null,null,null,null,null,null,{"$f":"$E68*2","v":0},null,null,null,null,{"$f":"$E68*2","v":0},null,null,null,{"$f":"$E68*2","v":0},null,null,null,null,null,null,null,null,null,null,null,null,{"$f":"$E68*2","v":0}]
["Sergio Aguero - Man City",null,null,9,{"$f":"0+0+0+0+0","v":0},null,null,null,null,{"$f":"$E69*2","v":0},null,null,null,null,null,null,null,null,null,{"$f":"$E69*2","v":0},null,null,null,null,null,null,null,null,null,null,null,null,null,null,null,null,null,{"$f":"$E69*2","v":0},null,null,null,{"$f":"$E69*2","v":0},null,null,null,{"$f":"$E69*2","v":0},null,null,null,null,null,null,null,null,null,null,{"$f":"$E69*2","v":0},null,null,null,null,null,null,null,{"$f":"$E69*2","v":0},null,null,null,null,null,null,null,{"$f":"$E69*2","v":0},null,null,null,{"$f":"$E69*2","v":0}]
["Tammy Abraham - Chelsea",null,null,0,{"$f":"0+0+0+0+0","v":0}]
["Timo Werner - Chelsea",null,null,24,{"$f":"0+0+1+0+0","v":1},null,null,null,{"$f":"$E71*2","v":2},null,null,null,{"$f":"$E71*2","v":2},{"$f":"$E71*2","v":2},null,null,null,null,null,null,null,null,{"$f":"$E71*2","v":2},null,{"$f":"$E71*2","v":2},{"$f":"$E71*2","v":2},{"$f":"$E71*2","v":2},null,null,{"$f":"$E71*2","v":2},null,null,{"$f":"$E71*2","v":2},null,null,null,{"$f":"$E71*2","v":2},{"$f":"$E71*2","v":2},null,{"$f":"$E71*2","v":2},{"$f":"$E71*2","v":2},null,null,{"$f":"$E71*2","v":2},null,null,null,null,null,null,null,{"$f":"$E71*2","v":2},null,null,{"$f":"$E71*2","v":2},null,null,null,null,{"$f":"$E71*2","v":2},null,null,{"$f":"$E71*2","v":2},null,null,null,{"$f":"$E71*2","v":2},null,{"$f":"$E71*2","v":2},{"$f":"$E71*2","v":2},null,null,null,null,null,null,{"$f":"$E71*2","v":2},{"$f":"$E71*2","v":2},null,{"$f":"$E71*2","v":2}]
[]
["Golden Gloves"]
["Alisson Becker - Liverpool",null,null,{"$f":"COUNT(I74:CE74)","v":57},{"$f":"0+0+0+0+0","v":0},null,null,null,null,{"$f":"$E74*2","v":0},{"$f":"$E74*2","v":0},{"$f":"$E74*2","v":0},{"$f":"$E74*2","v":0},null,{"$f":"$E74*2","v":0},{"$f":"$E74*2","v":0},null,{"$f":"$E74*2","v":0},{"$f":"$E74*2","v":0},{"$f":"$E74*2","v":0},null,{"$f":"$E74*2","v":0},{"$f":"$E74*2","v":0},{"$f":"$E74*2","v":0},{"$f":"$E74*2","v":0},{"$f":"$E74*2","v":0},null,{"$f":"$E74*2","v":0},null,{"$f":"$E74*2","v":0},null,null,{"$f":"$E74*2","v":0},0,0,0,0,0,null,{"$f":"$E74*2","v":0},{"$f":"$E74*2","v":0},{"$f":"$E74*2","v":0},{"$f":"$E74*2","v":0},{"$f":"$E74*2","v":0},null,{"$f":"$E74*2","v":0},null,{"$f":"$E74*2","v":0},null,{"$f":"$E74*2","v":0},{"$f":"$E74*2","v":0},{"$f":"$E74*2","v":0},{"$f":"$E74*2","v":0},{"$f":"$E74*2","v":0},null,{"$f":"$E74*2","v":0},{"$f":"$E74*2","v":0},{"$f":"$E74*2","v":0},{"$f":"$E74*2","v":0},null,{"$f":"$E74*2","v":0},{"$f":"$E74*2","v":0},0,{"$f":"$E74*2","v":0},0,0,{"$f":"$E74*2","v":0},0,null,{"$f":"$E74*2","v":0},0,0,null,null,{"$f":"$E74*2","v":0},0,0,{"$f":"$E74*2","v":0},0,0,0,null,{"$f":"$E74*2","v":0}]
["Ederson - Man City",null,null,{"$f":"COUNT(I75:CE75)","v":14},{"$f":"1+0+1+0+1+0","v":3},null,null,null,{"$f":"$E75*2","v":6},null,null,null,null,null,null,null,{"$f":"$E75*2","v":6},null,null,null,{"$f":"$E75*2","v":6},null,null,null,null,null,{"$f":"$E75*2","v":6},null,{"$f":"$E75*2","v":6},null,{"$f":"$E75*2","v":6},{"$f":"$E75*2","v":6},null,null,null,null,null,null,{"$f":"$E75*2","v":6},null,null,null,null,null,null,null,{"$f":"$E75*2","v":6},null,{"$f":"$E75*2","v":6},null,null,null,null,null,{"$f":"$E75*2","v":6},null,null,null,null,{"$f":"$E75*2","v":6},null,null,null,null,null,null,null,null,null,null,null,null,null,{"$f":"$E75*2","v":6},null,null,null,null,null,null,null,{"$f":"$E75*2","v":6}]
["David de Gea - Man United",null,null,{"$f":"COUNT(I76:CE76)","v":3},{"$f":"1+0+0+0+1","v":2},null,null,null,null,null,null,null,null,{"$f":"$E76*2","v":4},null,null,null,null,null,null,null,null,null,null,null,null,null,null,null,null,null,null,null,null,null,null,null,null,null,null,null,null,null,null,{"$f":"$E76*2","v":4},null,null,null,null,null,null,null,null,null,null,null,null,null,null,null,null,null,null,null,null,null,null,null,null,null,null,null,{"$f":"$E76*2","v":4}]
["Hugo Lloris - Tottenham Hotspur",null,null,{"$f":"COUNT(I77:CE77)","v":1},{"$f":"0+1+0+0+1","v":2},null,null,null,null,null,null,null,null,null,null,null,null,null,null,null,null,null,null,null,null,null,null,null,null,null,null,null,null,null,null,null,null,null,null,null,null,null,null,null,null,null,null,null,null,null,null,null,null,null,null,null,null,null,null,null,null,null,null,null,null,null,null,null,{"$f":"$E77*2","v":4}]
["Nick Pope - Burnley",null,null,{"$f":"COUNT(I78:CE78)","v":0},{"$f":"0+0+1+0+1+0","v":2}]
[]
["Grand Total -February",null,null,null,null,null,null,null,{"$f":"SUM(I$3:I79)","v":179},{"$f":"SUM(J$3:J79)","v":144},{"$f":"SUM(K$3:K79)","v":155},{"$f":"SUM(L$3:L79)","v":169},{"$f":"SUM(M$3:M79)","v":141},{"$f":"SUM(N$3:N79)","v":16},{"$f":"SUM(O$3:O79)","v":174},{"$f":"SUM(P$3:P79)","v":180},{"$f":"SUM(Q$3:Q79)","v":165},{"$f":"SUM(R$3:R79)","v":174},{"$f":"SUM(S$3:S79)","v":167},{"$f":"SUM(T$3:T79)","v":41},{"$f":"SUM(U$3:U79)","v":125},{"$f":"SUM(V$3:V79)","v":135},{"$f":"SUM(W$3:W79)","v":177},{"$f":"SUM(X$3:X79)","v":144},{"$f":"SUM(Y$3:Y79)","v":160},{"$f":"SUM(Z$3:Z79)","v":168},{"$f":"SUM(AA$3:AA79)","v":185},{"$f":"SUM(AB$3:AB79)","v":164},{"$f":"SUM(AC$3:AC79)","v":187},{"$f":"SUM(AD$3:AD79)","v":198},{"$f":"SUM(AE$3:AE79)","v":145},{"$f":"SUM(AF$3:AF79)","v":193},{"$f":"SUM(AG$3:AG79)","v":162},{"$f":"SUM(AH$3:AH79)","v":145},{"$f":"SUM(AI$3:AI79)","v":130},{"$f":"SUM(AJ$3:AJ79)","v":16},{"$f":"SUM(AK$3:AK79)","v":192},{"$f":"SUM(AL$3:AL79)","v":151},{"$f":"SUM(AM$3:AM79)","v":128},{"$f":"SUM(AN$3:AN79)","v":137},{"$f":"SUM(AO$3:AO79)","v":152},{"$f":"SUM(AP$3:AP79)","v":6},{"$f":"SUM(AQ$3:AQ79)","v":174},{"$f":"SUM(AR$3:AR79)","v":127},{"$f":"SUM(AS$3:AS79)","v":196},{"$f":"SUM(AT$3:AT79)","v":164},{"$f":"SUM(AU$3:AU79)","v":189},{"$f":"SUM(AV$3:AV79)","v":142},{"$f":"SUM(AW$3:AW79)","v":183},{"$f":"SUM(AX$3:AX79)","v":132},{"$f":"SUM(AY$3:AY79)","v":137},{"$f":"SUM(AZ$3:AZ79)","v":101},{"$f":"SUM(BA$3:BA79)","v":120},{"$f":"SUM(BB$3:BB79)","v":164},{"$f":"SUM(BC$3:BC79)","v":148},{"$f":"SUM(BD$3:BD79)","v":37},{"$f":"SUM(BE$3:BE79)","v":165},{"$f":"SUM(BF$3:BF79)","v":154},{"$f":"SUM(BG$3:BG79)","v":170},{"$f":"SUM(BH$3:BH79)","v":163},{"$f":"SUM(BI$3:BI79)","v":182},{"$f":"SUM(BJ$3:BJ79)","v":127},{"$f":"SUM(BK$3:BK79)","v":164},{"$f":"SUM(BL$3:BL79)","v":135},{"$f":"SUM(BM$3:BM79)","v":10},{"$f":"SUM(BN$3:BN79)","v":157},{"$f":"SUM(BO$3:BO79)","v":108},{"$f":"SUM(BP$3:BP79)","v":177},{"$f":"SUM(BQ$3:BQ79)","v":184},{"$f":"SUM(BR$3:BR79)","v":6},{"$f":"SUM(BS$3:BS79)","v":129},{"$f":"SUM(BT$3:BT79)","v":169},{"$f":"SUM(BU$3:BU79)","v":162},{"$f":"SUM(BV$3:BV79)","v":193},{"$f":"SUM(BW$3:BW79)","v":137},{"$f":"SUM(BX$3:BX79)","v":150},{"$f":"SUM(BY$3:BY79)","v":133},{"$f":"SUM(BZ$3:BZ79)","v":187},{"$f":"SUM(CA$3:CA79)","v":175},{"$f":"SUM(CB$3:CB79)","v":135},{"$f":"SUM(CC$3:CC79)","v":125},{"$f":"SUM(CD$3:CD79)","v":153},{"$f":"SUM(CE$3:CE79)","v":166}]
[]
["Ten Pointers",null,null,null,null,null,null,null,{"$f":"COUNTIF(I$3:I54,\"10\")","v":6},{"$f":"COUNTIF(J$3:J54,\"10\")","v":6},{"$f":"COUNTIF(K$3:K54,\"10\")","v":4},{"$f":"COUNTIF(L$3:L54,\"10\")","v":7},{"$f":"COUNTIF(M$3:M54,\"10\")","v":4},{"$f":"COUNTIF(N$3:N54,\"10\")","v":0},{"$f":"COUNTIF(O$3:O54,\"10\")","v":9},{"$f":"COUNTIF(P$3:P54,\"10\")","v":8},{"$f":"COUNTIF(Q$3:Q54,\"10\")","v":7},{"$f":"COUNTIF(R$3:R54,\"10\")","v":6},{"$f":"COUNTIF(S$3:S54,\"10\")","v":5},{"$f":"COUNTIF(T$3:T54,\"10\")","v":2},{"$f":"COUNTIF(U$3:U54,\"10\")","v":2},{"$f":"COUNTIF(V$3:V54,\"10\")","v":3},{"$f":"COUNTIF(W$3:W54,\"10\")","v":8},{"$f":"COUNTIF(X$3:X54,\"10\")","v":4},{"$f":"COUNTIF(Y$3:Y54,\"10\")","v":6},{"$f":"COUNTIF(Z$3:Z54,\"10\")","v":10},{"$f":"COUNTIF(AA$3:AA54,\"10\")","v":7},{"$f":"COUNTIF(AB$3:AB54,\"10\")","v":8},{"$f":"COUNTIF(AC$3:AC54,\"10\")","v":8},{"$f":"COUNTIF(AD$3:AD54,\"10\")","v":7},{"$f":"COUNTIF(AE$3:AE54,\"10\")","v":4},{"$f":"COUNTIF(AF$3:AF54,\"10\")","v":9},{"$f":"COUNTIF(AG$3:AG54,\"10\")","v":7},{"$f":"COUNTIF(AH$3:AH54,\"10\")","v":6},{"$f":"COUNTIF(AI$3:AI54,\"10\")","v":3},{"$f":"COUNTIF(AJ$3:AJ54,\"10\")","v":0},{"$f":"COUNTIF(AK$3:AK54,\"10\")","v":9},{"$f":"COUNTIF(AL$3:AL54,\"10\")","v":4},{"$f":"COUNTIF(AM$3:AM54,\"10\")","v":4},{"$f":"COUNTIF(AN$3:AN54,\"10\")","v":5},{"$f":"COUNTIF(AO$3:AO54,\"10\")","v":4},{"$f":"COUNTIF(AP$3:AP54,\"10\")","v":0},{"$f":"COUNTIF(AQ$3:AQ54,\"10\")","v":7},{"$f":"COUNTIF(AR$3:AR54,\"10\")","v":1},{"$f":"COUNTIF(AS$3:AS54,\"10\")","v":10},{"$f":"COUNTIF(AT$3:AT54,\"10\")","v":7},{"$f":"COUNTIF(AU$3:AU54,\"10\")","v":9},{"$f":"COUNTIF(AV$3:AV54,\"10\")","v":5},{"$f":"COUNTIF(AW$3:AW54,\"10\")","v":6},{"$f":"COUNTIF(AX$3:AX54,\"10\")","v":3},{"$f":"COUNTIF(AY$3:AY54,\"10\")","v":5},{"$f":"COUNTIF(AZ$3:AZ54,\"10\")","v":1},{"$f":"COUNTIF(BA$3:BA54,\"10\")","v":3},{"$f":"COUNTIF(BB$3:BB54,\"10\")","v":5},{"$f":"COUNTIF(BC$3:BC54,\"10\")","v":5},{"$f":"COUNTIF(BD$3:BD54,\"10\")","v":1},{"$f":"COUNTIF(BE$3:BE54,\"10\")","v":6},{"$f":"COUNTIF(BF$3:BF54,\"10\")","v":6},{"$f":"COUNTIF(BG$3:BG54,\"10\")","v":4},{"$f":"COUNTIF(BH$3:BH54,\"10\")","v":4},{"$f":"COUNTIF(BI$3:BI54,\"10\")","v":8},{"$f":"COUNTIF(BJ$3:BJ54,\"10\")","v":5},{"$f":"COUNTIF(BK$3:BK54,\"10\")","v":4},{"$f":"COUNTIF(BL$3:BL54,\"10\")","v":5},{"$f":"COUNTIF(BM$3:BM54,\"10\")","v":0},{"$f":"COUNTIF(BN$3:BN54,\"10\")","v":4},{"$f":"COUNTIF(BO$3:BO54,\"10\")","v":2},{"$f":"COUNTIF(BP$3:BP54,\"10\")","v":4},{"$f":"COUNTIF(BQ$3:BQ54,\"10\")","v":7},{"$f":"COUNTIF(BR$3:BR54,\"10\")","v":0},{"$f":"COUNTIF(BS$3:BS54,\"10\")","v":1},{"$f":"COUNTIF(BT$3:BT54,\"10\")","v":6},{"$f":"COUNTIF(BU$3:BU54,\"10\")","v":8},{"$f":"COUNTIF(BV$3:BV54,\"10\")","v":8},{"$f":"COUNTIF(BW$3:BW54,\"10\")","v":4},{"$f":"COUNTIF(BX$3:BX54,\"10\")","v":3},{"$f":"COUNTIF(BY$3:BY54,\"10\")","v":4},{"$f":"COUNTIF(BZ$3:BZ54,\"10\")","v":8},{"$f":"COUNTIF(CA$3:CA54,\"10\")","v":7},{"$f":"COUNTIF(CB$3:CB54,\"10\")","v":4},{"$f":"COUNTIF(CC$3:CC54,\"10\")","v":3},{"$f":"COUNTIF(CD$3:CD54,\"10\")","v":4},{"$f":"COUNTIF(CE$3:CE54,\"10\")","v":5}]

{"sheet":"March","index":7,"n_rows":63,"n_cols":83,"rows_kept":63,"cut":false,"hidden":false,"merged":[[1,2,1,5]]}
[null,null,null,null,null,null,null,null,"Aidan Scanlon","Aidan White","Alan White","Anastas Popov","Andy Dunne","Ben Creasey","Bobby Hynes","Brendan Maguire","Brian Prendergast","Brian Haughton","Brian Mullen","Callum Dunne","Calvin McGettigan","Caroline Carroll","Cathal Thornton","Christina Morgan","Ciaran Nelson","Ciaran O'Hart","Con McSweeney","Craig Calvert","Darragh Kenny","David Cooney","David Lavelle","David McGinley","Davy Doyle","Dean White","Derek Brady","Drew Armstrong","Eamon Fox","Eoghan Farrelly","Fiachra O'Brolachain","Frank McSweeney","Gareth Pierpoint","Gary Donnelly","Gary Fitzpatrick","Gary McGurk","Gavin Goodwin","Gavin Morgan","George McGettigan","Gerard McCluskey","Gerry Draper","Gerry Moore","Graham Goodwin","Javier Suarez","Joe Behan","Joe Turner","John Brophy","John O'Driscoll","Jonathan Fox","Joseph Kavanagh","Kev Dalton","Kevin Philpott","Kris Stainton","Liam Geraghty","Liam Keohan","Lionel Knott","Michael Kenaney","Micheal Joyce","Niall Cannon","Niall Carroll","Niall Murray","Patrick Mifsud","Paul Moore","Paul Prendergast","Phil Doyle","Philip Jordan","Ralph Goodwin","Richard Johnston","Robert Hynes","Robert Manley","Roisin Joyce","Sean O'Mairtin","Trevor Byrne","Victoria Reid","Wayne Donovan"]
["Day","Date","Teams",null,null,null,"Time"]
["Mon","2021-03-01","Everton",1,0,"Southampton","20:00:00",null,5,10,10,5,5,"-",0,5,5,5,5,"-",5,5,5,5,5,10,5,5,5,5,5,5,5,5,0,"-",5,10,5,"-",5,"-",5,0,5,5,5,5,5,5,"-",0,5,5,0,"-",10,10,0,5,5,5,5,0,"-",5,5,5,5,"-",5,0,5,10,5,5,5,5,5,5,5,10,5]
["Tue","2021-03-02","Man City",4,1,"Wolves","20:00:00",null,5,5,5,5,5,"-",5,5,5,5,5,"-",5,5,5,5,5,5,5,5,5,5,5,5,5,5,5,"-",5,5,"-","-",5,"-",5,5,5,5,10,5,5,5,"-",5,5,5,5,"-",5,5,5,5,5,0,5,5,"-",5,"-",5,5,"-",5,5,5,5,5,5,5,5,5,5,5,5,5]
["Wed","2021-03-03","Burnley",1,1,"Leicester City","18:00:00",null,0,0,0,0,10,"-",10,10,0,0,10,"-",0,0,0,0,0,0,0,0,0,0,0,10,0,0,0,"-",0,0,"-","-",10,"-",0,0,0,0,0,0,0,0,"-",0,5,0,0,"-",0,0,0,10,0,0,0,0,"-",0,"-",10,0,"-",10,10,0,0,0,0,10,0,10,10,0,0,10]
["Wed","2021-03-03","Sheffield Utd",1,0,"Aston Villa","18:00:00",null,0,0,0,0,0,"-",0,5,5,0,0,"-",0,0,0,5,0,0,5,0,5,0,0,0,0,0,5,"-",0,0,"-","-",0,"-",0,5,0,0,10,0,0,0,"-",0,0,0,5,"-",0,0,0,0,0,5,0,0,"-",0,"-",0,0,"-",0,0,0,0,0,0,0,5,0,0,0,0,0]
["Wed","2021-03-03","Crystal Palace",0,0,"Manchester United","20:15:00",null,0,0,0,0,0,"-",0,0,0,0,0,"-",0,0,0,0,0,0,0,0,0,0,0,0,0,0,0,"-",0,0,"-","-",0,"-",0,5,0,0,0,0,0,0,"-",0,0,0,0,"-",0,0,0,0,0,0,0,0,"-",0,"-",0,5,"-",0,0,0,0,0,0,0,0,0,0,0,0,0]
["Thu","2021-03-04","Fulham",0,1,"Tottenham","18:00:00",null,5,5,5,5,5,"-",5,0,5,5,10,"-",5,0,5,0,5,0,5,0,5,0,5,5,5,5,5,"-",5,5,"-","-",5,"-",0,5,5,0,5,5,5,0,"-",5,0,5,0,"-",10,5,5,5,10,0,5,0,"-",5,5,0,5,"-",10,5,5,5,5,5,5,5,5,5,5,10,5]
["Thu","2021-03-04","West Bromwich",0,1,"Everton","18:00:00",null,0,10,10,10,5,"-",0,5,5,10,5,"-",0,0,5,0,5,5,5,10,0,5,5,5,5,5,5,"-",5,5,"-","-",10,"-",0,0,5,0,10,5,5,5,"-",5,0,5,5,"-",10,0,5,5,10,5,5,0,"-",5,0,0,0,"-",5,0,0,5,10,5,5,0,5,0,5,10,10]
["Thu","2021-03-04","Liverpool",0,1,"Chelsea","20:15:00",null,5,0,0,0,0,"-",0,5,0,0,0,"-",0,0,5,0,0,0,0,0,0,5,0,0,0,0,0,"-",0,5,"-","-",0,"-",0,5,0,0,0,0,0,0,"-",0,0,0,0,"-",5,0,0,0,10,0,5,0,"-",0,0,0,5,"-",0,0,0,0,0,0,0,0,0,0,0,5,0]
["Sat","2021-03-06","Burnley",1,1,"Arsenal","12:30:00",null,0,0,0,0,0,"-",0,0,0,0,0,"-","-",10,10,0,0,0,0,10,10,0,0,10,0,0,0,"-",10,0,0,0,0,"-",0,0,0,0,0,10,0,0,"-",0,5,10,0,"-",0,10,0,0,0,5,0,0,"-",0,0,0,0,"-",0,10,10,0,0,0,0,0,5,0,10,10,0]
["Sat","2021-03-06","Sheffield Utd",0,2,"Southampton","15:00:00",null,0,0,5,5,10,"-",0,0,0,5,0,"-","-",5,0,0,0,0,0,0,0,0,10,0,5,0,0,"-",0,0,0,10,0,"-",0,0,0,0,0,0,0,0,0,5,0,0,0,"-",5,0,0,5,5,0,5,0,"-",0,0,0,5,"-",0,0,0,0,0,"-",5,0,0,5,5,5,0]
["Sat","2021-03-06","Aston Villa",0,0,"Wolverhampton","17:30:00",null,0,0,0,0,0,"-",0,0,5,0,0,"-","-",0,0,5,0,0,0,5,0,0,0,0,0,0,0,"-",0,5,0,5,0,"-",5,0,0,0,0,0,0,5,0,5,10,5,0,"-",0,0,0,0,0,0,0,5,"-",5,5,5,5,"-",5,0,0,0,0,0,0,0,0,5,5,0,5]
["Sat","2021-03-06","Brighton",1,2,"Leicester City","20:00:00",null,10,5,5,10,0,"-",0,0,5,5,0,"-","-",0,10,5,10,0,10,0,0,0,0,0,5,10,5,"-",0,10,5,10,5,"-",10,0,10,5,5,5,0,0,5,10,0,10,0,"-",5,10,10,0,5,5,0,5,"-",5,10,0,10,"-",0,0,5,5,5,5,0,10,5,10,10,5,10]
["Sun","2021-03-07","West Bromwich",0,0,"Newcastle Utd","12:00:00",null,0,5,5,0,5,"-",5,10,0,5,0,"-","-",0,5,0,0,0,10,0,0,0,10,0,0,5,0,"-",10,0,5,0,0,"-",5,0,0,0,0,0,0,10,5,5,5,0,0,"-",0,0,0,5,5,5,0,10,"-",5,0,0,0,"-",0,5,0,5,5,0,5,0,0,0,5,5,0]
["Sun","2021-03-07","Liverpool",0,1,"Fulham","14:00:00",null,0,0,0,0,0,"-",0,0,0,0,0,"-","-",0,0,0,0,0,0,0,0,0,0,0,0,0,0,"-",0,5,0,0,0,"-",0,0,0,0,0,0,0,0,0,0,0,0,0,"-",0,0,0,0,0,0,0,0,"-",0,0,0,0,"-",0,0,0,0,0,5,0,0,0,0,0,0,0]
["Sun","2021-03-07","Manchester City",0,2,"Manchester United","16:30:00",null,0,0,0,0,0,"-",0,5,0,0,0,"-","-",0,0,0,0,0,0,0,0,0,0,0,0,0,0,"-",0,0,0,0,0,"-",0,0,0,0,0,0,0,0,0,0,0,0,0,"-",0,0,0,0,5,0,0,0,"-",0,0,0,0,"-",0,0,5,0,0,5,0,0,0,0,0,0,0]
["Sun","2021-03-07","Tottenham",4,1,"Crystal Palace","19:15:00",null,5,5,5,5,5,"-",5,5,5,5,5,"-","-",5,5,5,5,5,5,5,5,5,5,5,10,5,5,"-",5,5,5,5,5,"-",5,5,5,5,5,5,5,0,5,5,5,5,0,"-",5,5,5,5,5,5,5,0,"-",5,5,5,5,"-",5,5,5,5,5,5,5,5,5,5,5,5,5]
["Mon","2021-03-08","Chelsea",2,0,"Everton","18:00:00",null,5,5,5,5,10,"-",10,10,10,5,5,"-","-",10,10,5,0,10,0,5,5,10,0,0,0,10,5,"-",5,0,5,5,10,"-",5,10,10,10,5,5,10,0,10,5,0,5,5,"-",10,10,10,5,5,5,0,10,"-",5,0,0,5,"-",0,5,0,5,10,5,10,5,0,10,0,5,5]
["Mon","2021-03-08","West Ham",2,0,"Leeds Utd","20:00:00",null,5,0,5,5,10,"-",0,5,5,5,"-","-","-",5,5,5,5,0,0,5,5,5,5,5,5,0,5,"-",5,5,0,5,0,"-",5,5,5,10,5,10,10,5,10,0,10,10,0,"-",5,5,5,5,0,0,5,5,"-",0,0,10,0,"-",0,0,10,5,0,0,5,10,5,10,0,0,5]
["Wed","2021-03-10","Manchester City",5,2,"Southampton","18:00:00",null,5,5,5,5,5,"-",5,5,5,5,5,"-",5,5,5,5,5,5,5,5,5,5,5,5,5,5,5,"-",5,5,5,5,5,"-",5,5,5,5,5,5,5,5,5,5,5,5,5,"-",5,5,5,5,5,5,5,5,"-",5,5,5,5,"-",5,5,5,5,5,5,5,5,5,5,5,5,5]
["Fri","2021-03-12","Newcastle Utd",1,1,"Aston Villa","20:00:00",null,0,0,0,0,0,"-",5,0,0,0,0,"-","-",10,0,0,0,0,10,0,0,10,0,10,0,0,0,"-",0,0,0,10,0,"-",5,10,10,0,0,10,5,5,"-",0,0,10,0,"-",10,0,0,0,0,10,0,0,"-",0,"-",0,0,"-",0,0,0,0,10,"-",0,0,0,0,10,0,10]
["Sat","2021-03-13","Leeds Utd",0,0,"Chelsea","12:30:00",null,0,0,0,0,5,"-",0,0,0,0,0,"-","-",0,0,0,0,0,0,0,0,0,0,5,0,0,0,"-",0,0,0,0,0,"-",0,5,0,5,0,5,0,0,0,5,0,5,0,"-",0,0,0,0,0,0,0,0,"-",0,"-",0,0,"-",0,5,0,0,0,"-",0,0,0,0,0,0,0]
["Sat","2021-03-13","Crystal Palace",1,0,"West Bromwich","15:00:00",null,0,0,10,10,10,"-",5,5,10,5,0,"-","-",0,0,10,10,10,5,10,0,5,10,5,5,0,10,"-",10,5,0,10,10,"-",0,10,0,10,10,10,10,10,10,10,5,10,10,"-",10,0,5,0,0,0,10,0,"-",5,"-",10,5,"-",10,5,5,0,5,"-",5,10,10,5,10,0,0]
["Sat","2021-03-13","Everton",1,2,"Burnley","17:30:00",null,0,0,0,0,0,"-",0,0,0,0,0,"-","-",0,0,0,0,0,0,0,0,0,0,0,0,0,0,"-",0,0,0,0,0,"-",0,0,0,0,0,0,0,0,0,0,0,0,0,"-",0,0,0,0,0,0,0,0,"-",0,"-",0,0,"-",0,0,0,0,0,"-",0,0,0,0,0,0,0]
["Sat","2021-03-13","Fulham",0,3,"Manchester City","20:00:00",null,5,5,10,5,5,"-",5,5,5,5,10,"-","-",5,5,5,5,5,10,5,5,5,10,5,5,5,10,"-",5,5,5,10,5,"-",10,5,5,5,0,10,5,5,5,5,5,10,10,"-",10,10,5,5,5,10,5,5,"-",5,"-",5,5,"-",5,10,5,5,10,5,5,10,5,5,5,10,5]
["Sun","2021-03-14","Southampton",1,2,"Brighton","12:00:00",null,0,0,0,0,0,"-",0,0,0,0,0,"-","-",0,0,0,0,0,0,0,0,0,0,0,0,0,0,"-",0,0,0,0,0,"-",0,0,0,0,0,0,0,0,0,0,0,0,0,"-",0,0,0,0,0,0,0,0,"-",0,"-",0,0,"-",0,0,0,0,0,0,0,0,0,0,0,0,0]
["Sun","2021-03-14","Leicester City",5,0,"Sheffield Utd","14:00:00",null,5,5,5,5,5,"-",5,5,5,5,5,"-","-",5,5,5,5,5,5,5,5,5,5,5,5,5,5,"-",5,5,5,5,5,"-",5,5,5,5,5,5,5,5,5,5,5,5,5,"-",5,5,5,5,5,5,5,5,"-",5,"-",5,5,"-",5,5,5,5,5,5,5,5,5,5,5,5,5]
["Sun","2021-03-14","Arsenal",2,1,"Tottenham","16:30:00",null,0,0,0,0,0,"-",0,0,0,0,0,"-","-",0,0,10,0,0,0,0,0,0,0,0,10,5,0,"-",0,0,0,0,0,"-",0,0,0,0,0,10,0,0,0,0,0,10,0,"-",10,0,10,0,0,0,0,0,"-",0,"-",0,10,"-",0,10,0,10,0,5,0,10,0,0,0,0,0]
["Sun","2021-03-14","Manchester United",1,0,"West Ham","19:15:00",null,0,5,5,5,0,"-",0,10,5,5,5,"-","-",0,0,5,5,0,0,5,5,0,0,5,5,5,0,"-",0,0,0,0,5,"-",5,5,5,5,0,5,5,0,5,5,0,5,5,"-",5,0,5,5,5,0,0,0,"-",0,"-",0,0,"-",0,0,5,5,5,5,5,5,0,10,10,5,0]
["Mon","2021-03-15","Wolverhampton",0,1,"Liverpool","20:00:00",null,0,5,10,5,5,"-",5,5,0,5,0,"-","-",10,10,5,0,5,5,0,0,0,5,0,5,5,5,"-",5,5,5,5,5,"-",0,5,0,10,5,0,5,0,5,0,5,0,5,"-",10,5,5,5,5,5,0,5,"-",5,"-",5,5,"-",10,5,5,5,5,5,5,5,0,0,5,5,5]
["Fri","2021-03-19","Fulham",1,2,"Leeds Utd","20:00:00",null,0,0,10,0,10,"-",0,0,10,0,10,"-","-",10,10,0,0,0,5,0,0,0,5,0,5,5,10,"-",0,0,"-",0,0,"-",0,0,0,0,"-",0,0,0,"-",5,0,0,0,"-",0,0,0,0,0,5,10,10,"-",10,"-",0,10,"-",0,0,0,0,5,5,0,5,0,10,0,0,0]
["Sat","2021-03-20","Brighton",3,0,"Newcastle Utd","20:00:00",null,0,0,0,5,5,"-",0,0,5,0,5,"-","-",5,5,5,5,5,5,5,0,5,5,5,0,0,5,"-",5,5,"-",5,5,"-",5,5,0,5,"-",5,0,5,"-",5,5,5,5,"-",5,5,5,5,0,5,5,5,"-",5,"-",5,0,"-",5,0,5,5,5,0,0,5,0,5,0,0,5]
["Sun","2021-03-21","West Ham",3,3,"Arsenal","15:00:00",null,0,0,0,0,0,"-",0,0,5,0,0,"-","-",5,0,0,0,5,5,0,0,5,0,5,0,0,0,"-",0,5,"-",5,0,"-",0,0,0,0,0,5,0,0,"-",5,5,5,5,"-",0,0,0,0,0,5,0,0,"-",5,"-",0,0,"-",0,0,0,0,0,0,0,0,5,0,0,0,5]
["Sun","2021-03-21","Aston Villa",0,2,"Tottenham","19:30:00",null,5,0,0,5,0,"-",5,5,5,5,5,"-","-",0,5,"-",5,0,0,0,5,0,5,0,10,5,5,"-",5,5,"-",5,0,"-",0,0,10,0,5,5,0,10,"-",5,10,0,0,"-",5,0,10,5,5,0,0,5,"-",10,"-",0,5,"-",0,0,5,5,10,5,5,5,0,5,5,10,5]
[]
["Golden Boots"]
["Anthony Martial - Man United",null,null,{"$f":"COUNT(I38:CE38)","v":8},{"$f":"0+0","v":0},null,null,null,null,null,null,null,null,null,null,null,null,null,null,null,{"$f":"$E38*2","v":0},null,null,null,null,null,null,{"$f":"$E38*2","v":0},null,null,null,{"$f":"$E38*2","v":0},null,null,null,null,null,null,{"$f":"$E38*2","v":0},null,null,null,null,null,null,null,null,null,null,null,null,null,null,null,null,{"$f":"$E38*2","v":0},null,null,null,null,{"$f":"$E38*2","v":0},null,null,null,null,{"$f":"$E38*2","v":0},null,null,null,null,null,null,{"$f":"$E38*2","v":0}]
["Chris Wood - Burnley",null,null,0,{"$f":"0+1","v":1}]
["Danny Ings - Southampton",null,null,6,{"$f":"0+0+0","v":0},null,null,null,null,null,null,null,null,null,null,null,null,null,null,{"$f":"$E40*2","v":0},null,null,null,null,null,null,null,null,null,null,null,null,null,null,null,null,null,null,null,null,null,{"$f":"$E40*2","v":0},null,null,null,null,null,null,null,null,null,null,null,null,null,null,null,null,null,null,null,null,null,null,null,null,{"$f":"$E40*2","v":0},null,null,{"$f":"$E40*2","v":0},null,null,null,{"$f":"$E40*2","v":0},null,null,null,null,null,null,null,{"$f":"$E40*2","v":0}]
["Harry Kane - Tottenham Hotspur",null,null,44,{"$f":"0+2+0+1","v":3},null,null,null,{"$f":"$E41*2","v":6},6,6,6,6,6,6,null,{"$f":"$E41*2","v":6},{"$f":"$E41*2","v":6},null,null,null,null,{"$f":"$E41*2","v":6},{"$f":"$E41*2","v":6},{"$f":"$E41*2","v":6},{"$f":"$E41*2","v":6},null,null,{"$f":"$E41*2","v":6},6,6,6,6,6,6,{"$f":"$E41*2","v":6},{"$f":"$E41*2","v":6},{"$f":"$E41*2","v":6},{"$f":"$E41*2","v":6},{"$f":"$E41*2","v":6},null,{"$f":"$E41*2","v":6},{"$f":"$E41*2","v":6},{"$f":"$E41*2","v":6},{"$f":"$E41*2","v":6},{"$f":"$E41*2","v":6},null,null,{"$f":"$E41*2","v":6},null,{"$f":"$E41*2","v":6},{"$f":"$E41*2","v":6},{"$f":"$E41*2","v":6},{"$f":"$E41*2","v":6},null,{"$f":"$E41*2","v":6},null,{"$f":"$E41*2","v":6},null,{"$f":"$E41*2","v":6},{"$f":"$E41*2","v":6},null,null,null,{"$f":"$E41*2","v":6},null,null,null,null,null,{"$f":"$E41*2","v":6},{"$f":"$E41*2","v":6},null,null,null,{"$f":"$E41*2","v":6},null,null,null,null,null,{"$f":"$E41*2","v":6}]
["Jamie Vardy - Leicester City",null,null,19,{"$f":"0+0+0","v":0},null,null,null,null,null,{"$f":"$E42*2","v":0},null,null,null,null,null,null,null,{"$f":"$E42*2","v":0},null,null,null,null,null,null,{"$f":"$E42*2","v":0},null,null,null,{"$f":"$E42*2","v":0},null,null,null,null,null,null,null,null,null,null,null,null,null,null,{"$f":"$E42*2","v":0},null,{"$f":"$E42*2","v":0},{"$f":"$E42*2","v":0},{"$f":"$E42*2","v":0},{"$f":"$E42*2","v":0},{"$f":"$E42*2","v":0},null,{"$f":"$E42*2","v":0},null,null,null,null,null,null,null,null,{"$f":"$E42*2","v":0},null,null,null,{"$f":"$E42*2","v":0},null,null,{"$f":"$E42*2","v":0},{"$f":"$E42*2","v":0},null,null,null,null,{"$f":"$E42*2","v":0},{"$f":"$E42*2","v":0},null,null,{"$f":"$E42*2","v":0},{"$f":"$E42*2","v":0}]
["Marcus Rashford - Man United",null,null,6,{"$f":"0+0","v":0},null,null,null,null,null,null,null,null,null,null,{"$f":"$E43*2","v":0},null,null,null,null,null,null,null,null,null,null,null,null,null,null,null,null,null,null,null,null,null,null,null,null,null,null,null,null,null,null,null,null,null,null,null,null,{"$f":"$E43*2","v":0},null,null,null,null,null,{"$f":"$E43*2","v":0},null,{"$f":"$E43*2","v":0},null,null,null,null,null,null,null,null,null,null,null,null,null,null,null,null,null,{"$f":"$E43*2","v":0},null,{"$f":"$E43*2","v":0}]
["Mohamed Salah - Liverpool",null,null,36,{"$f":"0+0+0","v":0},null,null,null,null,null,{"$f":"$E44*2","v":0},{"$f":"$E44*2","v":0},null,null,{"$f":"$E44*2","v":0},null,{"$f":"$E44*2","v":0},0,0,0,0,0,null,{"$f":"$E44*2","v":0},{"$f":"$E44*2","v":0},null,null,{"$f":"$E44*2","v":0},null,null,{"$f":"$E44*2","v":0},{"$f":"$E44*2","v":0},null,null,null,null,null,null,{"$f":"$E44*2","v":0},null,{"$f":"$E44*2","v":0},null,{"$f":"$E44*2","v":0},null,null,null,null,{"$f":"$E44*2","v":0},null,{"$f":"$E44*2","v":0},null,null,null,{"$f":"$E44*2","v":0},{"$f":"$E44*2","v":0},{"$f":"$E44*2","v":0},{"$f":"$E44*2","v":0},{"$f":"$E44*2","v":0},null,null,null,{"$f":"$E44*2","v":0},null,{"$f":"$E44*2","v":0},null,null,{"$f":"$E44*2","v":0},null,null,null,{"$f":"$E44*2","v":0},0,0,0,0,{"$f":"$E44*2","v":0},null,{"$f":"$E44*2","v":0},0,null,null,null,{"$f":"$E44*2","v":0}]
["Pierre Emerick Aubameyang - Arsenal",null,null,45,{"$f":"1+0+0","v":1},null,null,null,null,null,null,{"$f":"$E45*2","v":2},null,{"$f":"$E45*2","v":2},{"$f":"$E45*2","v":2},{"$f":"$E45*2","v":2},{"$f":"$E45*2","v":2},{"$f":"$E45*2","v":2},{"$f":"$E45*2","v":2},null,{"$f":"$E45*2","v":2},{"$f":"$E45*2","v":2},{"$f":"$E45*2","v":2},null,null,null,{"$f":"$E45*2","v":2},{"$f":"$E45*2","v":2},{"$f":"$E45*2","v":2},null,{"$f":"$E45*2","v":2},null,{"$f":"$E45*2","v":2},null,{"$f":"$E45*2","v":2},{"$f":"$E45*2","v":2},{"$f":"$E45*2","v":2},null,null,{"$f":"$E45*2","v":2},{"$f":"$E45*2","v":2},null,{"$f":"$E45*2","v":2},{"$f":"$E45*2","v":2},{"$f":"$E45*2","v":2},null,{"$f":"$E45*2","v":2},{"$f":"$E45*2","v":2},{"$f":"$E45*2","v":2},{"$f":"$E45*2","v":2},{"$f":"$E45*2","v":2},null,null,{"$f":"$E45*2","v":2},{"$f":"$E45*2","v":2},null,{"$f":"$E45*2","v":2},{"$f":"$E45*2","v":2},null,null,null,null,{"$f":"$E45*2","v":2},{"$f":"$E45*2","v":2},null,{"$f":"$E45*2","v":2},null,{"$f":"$E45*2","v":2},null,null,null,{"$f":"$E45*2","v":2},null,{"$f":"$E45*2","v":2},{"$f":"$E45*2","v":2},null,{"$f":"$E45*2","v":2},{"$f":"$E45*2","v":2},null,{"$f":"$E45*2","v":2},{"$f":"$E45*2","v":2},{"$f":"$E45*2","v":2},{"$f":"$E45*2","v":2}]
["Raheem Sterling - Man City",null,null,14,{"$f":"0+0+0","v":0},null,null,null,null,null,null,null,null,null,null,null,null,null,null,null,null,null,null,{"$f":"$E46*2","v":0},null,null,{"$f":"$E46*2","v":0},null,{"$f":"$E46*2","v":0},null,null,null,null,{"$f":"$E46*2","v":0},null,{"$f":"$E46*2","v":0},null,null,null,null,null,null,null,null,null,null,null,null,null,null,null,null,null,null,null,null,null,null,{"$f":"$E46*2","v":0},{"$f":"$E46*2","v":0},null,{"$f":"$E46*2","v":0},{"$f":"$E46*2","v":0},null,{"$f":"$E46*2","v":0},null,null,{"$f":"$E46*2","v":0},{"$f":"$E46*2","v":0},null,{"$f":"$E46*2","v":0},null,null,null,null,null,null,null,null,null,null,null,{"$f":"$E46*2","v":0}]
["Raul Jiminez - Wolves",null,null,1,{"$f":"0+0+0","v":0},null,null,null,null,null,null,null,null,null,null,null,null,null,null,null,null,null,null,null,null,null,null,null,null,null,null,null,null,null,null,null,null,null,null,null,null,null,null,null,null,null,{"$f":"$E47*2","v":0}]
["Richarlison - Everton",null,null,1,{"$f":"1+0","v":1},null,null,null,{"$f":"$E48*2","v":2}]
["Sadio Mane - Liverpool",null,null,12,{"$f":"0+0+0","v":0},null,null,null,null,{"$f":"$E49*2","v":0},null,null,{"$f":"$E49*2","v":0},null,null,{"$f":"$E49*2","v":0},null,null,null,null,null,{"$f":"$E49*2","v":0},null,null,null,null,null,null,null,null,null,null,null,{"$f":"$E49*2","v":0},{"$f":"$E49*2","v":0},null,null,null,null,null,null,null,null,null,null,{"$f":"$E49*2","v":0},null,null,null,null,null,{"$f":"$E49*2","v":0},null,null,null,null,null,null,{"$f":"$E49*2","v":0},null,null,null,null,{"$f":"$E49*2","v":0},null,null,null,{"$f":"$E49*2","v":0},null,null,null,null,null,null,null,null,null,null,null,null,{"$f":"$E49*2","v":0}]
["Sergio Aguero - Man City",null,null,9,{"$f":"0+0+1","v":1},null,null,null,null,{"$f":"$E50*2","v":2},null,null,null,null,null,null,null,null,null,{"$f":"$E50*2","v":2},null,null,null,null,null,null,null,null,null,null,null,null,null,null,null,null,null,{"$f":"$E50*2","v":2},null,null,null,{"$f":"$E50*2","v":2},null,null,null,{"$f":"$E50*2","v":2},null,null,null,null,null,null,null,null,null,null,{"$f":"$E50*2","v":2},null,null,null,null,null,null,null,{"$f":"$E50*2","v":2},null,null,null,null,null,null,null,{"$f":"$E50*2","v":2},null,null,null,{"$f":"$E50*2","v":2}]
["Tammy Abraham - Chelsea",null,null,0,{"$f":"0+0+0","v":0}]
["Timo Werner - Chelsea",null,null,24,{"$f":"0+0+0","v":0},null,null,null,{"$f":"$E52*2","v":0},null,null,null,{"$f":"$E52*2","v":0},{"$f":"$E52*2","v":0},null,null,null,null,null,null,null,null,{"$f":"$E52*2","v":0},null,{"$f":"$E52*2","v":0},{"$f":"$E52*2","v":0},{"$f":"$E52*2","v":0},null,null,{"$f":"$E52*2","v":0},null,null,{"$f":"$E52*2","v":0},null,null,null,{"$f":"$E52*2","v":0},{"$f":"$E52*2","v":0},null,{"$f":"$E52*2","v":0},{"$f":"$E52*2","v":0},null,null,{"$f":"$E52*2","v":0},null,null,null,null,null,null,null,{"$f":"$E52*2","v":0},null,null,{"$f":"$E52*2","v":0},null,null,null,null,{"$f":"$E52*2","v":0},null,null,{"$f":"$E52*2","v":0},null,null,null,{"$f":"$E52*2","v":0},null,{"$f":"$E52*2","v":0},{"$f":"$E52*2","v":0},null,null,null,null,null,null,{"$f":"$E52*2","v":0},{"$f":"$E52*2","v":0},null,{"$f":"$E52*2","v":0}]
[]
["Golden Gloves"]
["Alisson Becker - Liverpool",null,null,{"$f":"COUNT(I55:CE55)","v":57},{"$f":"0+0+1","v":1},null,null,null,null,{"$f":"$E55*2","v":2},{"$f":"$E55*2","v":2},{"$f":"$E55*2","v":2},{"$f":"$E55*2","v":2},null,{"$f":"$E55*2","v":2},{"$f":"$E55*2","v":2},null,{"$f":"$E55*2","v":2},{"$f":"$E55*2","v":2},{"$f":"$E55*2","v":2},null,{"$f":"$E55*2","v":2},{"$f":"$E55*2","v":2},{"$f":"$E55*2","v":2},{"$f":"$E55*2","v":2},{"$f":"$E55*2","v":2},null,{"$f":"$E55*2","v":2},null,{"$f":"$E55*2","v":2},null,null,{"$f":"$E55*2","v":2},2,2,2,2,2,null,{"$f":"$E55*2","v":2},{"$f":"$E55*2","v":2},{"$f":"$E55*2","v":2},{"$f":"$E55*2","v":2},{"$f":"$E55*2","v":2},null,{"$f":"$E55*2","v":2},null,{"$f":"$E55*2","v":2},null,{"$f":"$E55*2","v":2},{"$f":"$E55*2","v":2},{"$f":"$E55*2","v":2},{"$f":"$E55*2","v":2},{"$f":"$E55*2","v":2},null,{"$f":"$E55*2","v":2},{"$f":"$E55*2","v":2},{"$f":"$E55*2","v":2},{"$f":"$E55*2","v":2},null,{"$f":"$E55*2","v":2},{"$f":"$E55*2","v":2},2,{"$f":"$E55*2","v":2},2,2,{"$f":"$E55*2","v":2},2,null,{"$f":"$E55*2","v":2},2,2,null,null,{"$f":"$E55*2","v":2},2,2,{"$f":"$E55*2","v":2},2,2,2,null,{"$f":"$E55*2","v":2}]
["Ederson - Man City",null,null,{"$f":"COUNT(I56:CE56)","v":14},{"$f":"0+0+1","v":1},null,null,null,{"$f":"$E56*2","v":2},null,null,null,null,null,null,null,{"$f":"$E56*2","v":2},null,null,null,{"$f":"$E56*2","v":2},null,null,null,null,null,{"$f":"$E56*2","v":2},null,{"$f":"$E56*2","v":2},null,{"$f":"$E56*2","v":2},{"$f":"$E56*2","v":2},null,null,null,null,null,null,{"$f":"$E56*2","v":2},null,null,null,null,null,null,null,{"$f":"$E56*2","v":2},null,{"$f":"$E56*2","v":2},null,null,null,null,null,{"$f":"$E56*2","v":2},null,null,null,null,{"$f":"$E56*2","v":2},null,null,null,null,null,null,null,null,null,null,null,null,null,{"$f":"$E56*2","v":2},null,null,null,null,null,null,null,{"$f":"$E56*2","v":2}]
["David de Gea - Man United",null,null,{"$f":"COUNT(I57:CE57)","v":3},{"$f":"0+0","v":0},null,null,null,null,null,null,null,null,{"$f":"$E57*2","v":0},null,null,null,null,null,null,null,null,null,null,null,null,null,null,null,null,null,null,null,null,null,null,null,null,null,null,null,null,null,null,{"$f":"$E57*2","v":0},null,null,null,null,null,null,null,null,null,null,null,null,null,null,null,null,null,null,null,null,null,null,null,null,null,null,null,{"$f":"$E57*2","v":0}]
["Hugo Lloris - Tottenham Hotspur",null,null,{"$f":"COUNT(I58:CE58)","v":1},{"$f":"1+0+0+1","v":2},null,null,null,null,null,null,null,null,null,null,null,null,null,null,null,null,null,null,null,null,null,null,null,null,null,null,null,null,null,null,null,null,null,null,null,null,null,null,null,null,null,null,null,null,null,null,null,null,null,null,null,null,null,null,null,null,null,null,null,null,null,null,null,{"$f":"$E58*2","v":4}]
["Nick Pope - Burnley",null,null,{"$f":"COUNT(I59:CE59)","v":0},{"$f":"0+0+0","v":0}]
[]
["Grand Total - March",null,null,null,null,null,null,null,{"$f":"SUM(I$3:I60)","v":75},{"$f":"SUM(J$3:J60)","v":85},{"$f":"SUM(K$3:K60)","v":123},{"$f":"SUM(L$3:L60)","v":110},{"$f":"SUM(M$3:M60)","v":128},{"$f":"SUM(N$3:N60)","v":8},{"$f":"SUM(O$3:O60)","v":85},{"$f":"SUM(P$3:P60)","v":114},{"$f":"SUM(Q$3:Q60)","v":120},{"$f":"SUM(R$3:R60)","v":100},{"$f":"SUM(S$3:S60)","v":94},{"$f":"SUM(T$3:T60)","v":4},{"$f":"SUM(U$3:U60)","v":24},{"$f":"SUM(V$3:V60)","v":104},{"$f":"SUM(W$3:W60)","v":125},{"$f":"SUM(X$3:X60)","v":98},{"$f":"SUM(Y$3:Y60)","v":88},{"$f":"SUM(Z$3:Z60)","v":83},{"$f":"SUM(AA$3:AA60)","v":109},{"$f":"SUM(AB$3:AB60)","v":89},{"$f":"SUM(AC$3:AC60)","v":80},{"$f":"SUM(AD$3:AD60)","v":88},{"$f":"SUM(AE$3:AE60)","v":110},{"$f":"SUM(AF$3:AF60)","v":108},{"$f":"SUM(AG$3:AG60)","v":110},{"$f":"SUM(AH$3:AH60)","v":98},{"$f":"SUM(AI$3:AI60)","v":105},{"$f":"SUM(AJ$3:AJ60)","v":10},{"$f":"SUM(AK$3:AK60)","v":105},{"$f":"SUM(AL$3:AL60)","v":110},{"$f":"SUM(AM$3:AM60)","v":53},{"$f":"SUM(AN$3:AN60)","v":110},{"$f":"SUM(AO$3:AO60)","v":99},{"$f":"SUM(AP$3:AP60)","v":10},{"$f":"SUM(AQ$3:AQ60)","v":90},{"$f":"SUM(AR$3:AR60)","v":110},{"$f":"SUM(AS$3:AS60)","v":98},{"$f":"SUM(AT$3:AT60)","v":100},{"$f":"SUM(AU$3:AU60)","v":94},{"$f":"SUM(AV$3:AV60)","v":134},{"$f":"SUM(AW$3:AW60)","v":95},{"$f":"SUM(AX$3:AX60)","v":84},{"$f":"SUM(AY$3:AY60)","v":80},{"$f":"SUM(AZ$3:AZ60)","v":113},{"$f":"SUM(BA$3:BA60)","v":103},{"$f":"SUM(BB$3:BB60)","v":145},{"$f":"SUM(BC$3:BC60)","v":74},{"$f":"SUM(BD$3:BD60)","v":8},{"$f":"SUM(BE$3:BE60)","v":151},{"$f":"SUM(BF$3:BF60)","v":100},{"$f":"SUM(BG$3:BG60)","v":102},{"$f":"SUM(BH$3:BH60)","v":98},{"$f":"SUM(BI$3:BI60)","v":108},{"$f":"SUM(BJ$3:BJ60)","v":92},{"$f":"SUM(BK$3:BK60)","v":84},{"$f":"SUM(BL$3:BL60)","v":84},{"$f":"SUM(BM$3:BM60)","v":10},{"$f":"SUM(BN$3:BN60)","v":104},{"$f":"SUM(BO$3:BO60)","v":37},{"$f":"SUM(BP$3:BP60)","v":79},{"$f":"SUM(BQ$3:BQ60)","v":109},{"$f":"SUM(BR$3:BR60)","v":2},{"$f":"SUM(BS$3:BS60)","v":93},{"$f":"SUM(BT$3:BT60)","v":100},{"$f":"SUM(BU$3:BU60)","v":92},{"$f":"SUM(BV$3:BV60)","v":99},{"$f":"SUM(BW$3:BW60)","v":119},{"$f":"SUM(BX$3:BX60)","v":93},{"$f":"SUM(BY$3:BY60)","v":101},{"$f":"SUM(BZ$3:BZ60)","v":119},{"$f":"SUM(CA$3:CA60)","v":82},{"$f":"SUM(CB$3:CB60)","v":124},{"$f":"SUM(CC$3:CC60)","v":119},{"$f":"SUM(CD$3:CD60)","v":125},{"$f":"SUM(CE$3:CE60)","v":114}]
[]
["Ten Pointers",null,null,null,null,null,null,null,{"$f":"COUNTIF(I$3:I35,\"10\")","v":1},{"$f":"COUNTIF(J$3:J35,\"10\")","v":2},{"$f":"COUNTIF(K$3:K35,\"10\")","v":6},{"$f":"COUNTIF(L$3:L35,\"10\")","v":3},{"$f":"COUNTIF(M$3:M35,\"10\")","v":6},{"$f":"COUNTIF(N$3:N35,\"10\")","v":0},{"$f":"COUNTIF(O$3:O35,\"10\")","v":2},{"$f":"COUNTIF(P$3:P35,\"10\")","v":4},{"$f":"COUNTIF(Q$3:Q35,\"10\")","v":3},{"$f":"COUNTIF(R$3:R35,\"10\")","v":1},{"$f":"COUNTIF(S$3:S35,\"10\")","v":4},{"$f":"COUNTIF(T$3:T35,\"10\")","v":0},{"$f":"COUNTIF(U$3:U35,\"10\")","v":0},{"$f":"COUNTIF(V$3:V35,\"10\")","v":5},{"$f":"COUNTIF(W$3:W35,\"10\")","v":5},{"$f":"COUNTIF(X$3:X35,\"10\")","v":2},{"$f":"COUNTIF(Y$3:Y35,\"10\")","v":2},{"$f":"COUNTIF(Z$3:Z35,\"10\")","v":3},{"$f":"COUNTIF(AA$3:AA35,\"10\")","v":4},{"$f":"COUNTIF(AB$3:AB35,\"10\")","v":3},{"$f":"COUNTIF(AC$3:AC35,\"10\")","v":1},{"$f":"COUNTIF(AD$3:AD35,\"10\")","v":2},{"$f":"COUNTIF(AE$3:AE35,\"10\")","v":4},{"$f":"COUNTIF(AF$3:AF35,\"10\")","v":3},{"$f":"COUNTIF(AG$3:AG35,\"10\")","v":3},{"$f":"COUNTIF(AH$3:AH35,\"10\")","v":2},{"$f":"COUNTIF(AI$3:AI35,\"10\")","v":3},{"$f":"COUNTIF(AJ$3:AJ35,\"10\")","v":0},{"$f":"COUNTIF(AK$3:AK35,\"10\")","v":3},{"$f":"COUNTIF(AL$3:AL35,\"10\")","v":2},{"$f":"COUNTIF(AM$3:AM35,\"10\")","v":0},{"$f":"COUNTIF(AN$3:AN35,\"10\")","v":5},{"$f":"COUNTIF(AO$3:AO35,\"10\")","v":4},{"$f":"COUNTIF(AP$3:AP35,\"10\")","v":0},{"$f":"COUNTIF(AQ$3:AQ35,\"10\")","v":2},{"$f":"COUNTIF(AR$3:AR35,\"10\")","v":3},{"$f":"COUNTIF(AS$3:AS35,\"10\")","v":4},{"$f":"COUNTIF(AT$3:AT35,\"10\")","v":4},{"$f":"COUNTIF(AU$3:AU35,\"10\")","v":4},{"$f":"COUNTIF(AV$3:AV35,\"10\")","v":6},{"$f":"COUNTIF(AW$3:AW35,\"10\")","v":3},{"$f":"COUNTIF(AX$3:AX35,\"10\")","v":3},{"$f":"COUNTIF(AY$3:AY35,\"10\")","v":3},{"$f":"COUNTIF(AZ$3:AZ35,\"10\")","v":2},{"$f":"COUNTIF(BA$3:BA35,\"10\")","v":3},{"$f":"COUNTIF(BB$3:BB35,\"10\")","v":7},{"$f":"COUNTIF(BC$3:BC35,\"10\")","v":2},{"$f":"COUNTIF(BD$3:BD35,\"10\")","v":0},{"$f":"COUNTIF(BE$3:BE35,\"10\")","v":9},{"$f":"COUNTIF(BF$3:BF35,\"10\")","v":5},{"$f":"COUNTIF(BG$3:BG35,\"10\")","v":4},{"$f":"COUNTIF(BH$3:BH35,\"10\")","v":1},{"$f":"COUNTIF(BI$3:BI35,\"10\")","v":3},{"$f":"COUNTIF(BJ$3:BJ35,\"10\")","v":2},{"$f":"COUNTIF(BK$3:BK35,\"10\")","v":2},{"$f":"COUNTIF(BL$3:BL35,\"10\")","v":3},{"$f":"COUNTIF(BM$3:BM35,\"10\")","v":0},{"$f":"COUNTIF(BN$3:BN35,\"10\")","v":2},{"$f":"COUNTIF(BO$3:BO35,\"10\")","v":1},{"$f":"COUNTIF(BP$3:BP35,\"10\")","v":3},{"$f":"COUNTIF(BQ$3:BQ35,\"10\")","v":3},{"$f":"COUNTIF(BR$3:BR35,\"10\")","v":0},{"$f":"COUNTIF(BS$3:BS35,\"10\")","v":4},{"$f":"COUNTIF(BT$3:BT35,\"10\")","v":4},{"$f":"COUNTIF(BU$3:BU35,\"10\")","v":2},{"$f":"COUNTIF(BV$3:BV35,\"10\")","v":2},{"$f":"COUNTIF(BW$3:BW35,\"10\")","v":5},{"$f":"COUNTIF(BX$3:BX35,\"10\")","v":0},{"$f":"COUNTIF(BY$3:BY35,\"10\")","v":2},{"$f":"COUNTIF(BZ$3:BZ35,\"10\")","v":5},{"$f":"COUNTIF(CA$3:CA35,\"10\")","v":2},{"$f":"COUNTIF(CB$3:CB35,\"10\")","v":6},{"$f":"COUNTIF(CC$3:CC35,\"10\")","v":5},{"$f":"COUNTIF(CD$3:CD35,\"10\")","v":6},{"$f":"COUNTIF(CE$3:CE35,\"10\")","v":4}]

{"sheet":"April","index":8,"n_rows":69,"n_cols":83,"rows_kept":69,"cut":false,"hidden":false,"merged":[[1,2,1,5]]}
[null,null,null,null,null,null,null,null,"Aidan Scanlon","Aidan White","Alan White","Anastas Popov","Andy Dunne","Ben Creasey","Bobby Hynes","Brendan Maguire","Brian Prendergast","Brian Haughton","Brian Mullen","Callum Dunne","Calvin McGettigan","Caroline Carroll","Cathal Thornton","Christina Morgan","Ciaran Nelson","Ciaran O'Hart","Con McSweeney","Craig Calvert","Darragh Kenny","David Cooney","David Lavelle","David McGinley","Davy Doyle","Dean White","Derek Brady","Drew Armstrong","Eamon Fox","Eoghan Farrelly","Fiachra O'Brolachain","Frank McSweeney","Gareth Pierpoint","Gary Donnelly","Gary Fitzpatrick","Gary McGurk","Gavin Goodwin","Gavin Morgan","George McGettigan","Gerard McCluskey","Gerry Draper","Gerry Moore","Graham Goodwin","Javier Suarez","Joe Behan","Joe Turner","John Brophy","John O'Driscoll","Jonathan Fox","Joseph Kavanagh","Kev Dalton","Kevin Philpott","Kris Stainton","Liam Geraghty","Liam Keohan","Lionel Knott","Michael Kenaney","Micheal Joyce","Niall Cannon","Niall Carroll","Niall Murray","Patrick Mifsud","Paul Moore","Paul Prendergast","Phil Doyle","Philip Jordan","Ralph Goodwin","Richard Johnston","Robert Hynes","Robert Manley","Roisin Joyce","Sean O'Mairtin","Trevor Byrne","Victoria Reid","Wayne Donovan"]
["Day","Date","Teams",null,null,null,"Time"]
["Sat","2021-04-03","Chelsea",2,5,"West Bromwich","12:30:00",null,0,0,0,0,0,"-",0,0,0,0,0,"-","-",0,0,0,0,0,0,0,0,0,0,0,0,0,0,"-",0,0,0,0,0,"-",0,0,0,0,0,0,0,0,0,0,0,0,0,"-",0,0,0,0,0,0,0,0,"-",0,"-",0,0,"-",0,0,0,0,0,0,0,0,0,0,0,0,0]
["Sat","2021-04-03","Leeds Utd",2,0,"Sheffield Utd","15:00:00",null,10,5,5,5,5,"-",5,5,10,5,5,"-","-",5,5,0,5,5,5,5,5,5,5,10,10,5,5,"-",5,10,5,10,5,"-",5,5,10,5,5,0,5,5,5,10,5,5,5,"-",5,5,0,10,10,5,5,5,"-",5,"-",5,10,"-",5,5,5,10,5,10,5,5,10,5,5,5,10]
["Sat","2021-04-03","Leicester City",0,2,"Manchester City","17:30:00",null,5,0,5,10,5,"-",5,5,5,5,5,"-","-",0,5,5,10,5,10,5,5,5,5,5,5,10,5,"-",5,5,5,"-",5,"-",5,0,10,5,0,0,10,0,0,5,5,5,10,"-",10,5,5,0,0,0,5,5,"-",5,"-",10,0,"-",0,5,0,5,5,5,0,5,5,5,5,5,5]
["Sat","2021-04-03","Arsenal",0,3,"Liverpool","20:00:00",null,0,"-",5,5,5,"-",0,0,5,5,0,"-","-",5,5,5,5,0,5,0,5,0,10,0,0,0,5,"-",5,5,5,5,5,"-",5,0,0,0,0,0,5,0,5,5,0,0,0,"-",5,5,5,0,0,5,0,5,"-",0,"-",5,5,"-",5,5,0,0,0,5,5,5,5,5,5,5,0]
["Sun","2021-04-04","Southampton",3,2,"Burnley","12:00:00",null,0,0,5,5,5,"-",5,0,5,5,0,"-","-",0,0,5,5,5,0,5,5,0,5,5,5,5,5,"-",5,5,0,5,0,"-",5,0,0,0,5,0,0,0,5,5,5,5,5,"-",5,5,5,5,5,0,5,5,"-",5,"-",5,5,"-",5,5,0,0,5,5,5,0,5,5,5,0,5]
["Sun","2021-04-04","Newcastle Utd",2,2,"Tottenham","14:05:00",null,0,0,0,0,0,"-",0,0,0,0,0,"-","-",0,0,0,0,5,0,0,0,0,0,0,0,0,0,"-",0,0,0,0,0,"-",0,0,0,0,0,0,0,0,0,5,0,0,0,"-",0,0,0,0,0,0,0,0,"-",0,"-",0,0,"-",5,0,0,0,0,0,0,0,5,0,0,0,5]
["Sun","2021-04-04","Aston Villa",3,1,"Fulham","16:30:00",null,0,5,10,5,5,"-",0,5,5,5,5,"-","-",0,5,0,5,5,5,0,0,0,5,5,5,5,5,"-",0,5,5,5,0,"-",5,5,5,5,0,10,0,0,5,5,5,5,5,"-",5,5,0,5,5,5,5,0,"-",10,"-",0,5,"-",5,5,5,5,5,5,0,5,5,0,5,5,5]
["Sun","2021-04-04","Manchester United",2,1,"Brighton","19:30:00",null,5,5,5,10,5,"-",5,5,5,5,5,"-","-",5,5,5,5,5,5,5,5,10,10,5,5,5,10,"-",10,5,0,5,10,"-",5,0,10,5,0,10,10,0,5,5,5,5,0,"-",5,5,10,10,5,0,10,10,"-",10,"-",5,5,"-",0,5,5,5,5,5,5,5,5,5,5,5,5]
["Mon","2021-04-05","Everton",1,1,"Crystal Palace","18:00:00",null,0,0,0,0,5,"-",10,0,0,0,0,"-","-",0,0,0,10,0,0,0,0,0,0,0,0,10,0,"-",0,0,0,0,0,"-",0,0,0,0,0,10,0,0,0,0,0,0,0,"-",0,0,0,0,0,0,0,10,"-",10,"-",0,0,"-",0,10,0,0,0,0,0,0,0,0,0,0,0]
["Mon","2021-04-05","Wolverhampton",2,3,"West Ham","20:15:00",null,5,0,0,0,0,"-",0,0,0,5,5,"-","-",0,5,0,5,0,5,5,0,5,5,0,5,0,0,"-",0,5,5,0,0,"-",5,0,5,0,5,5,0,0,5,0,5,0,0,"-",5,5,0,0,5,0,5,5,"-",5,"-",0,0,"-",0,0,5,5,5,5,0,0,0,0,0,0,0]
["Fri","2021-04-09","Fulham",0,1,"Wolverhampton","20:00:00",null,0,10,0,0,0,"-",0,0,0,0,5,"-","-",0,0,"-",0,0,5,0,0,0,0,0,5,5,0,"-",10,0,0,"-",0,"-",0,0,0,0,10,5,10,0,5,0,0,0,0,"-",0,0,0,0,0,0,0,0,"-",0,"-",5,0,"-",0,0,5,5,0,"-",0,0,0,0,5,0,5]
["Sat","2021-04-10","Manchester City",1,2,"Leeds Utd","12:30:00",null,0,0,0,0,0,"-",0,0,0,0,0,"-","-",0,0,0,0,0,0,0,0,0,0,0,0,0,0,"-",0,0,10,0,0,"-",0,0,0,0,0,0,0,0,0,0,0,0,0,"-",0,0,0,0,0,0,0,0,"-",0,"-",0,0,"-",0,0,0,0,0,0,0,0,0,0,0,0,0]
["Sat","2021-04-10","Liverpool",2,1,"Aston Villa","15:00:00",null,0,5,5,5,5,"-",5,0,5,5,0,"-","-",10,0,"-",10,0,5,5,5,10,10,5,10,5,5,"-",5,0,5,5,5,"-",0,5,5,0,0,5,5,10,5,5,5,10,5,"-",5,5,10,10,5,5,10,5,"-",0,"-",0,10,"-",5,5,5,5,5,5,10,5,5,5,5,5,10]
["Sat","2021-04-10","Crystal Palace",1,4,"Chelsea","17:30:00",null,5,5,5,5,5,"-",5,5,5,5,5,"-","-",5,5,5,5,0,5,0,5,5,5,5,5,5,5,"-",5,5,5,5,5,"-",5,0,0,5,5,5,5,0,5,0,5,0,5,"-",5,5,5,5,5,5,5,5,"-",5,"-",5,5,"-",0,0,5,5,5,5,5,5,5,5,5,5,5]
["Sun","2021-04-11","Burnley",1,2,"Newcastle Utd","12:00:00",null,0,0,0,0,0,"-",0,0,0,0,0,"-","-",0,0,0,0,0,5,0,0,0,0,0,0,0,10,"-",10,0,0,0,0,"-",0,5,0,0,10,0,0,0,0,0,0,0,0,"-",0,0,0,0,5,0,0,5,"-",0,"-",0,0,"-",0,0,0,0,0,10,0,0,5,0,0,10,0]
["Sun","2021-04-11","West Ham",3,2,"Leicester City","14:05:00",null,10,0,0,0,5,"-",0,0,5,5,0,"-","-",0,0,0,5,0,0,0,0,0,0,0,0,0,0,"-",0,5,0,0,0,"-",5,0,10,5,5,0,5,0,5,5,5,0,0,"-",0,0,0,0,0,5,5,0,"-",0,"-",5,0,"-",0,5,5,5,0,0,0,5,0,0,0,5,0]
["Sun","2021-04-11","Tottenham",1,3,"Manchester United","16:30:00",null,0,5,0,0,0,"-",0,5,0,0,0,"-","-",0,5,0,5,0,0,5,0,0,0,0,5,0,0,"-",5,0,5,5,0,"-",5,0,0,0,10,5,0,0,5,0,10,0,5,"-",5,0,5,5,10,10,5,0,"-",0,"-",0,0,"-",0,0,5,5,5,0,0,0,5,0,0,5,0]
["Sun","2021-04-11","Sheffield Utd",0,3,"Arsenal","19:00:00",null,5,5,5,5,0,"-",5,5,5,5,5,"-","-",5,5,0,5,5,5,5,5,5,5,5,10,5,5,"-",5,5,0,5,5,"-",5,0,0,0,10,0,5,5,5,0,5,0,5,"-",5,5,5,5,5,5,10,5,"-",5,"-",5,5,"-",0,5,5,5,5,5,5,5,5,5,5,5,5]
["Mon","2021-04-12","West Bromwich",3,0,"Southampton","18:00:00",null,5,0,0,0,5,"-",0,0,5,5,5,"-","-",5,5,0,0,0,0,0,5,0,0,0,0,0,0,"-",0,5,0,0,0,"-",0,5,0,5,0,0,0,0,5,5,5,5,0,"-",0,5,0,0,0,0,0,0,"-",0,"-",5,5,"-",0,0,0,5,5,0,0,5,0,0,0,5,5]
["Mon","2021-04-12","Brighton",0,0,"Everton","20:00:00",null,0,0,0,0,0,"-",5,0,0,0,0,"-","-",5,0,0,5,5,0,0,0,0,5,5,0,0,0,"-",0,0,0,5,5,"-",0,5,0,0,0,0,5,5,0,0,5,5,0,"-",0,0,0,0,0,0,0,5,"-",0,"-",0,5,"-",5,0,0,5,5,0,5,0,0,5,0,5,5]
["Fri","2021-04-16","Everton",2,2,"Tottenham","20:00:00",null,0,5,0,0,5,"-",0,0,0,10,5,"-","-",0,5,"-",0,5,0,5,0,10,5,5,0,0,5,"-",0,0,0,0,0,"-",0,5,0,0,0,0,0,0,5,10,10,5,0,"-",0,0,0,5,0,0,0,0,"-",0,"-",5,10,"-",0,0,10,0,0,0,0,0,5,10,"-",0,0]
["Sat","2021-04-17","Newcastle Utd",3,2,"West Ham","12:30:00",null,0,0,0,0,0,"-",0,0,0,0,0,"-","-",5,0,"-",0,0,0,0,5,0,0,0,0,0,0,"-",0,0,0,0,0,"-",0,5,0,0,5,0,0,0,0,0,0,0,5,"-",0,0,0,0,5,5,0,0,"-",0,"-",0,5,"-",0,5,0,0,0,0,0,0,0,0,"-",5,0]
["Sat","2021-04-17","Wolverhampton",2,0,"Sheffield Utd","15:00:00",null,0,10,10,5,5,"-",5,5,5,5,5,"-","-",5,5,"-",5,10,5,10,5,5,10,5,0,5,5,"-",10,5,5,5,5,"-",5,5,5,10,10,5,5,5,5,5,5,5,5,"-",5,5,5,5,10,5,5,5,"-",5,"-",5,10,"-",5,5,10,5,0,5,5,10,5,5,"-",10,5]
["Sun","2021-04-18","Arsenal",1,1,"Fulham","13:30:00",null,0,0,0,0,0,"-",0,0,0,0,0,"-","-",0,0,"-",0,0,0,0,0,10,0,0,0,0,0,"-",0,0,10,0,0,"-",0,0,0,0,0,0,0,0,0,0,0,0,0,"-",0,10,0,0,0,5,0,0,"-",0,"-",0,0,"-",0,0,0,0,0,0,0,0,0,0,"-",0,0]
["Sun","2021-04-18","Manchester United",3,1,"Burnley","16:00:00",null,5,5,10,5,5,"-",5,5,5,5,5,"-","-",5,5,"-",5,5,5,5,5,10,5,5,5,5,5,"-",5,5,0,5,5,"-",10,5,5,5,5,5,5,5,5,5,5,5,5,"-",5,5,5,10,5,5,5,10,"-",0,"-",5,5,"-",10,5,5,5,5,5,5,5,5,5,"-",10,5]
["Mon","2021-04-19","Leeds Utd",1,1,"Liverpool","20:00:00",null,0,10,0,0,0,"-",0,5,0,0,0,"-","-",0,5,"-",0,0,5,0,0,0,0,0,10,0,0,"-",0,0,0,0,0,"-",0,0,0,0,0,0,0,5,0,0,0,0,10,"-",0,0,0,0,0,0,0,0,"-",0,"-",0,0,"-",0,0,5,0,0,0,0,0,5,0,"-",0,0]
["Tue","2021-04-20","Chelsea",0,0,"Brighton","20:00:00",null,0,0,0,0,0,"-",0,0,0,0,0,"-","-",0,0,"-",0,0,0,0,0,0,0,0,0,0,0,"-",0,0,0,0,0,"-",0,0,0,0,0,0,0,5,0,0,5,0,0,"-",0,0,0,0,0,0,0,0,"-",0,"-",0,0,"-",0,5,0,0,0,0,0,0,0,0,"-",0,0]
["Wed","2021-04-21","Tottenham",2,1,"Southampton","18:00:00",null,5,5,5,5,10,"-",10,5,5,5,10,"-","-",5,5,"-",0,5,5,5,10,10,5,10,10,10,5,"-",5,5,10,0,0,"-",5,5,5,5,0,5,5,5,5,5,5,10,5,"-",5,5,0,10,5,0,0,5,"-",0,"-",10,10,"-",5,5,10,10,5,5,5,10,0,5,"-",5,10]
["Wed","2021-04-21","Aston Villa",1,2,"Manchester City","20:15:00",null,5,5,5,5,10,"-",0,10,0,5,5,"-","-",5,0,"-",5,0,5,5,5,10,5,10,5,5,5,"-",5,10,0,10,5,"-",5,10,5,5,5,5,5,5,5,5,5,5,0,"-",5,10,5,5,0,0,5,5,"-",5,"-",5,5,"-",5,0,5,5,5,5,10,5,5,5,"-",0,10]
["Thu","2021-04-22","Leicester City",3,0,"West Bromwich","20:00:00",null,0,5,5,5,5,"-",5,10,5,0,5,"-","-",0,5,"-",0,10,5,5,0,5,5,5,10,5,5,"-",5,5,5,5,5,"-",5,0,5,5,0,5,5,5,5,5,0,5,0,"-",5,0,5,5,5,5,5,5,"-",0,"-",0,5,"-",5,5,5,5,10,5,5,5,10,5,"-",0,5]
["Fri","2021-04-23","Arsenal",0,1,"Everton","20:00:00",null,5,"-",0,0,0,"-",0,0,0,0,0,"-","-",0,5,0,0,0,0,0,0,0,0,0,0,0,0,"-",5,5,5,"-",0,"-",0,0,0,0,0,0,0,0,0,0,0,0,0,"-",0,0,0,0,0,5,5,0,"-",0,"-",0,0,"-",0,0,0,0,0,5,0,0,0,0,5,0,0]
["Sat","2021-04-24","Liverpool",1,1,"Newcastle Utd","12:30:00",null,0,0,0,0,0,"-",0,0,0,0,0,"-","-",0,0,0,0,10,0,0,0,0,0,0,0,0,0,"-",0,0,0,0,0,"-",0,0,0,0,10,0,0,0,0,0,0,0,0,"-",0,0,0,0,10,0,0,0,"-",0,"-",0,0,"-",0,0,0,0,0,0,0,0,0,0,0,10,0]
["Sat","2021-04-24","West Ham",0,1,"Chelsea","17:30:00",null,0,0,5,0,0,"-",5,5,5,5,0,"-","-",5,0,5,0,0,5,10,0,5,0,0,5,5,5,"-",10,5,5,0,5,"-",5,0,0,0,5,5,5,0,0,5,0,0,10,"-",10,0,5,5,0,5,5,5,"-",5,"-",5,5,"-",0,5,0,0,0,5,0,5,0,0,0,5,0]
["Sat","2021-04-24","Sheffield Utd",1,0,"Brighton","20:00:00",null,0,0,0,0,0,"-",0,10,5,0,0,"-","-",0,0,5,0,0,0,10,0,0,0,0,0,0,0,"-",0,0,0,0,0,"-",0,10,5,0,0,0,0,0,0,0,0,10,0,"-",0,0,0,0,0,0,0,0,"-",0,"-",0,10,"-",0,0,0,0,10,0,0,5,0,0,0,0,10]
["Sun","2021-04-25","Wolverhampton",0,4,"Burnley","12:00:00",null,0,0,0,0,0,"-",0,0,0,5,0,"-","-",0,0,0,0,0,0,0,0,0,0,0,0,0,0,"-",5,0,0,0,0,"-",0,0,0,0,0,0,5,0,0,0,0,0,0,"-",0,0,0,0,0,0,0,0,"-",5,"-",0,0,"-",0,0,0,0,0,0,0,0,0,0,0,0,0]
["Sun","2021-04-25","Leeds Utd",0,0,"Manchester United","14:00:00",null,0,0,0,0,5,"-",5,0,0,0,0,"-","-",0,0,0,0,5,5,0,0,0,0,0,0,0,5,"-",0,0,5,0,5,"-",0,0,0,5,0,0,0,0,0,5,0,0,0,"-",0,0,0,0,0,0,0,0,"-",5,"-",0,0,"-",0,5,0,0,0,0,0,0,0,0,5,0,0]
["Sun","2021-04-25","Aston Villa",2,2,"West Bromwich","19:00:00",null,0,5,0,0,0,"-",0,0,0,0,0,"-","-",0,0,0,5,5,0,0,0,0,0,0,0,0,0,"-",0,0,0,0,5,"-",0,0,0,0,0,10,0,0,0,0,0,0,0,"-",0,0,5,5,0,0,0,0,"-",0,"-",0,0,"-",0,0,0,0,0,0,0,0,0,0,0,0,5]
["Mon","2021-04-26","Leicester City",2,1,"Crystal Palace","20:00:00",null,5,5,10,5,5,"-",10,5,5,5,10,"-","-",5,5,5,10,0,5,5,5,5,5,5,5,5,5,"-",5,10,5,5,5,"-",5,5,5,5,5,5,5,5,5,5,5,5,5,"-",5,5,5,5,10,5,5,5,"-",5,"-",10,5,"-",5,5,5,5,5,10,5,5,5,5,5,10,10]
["Fri","2021-04-30","Southampton",1,1,"Leicester City","20:00:00",null,0,0,0,0,0,"-",10,0,0,0,0,"-","-",0,0,0,0,10,0,0,0,0,0,0,0,0,0,"-",0,0,0,10,0,"-",0,0,0,0,"-",0,0,0,"-",0,0,10,0,"-",0,0,0,0,"-",0,0,0,"-",0,"-",10,0,"-",0,10,0,0,0,"-",0,0,5,0,0,0,0]
[]
["Golden Boots"]
["Anthony Martial - Man United",null,null,{"$f":"COUNT(I44:CE44)","v":8},{"$f":"0+0+0+0","v":0},null,null,null,null,null,null,null,null,null,null,null,null,null,null,null,{"$f":"$E44*2","v":0},null,null,null,null,null,null,{"$f":"$E44*2","v":0},null,null,null,{"$f":"$E44*2","v":0},null,null,null,null,null,null,{"$f":"$E44*2","v":0},null,null,null,null,null,null,null,null,null,null,null,null,null,null,null,null,{"$f":"$E44*2","v":0},null,null,null,null,{"$f":"$E44*2","v":0},null,null,null,null,{"$f":"$E44*2","v":0},null,null,null,null,null,null,{"$f":"$E44*2","v":0}]
["Chris Wood - Burnley",null,null,0,{"$f":"0+0+0+3","v":3}]
["Danny Ings - Southampton",null,null,6,{"$f":"1+0+1","v":2},null,null,null,null,null,null,null,null,null,null,null,null,null,null,{"$f":"$E46*2","v":4},null,null,null,null,null,null,null,null,null,null,null,null,null,null,null,null,null,null,null,null,null,{"$f":"$E46*2","v":4},null,null,null,null,null,null,null,null,null,null,null,null,null,null,null,null,null,null,null,null,null,null,null,null,{"$f":"$E46*2","v":4},null,null,{"$f":"$E46*2","v":4},null,null,null,{"$f":"$E46*2","v":4},null,null,null,null,null,null,null,{"$f":"$E46*2","v":4}]
["Harry Kane - Tottenham Hotspur",null,null,44,{"$f":"1+0+2+0","v":3},null,null,null,{"$f":"$E47*2","v":6},6,6,6,6,6,6,null,{"$f":"$E47*2","v":6},{"$f":"$E47*2","v":6},null,null,null,null,{"$f":"$E47*2","v":6},{"$f":"$E47*2","v":6},{"$f":"$E47*2","v":6},{"$f":"$E47*2","v":6},null,null,{"$f":"$E47*2","v":6},6,6,6,6,6,6,{"$f":"$E47*2","v":6},{"$f":"$E47*2","v":6},{"$f":"$E47*2","v":6},{"$f":"$E47*2","v":6},{"$f":"$E47*2","v":6},null,{"$f":"$E47*2","v":6},{"$f":"$E47*2","v":6},{"$f":"$E47*2","v":6},{"$f":"$E47*2","v":6},{"$f":"$E47*2","v":6},null,null,{"$f":"$E47*2","v":6},null,{"$f":"$E47*2","v":6},{"$f":"$E47*2","v":6},{"$f":"$E47*2","v":6},{"$f":"$E47*2","v":6},null,{"$f":"$E47*2","v":6},null,{"$f":"$E47*2","v":6},null,{"$f":"$E47*2","v":6},{"$f":"$E47*2","v":6},null,null,null,{"$f":"$E47*2","v":6},null,null,null,null,null,{"$f":"$E47*2","v":6},{"$f":"$E47*2","v":6},null,null,null,{"$f":"$E47*2","v":6},null,null,null,null,null,{"$f":"$E47*2","v":6}]
["Jamie Vardy - Leicester City",null,null,19,{"$f":"0+0+1+0","v":1},null,null,null,null,null,{"$f":"$E48*2","v":2},null,null,null,null,null,null,null,{"$f":"$E48*2","v":2},null,null,null,null,null,null,{"$f":"$E48*2","v":2},null,null,null,{"$f":"$E48*2","v":2},null,null,null,null,null,null,null,null,null,null,null,null,null,null,{"$f":"$E48*2","v":2},null,{"$f":"$E48*2","v":2},{"$f":"$E48*2","v":2},{"$f":"$E48*2","v":2},{"$f":"$E48*2","v":2},{"$f":"$E48*2","v":2},null,{"$f":"$E48*2","v":2},null,null,null,null,null,null,null,null,{"$f":"$E48*2","v":2},null,null,null,{"$f":"$E48*2","v":2},null,null,{"$f":"$E48*2","v":2},{"$f":"$E48*2","v":2},null,null,null,null,{"$f":"$E48*2","v":2},{"$f":"$E48*2","v":2},null,null,{"$f":"$E48*2","v":2},{"$f":"$E48*2","v":2}]
["Marcus Rashford - Man United",null,null,6,{"$f":"1+0+0+0","v":1},null,null,null,null,null,null,null,null,null,null,{"$f":"$E49*2","v":2},null,null,null,null,null,null,null,null,null,null,null,null,null,null,null,null,null,null,null,null,null,null,null,null,null,null,null,null,null,null,null,null,null,null,null,null,{"$f":"$E49*2","v":2},null,null,null,null,null,{"$f":"$E49*2","v":2},null,{"$f":"$E49*2","v":2},null,null,null,null,null,null,null,null,null,null,null,null,null,null,null,null,null,{"$f":"$E49*2","v":2},null,{"$f":"$E49*2","v":2}]
["Mohamed Salah - Liverpool",null,null,36,{"$f":"1+1+0+1","v":3},null,null,null,null,null,{"$f":"$E50*2","v":6},{"$f":"$E50*2","v":6},null,null,{"$f":"$E50*2","v":6},null,{"$f":"$E50*2","v":6},6,6,6,6,6,null,{"$f":"$E50*2","v":6},{"$f":"$E50*2","v":6},null,null,{"$f":"$E50*2","v":6},null,null,{"$f":"$E50*2","v":6},{"$f":"$E50*2","v":6},null,null,null,null,null,null,{"$f":"$E50*2","v":6},null,{"$f":"$E50*2","v":6},null,{"$f":"$E50*2","v":6},null,null,null,null,{"$f":"$E50*2","v":6},null,{"$f":"$E50*2","v":6},null,null,null,{"$f":"$E50*2","v":6},{"$f":"$E50*2","v":6},{"$f":"$E50*2","v":6},{"$f":"$E50*2","v":6},{"$f":"$E50*2","v":6},null,null,null,{"$f":"$E50*2","v":6},null,{"$f":"$E50*2","v":6},null,null,{"$f":"$E50*2","v":6},null,null,null,{"$f":"$E50*2","v":6},6,6,6,6,{"$f":"$E50*2","v":6},null,{"$f":"$E50*2","v":6},6,null,null,null,{"$f":"$E50*2","v":6}]
["Pierre Emerick Aubameyang - Arsenal",null,null,45,{"$f":"0+0+0+0","v":0},null,null,null,null,null,null,{"$f":"$E51*2","v":0},null,{"$f":"$E51*2","v":0},{"$f":"$E51*2","v":0},{"$f":"$E51*2","v":0},{"$f":"$E51*2","v":0},{"$f":"$E51*2","v":0},{"$f":"$E51*2","v":0},null,{"$f":"$E51*2","v":0},{"$f":"$E51*2","v":0},{"$f":"$E51*2","v":0},null,null,null,{"$f":"$E51*2","v":0},{"$f":"$E51*2","v":0},{"$f":"$E51*2","v":0},null,{"$f":"$E51*2","v":0},null,{"$f":"$E51*2","v":0},null,{"$f":"$E51*2","v":0},{"$f":"$E51*2","v":0},{"$f":"$E51*2","v":0},null,null,{"$f":"$E51*2","v":0},{"$f":"$E51*2","v":0},null,{"$f":"$E51*2","v":0},{"$f":"$E51*2","v":0},{"$f":"$E51*2","v":0},null,{"$f":"$E51*2","v":0},{"$f":"$E51*2","v":0},{"$f":"$E51*2","v":0},{"$f":"$E51*2","v":0},{"$f":"$E51*2","v":0},null,null,{"$f":"$E51*2","v":0},{"$f":"$E51*2","v":0},null,{"$f":"$E51*2","v":0},{"$f":"$E51*2","v":0},null,null,null,null,{"$f":"$E51*2","v":0},{"$f":"$E51*2","v":0},null,{"$f":"$E51*2","v":0},null,{"$f":"$E51*2","v":0},null,null,null,{"$f":"$E51*2","v":0},null,{"$f":"$E51*2","v":0},{"$f":"$E51*2","v":0},null,{"$f":"$E51*2","v":0},{"$f":"$E51*2","v":0},null,{"$f":"$E51*2","v":0},{"$f":"$E51*2","v":0},{"$f":"$E51*2","v":0},{"$f":"$E51*2","v":0}]
["Raheem Sterling - Man City",null,null,14,{"$f":"0+0+0","v":0},null,null,null,null,null,null,null,null,null,null,null,null,null,null,null,null,null,null,{"$f":"$E52*2","v":0},null,null,{"$f":"$E52*2","v":0},null,{"$f":"$E52*2","v":0},null,null,null,null,{"$f":"$E52*2","v":0},null,{"$f":"$E52*2","v":0},null,null,null,null,null,null,null,null,null,null,null,null,null,null,null,null,null,null,null,null,null,null,{"$f":"$E52*2","v":0},{"$f":"$E52*2","v":0},null,{"$f":"$E52*2","v":0},{"$f":"$E52*2","v":0},null,{"$f":"$E52*2","v":0},null,null,{"$f":"$E52*2","v":0},{"$f":"$E52*2","v":0},null,{"$f":"$E52*2","v":0},null,null,null,null,null,null,null,null,null,null,null,{"$f":"$E52*2","v":0}]
["Raul Jiminez - Wolves",null,null,1,{"$f":"0+0+0+0","v":0},null,null,null,null,null,null,null,null,null,null,null,null,null,null,null,null,null,null,null,null,null,null,null,null,null,null,null,null,null,null,null,null,null,null,null,null,null,null,null,null,null,{"$f":"$E53*2","v":0}]
["Richarlison - Everton",null,null,1,{"$f":"0+0+1","v":1},null,null,null,{"$f":"$E54*2","v":2}]
["Sadio Mane - Liverpool",null,null,12,{"$f":"0+0+1+0","v":1},null,null,null,null,{"$f":"$E55*2","v":2},null,null,{"$f":"$E55*2","v":2},null,null,{"$f":"$E55*2","v":2},null,null,null,null,null,{"$f":"$E55*2","v":2},null,null,null,null,null,null,null,null,null,null,null,{"$f":"$E55*2","v":2},{"$f":"$E55*2","v":2},null,null,null,null,null,null,null,null,null,null,{"$f":"$E55*2","v":2},null,null,null,null,null,{"$f":"$E55*2","v":2},null,null,null,null,null,null,{"$f":"$E55*2","v":2},null,null,null,null,{"$f":"$E55*2","v":2},null,null,null,{"$f":"$E55*2","v":2},null,null,null,null,null,null,null,null,null,null,null,null,{"$f":"$E55*2","v":2}]
["Sergio Aguero - Man City",null,null,9,{"$f":"0+0+0","v":0},null,null,null,null,{"$f":"$E56*2","v":0},null,null,null,null,null,null,null,null,null,{"$f":"$E56*2","v":0},null,null,null,null,null,null,null,null,null,null,null,null,null,null,null,null,null,{"$f":"$E56*2","v":0},null,null,null,{"$f":"$E56*2","v":0},null,null,null,{"$f":"$E56*2","v":0},null,null,null,null,null,null,null,null,null,null,{"$f":"$E56*2","v":0},null,null,null,null,null,null,null,{"$f":"$E56*2","v":0},null,null,null,null,null,null,null,{"$f":"$E56*2","v":0},null,null,null,{"$f":"$E56*2","v":0}]
["Tammy Abraham - Chelsea",null,null,0,{"$f":"0+0+0","v":0}]
["Timo Werner - Chelsea",null,null,24,{"$f":"0+0+1","v":1},null,null,null,{"$f":"$E58*2","v":2},null,null,null,{"$f":"$E58*2","v":2},{"$f":"$E58*2","v":2},null,null,null,null,null,null,null,null,{"$f":"$E58*2","v":2},null,{"$f":"$E58*2","v":2},{"$f":"$E58*2","v":2},{"$f":"$E58*2","v":2},null,null,{"$f":"$E58*2","v":2},null,null,{"$f":"$E58*2","v":2},null,null,null,{"$f":"$E58*2","v":2},{"$f":"$E58*2","v":2},null,{"$f":"$E58*2","v":2},{"$f":"$E58*2","v":2},null,null,{"$f":"$E58*2","v":2},null,null,null,null,null,null,null,{"$f":"$E58*2","v":2},null,null,{"$f":"$E58*2","v":2},null,null,null,null,{"$f":"$E58*2","v":2},null,null,{"$f":"$E58*2","v":2},null,null,null,{"$f":"$E58*2","v":2},null,{"$f":"$E58*2","v":2},{"$f":"$E58*2","v":2},null,null,null,null,null,null,{"$f":"$E58*2","v":2},{"$f":"$E58*2","v":2},null,{"$f":"$E58*2","v":2}]
[]
["Golden Gloves"]
["Alisson Becker - Liverpool",null,null,{"$f":"COUNT(I61:CE61)","v":57},{"$f":"1+0+0+0","v":1},null,null,null,null,{"$f":"$E61*2","v":2},{"$f":"$E61*2","v":2},{"$f":"$E61*2","v":2},{"$f":"$E61*2","v":2},null,{"$f":"$E61*2","v":2},{"$f":"$E61*2","v":2},null,{"$f":"$E61*2","v":2},{"$f":"$E61*2","v":2},{"$f":"$E61*2","v":2},null,{"$f":"$E61*2","v":2},{"$f":"$E61*2","v":2},{"$f":"$E61*2","v":2},{"$f":"$E61*2","v":2},{"$f":"$E61*2","v":2},null,{"$f":"$E61*2","v":2},null,{"$f":"$E61*2","v":2},null,null,{"$f":"$E61*2","v":2},2,2,2,2,2,null,{"$f":"$E61*2","v":2},{"$f":"$E61*2","v":2},{"$f":"$E61*2","v":2},{"$f":"$E61*2","v":2},{"$f":"$E61*2","v":2},null,{"$f":"$E61*2","v":2},null,{"$f":"$E61*2","v":2},null,{"$f":"$E61*2","v":2},{"$f":"$E61*2","v":2},{"$f":"$E61*2","v":2},{"$f":"$E61*2","v":2},{"$f":"$E61*2","v":2},null,{"$f":"$E61*2","v":2},{"$f":"$E61*2","v":2},{"$f":"$E61*2","v":2},{"$f":"$E61*2","v":2},null,{"$f":"$E61*2","v":2},{"$f":"$E61*2","v":2},2,{"$f":"$E61*2","v":2},2,2,{"$f":"$E61*2","v":2},2,null,{"$f":"$E61*2","v":2},2,2,null,null,{"$f":"$E61*2","v":2},2,2,{"$f":"$E61*2","v":2},2,2,2,null,{"$f":"$E61*2","v":2}]
["Ederson - Man City",null,null,{"$f":"COUNT(I62:CE62)","v":14},{"$f":"1+0+0","v":1},null,null,null,{"$f":"$E62*2","v":2},null,null,null,null,null,null,null,{"$f":"$E62*2","v":2},null,null,null,{"$f":"$E62*2","v":2},null,null,null,null,null,{"$f":"$E62*2","v":2},null,{"$f":"$E62*2","v":2},null,{"$f":"$E62*2","v":2},{"$f":"$E62*2","v":2},null,null,null,null,null,null,{"$f":"$E62*2","v":2},null,null,null,null,null,null,null,{"$f":"$E62*2","v":2},null,{"$f":"$E62*2","v":2},null,null,null,null,null,{"$f":"$E62*2","v":2},null,null,null,null,{"$f":"$E62*2","v":2},null,null,null,null,null,null,null,null,null,null,null,null,null,{"$f":"$E62*2","v":2},null,null,null,null,null,null,null,{"$f":"$E62*2","v":2}]
["David de Gea - Man United",null,null,{"$f":"COUNT(I63:CE63)","v":3},{"$f":"0+0+0+0","v":0},null,null,null,null,null,null,null,null,{"$f":"$E63*2","v":0},null,null,null,null,null,null,null,null,null,null,null,null,null,null,null,null,null,null,null,null,null,null,null,null,null,null,null,null,null,null,{"$f":"$E63*2","v":0},null,null,null,null,null,null,null,null,null,null,null,null,null,null,null,null,null,null,null,null,null,null,null,null,null,null,null,{"$f":"$E63*2","v":0}]
["Hugo Lloris - Tottenham Hotspur",null,null,{"$f":"COUNT(I64:CE64)","v":1},{"$f":"0+0+0","v":0},null,null,null,null,null,null,null,null,null,null,null,null,null,null,null,null,null,null,null,null,null,null,null,null,null,null,null,null,null,null,null,null,null,null,null,null,null,null,null,null,null,null,null,null,null,null,null,null,null,null,null,null,null,null,null,null,null,null,null,null,null,null,null,{"$f":"$E64*2","v":0}]
["Nick Pope - Burnley",null,null,{"$f":"COUNT(I65:CE65)","v":0},{"$f":"0+0+0+1","v":1}]
[]
["Grand Total - April",null,null,null,null,null,null,null,{"$f":"SUM(I$3:I66)","v":87},{"$f":"SUM(J$3:J66)","v":110},{"$f":"SUM(K$3:K66)","v":116},{"$f":"SUM(L$3:L66)","v":99},{"$f":"SUM(M$3:M66)","v":117},{"$f":"SUM(N$3:N66)","v":8},{"$f":"SUM(O$3:O66)","v":119},{"$f":"SUM(P$3:P66)","v":101},{"$f":"SUM(Q$3:Q66)","v":109},{"$f":"SUM(R$3:R66)","v":119},{"$f":"SUM(S$3:S66)","v":100},{"$f":"SUM(T$3:T66)","v":12},{"$f":"SUM(U$3:U66)","v":8},{"$f":"SUM(V$3:V66)","v":90},{"$f":"SUM(W$3:W66)","v":100},{"$f":"SUM(X$3:X66)","v":54},{"$f":"SUM(Y$3:Y66)","v":131},{"$f":"SUM(Z$3:Z66)","v":117},{"$f":"SUM(AA$3:AA66)","v":109},{"$f":"SUM(AB$3:AB66)","v":108},{"$f":"SUM(AC$3:AC66)","v":88},{"$f":"SUM(AD$3:AD66)","v":127},{"$f":"SUM(AE$3:AE66)","v":124},{"$f":"SUM(AF$3:AF66)","v":109},{"$f":"SUM(AG$3:AG66)","v":130},{"$f":"SUM(AH$3:AH66)","v":110},{"$f":"SUM(AI$3:AI66)","v":115},{"$f":"SUM(AJ$3:AJ66)","v":8},{"$f":"SUM(AK$3:AK66)","v":135},{"$f":"SUM(AL$3:AL66)","v":120},{"$f":"SUM(AM$3:AM66)","v":114},{"$f":"SUM(AN$3:AN66)","v":105},{"$f":"SUM(AO$3:AO66)","v":95},{"$f":"SUM(AP$3:AP66)","v":12},{"$f":"SUM(AQ$3:AQ66)","v":109},{"$f":"SUM(AR$3:AR66)","v":90},{"$f":"SUM(AS$3:AS66)","v":98},{"$f":"SUM(AT$3:AT66)","v":85},{"$f":"SUM(AU$3:AU66)","v":114},{"$f":"SUM(AV$3:AV66)","v":110},{"$f":"SUM(AW$3:AW66)","v":115},{"$f":"SUM(AX$3:AX66)","v":75},{"$f":"SUM(AY$3:AY66)","v":110},{"$f":"SUM(AZ$3:AZ66)","v":117},{"$f":"SUM(BA$3:BA66)","v":122},{"$f":"SUM(BB$3:BB66)","v":119},{"$f":"SUM(BC$3:BC66)","v":100},{"$f":"SUM(BD$3:BD66)","v":14},{"$f":"SUM(BE$3:BE66)","v":108},{"$f":"SUM(BF$3:BF66)","v":109},{"$f":"SUM(BG$3:BG66)","v":91},{"$f":"SUM(BH$3:BH66)","v":120},{"$f":"SUM(BI$3:BI66)","v":120},{"$f":"SUM(BJ$3:BJ66)","v":95},{"$f":"SUM(BK$3:BK66)","v":109},{"$f":"SUM(BL$3:BL66)","v":120},{"$f":"SUM(BM$3:BM66)","v":8},{"$f":"SUM(BN$3:BN66)","v":94},{"$f":"SUM(BO$3:BO66)","v":14},{"$f":"SUM(BP$3:BP66)","v":114},{"$f":"SUM(BQ$3:BQ66)","v":134},{"$f":"SUM(BR$3:BR66)","v":10},{"$f":"SUM(BS$3:BS66)","v":84},{"$f":"SUM(BT$3:BT66)","v":124},{"$f":"SUM(BU$3:BU66)","v":111},{"$f":"SUM(BV$3:BV66)","v":117},{"$f":"SUM(BW$3:BW66)","v":110},{"$f":"SUM(BX$3:BX66)","v":126},{"$f":"SUM(BY$3:BY66)","v":84},{"$f":"SUM(BZ$3:BZ66)","v":110},{"$f":"SUM(CA$3:CA66)","v":122},{"$f":"SUM(CB$3:CB66)","v":91},{"$f":"SUM(CC$3:CC66)","v":71},{"$f":"SUM(CD$3:CD66)","v":137},{"$f":"SUM(CE$3:CE66)","v":138}]
[]
["Ten Pointers",null,null,null,null,null,null,null,{"$f":"COUNTIF(I$3:I41,\"10\")","v":2},{"$f":"COUNTIF(J$3:J41,\"10\")","v":3},{"$f":"COUNTIF(K$3:K41,\"10\")","v":4},{"$f":"COUNTIF(L$3:L41,\"10\")","v":2},{"$f":"COUNTIF(M$3:M41,\"10\")","v":2},{"$f":"COUNTIF(N$3:N41,\"10\")","v":0},{"$f":"COUNTIF(O$3:O41,\"10\")","v":4},{"$f":"COUNTIF(P$3:P41,\"10\")","v":3},{"$f":"COUNTIF(Q$3:Q41,\"10\")","v":1},{"$f":"COUNTIF(R$3:R41,\"10\")","v":1},{"$f":"COUNTIF(S$3:S41,\"10\")","v":2},{"$f":"COUNTIF(T$3:T41,\"10\")","v":0},{"$f":"COUNTIF(U$3:U41,\"10\")","v":0},{"$f":"COUNTIF(V$3:V41,\"10\")","v":1},{"$f":"COUNTIF(W$3:W41,\"10\")","v":0},{"$f":"COUNTIF(X$3:X41,\"10\")","v":0},{"$f":"COUNTIF(Y$3:Y41,\"10\")","v":4},{"$f":"COUNTIF(Z$3:Z41,\"10\")","v":4},{"$f":"COUNTIF(AA$3:AA41,\"10\")","v":1},{"$f":"COUNTIF(AB$3:AB41,\"10\")","v":3},{"$f":"COUNTIF(AC$3:AC41,\"10\")","v":1},{"$f":"COUNTIF(AD$3:AD41,\"10\")","v":7},{"$f":"COUNTIF(AE$3:AE41,\"10\")","v":4},{"$f":"COUNTIF(AF$3:AF41,\"10\")","v":3},{"$f":"COUNTIF(AG$3:AG41,\"10\")","v":6},{"$f":"COUNTIF(AH$3:AH41,\"10\")","v":3},{"$f":"COUNTIF(AI$3:AI41,\"10\")","v":2},{"$f":"COUNTIF(AJ$3:AJ41,\"10\")","v":0},{"$f":"COUNTIF(AK$3:AK41,\"10\")","v":5},{"$f":"COUNTIF(AL$3:AL41,\"10\")","v":3},{"$f":"COUNTIF(AM$3:AM41,\"10\")","v":3},{"$f":"COUNTIF(AN$3:AN41,\"10\")","v":3},{"$f":"COUNTIF(AO$3:AO41,\"10\")","v":1},{"$f":"COUNTIF(AP$3:AP41,\"10\")","v":0},{"$f":"COUNTIF(AQ$3:AQ41,\"10\")","v":1},{"$f":"COUNTIF(AR$3:AR41,\"10\")","v":2},{"$f":"COUNTIF(AS$3:AS41,\"10\")","v":4},{"$f":"COUNTIF(AT$3:AT41,\"10\")","v":1},{"$f":"COUNTIF(AU$3:AU41,\"10\")","v":6},{"$f":"COUNTIF(AV$3:AV41,\"10\")","v":4},{"$f":"COUNTIF(AW$3:AW41,\"10\")","v":3},{"$f":"COUNTIF(AX$3:AX41,\"10\")","v":1},{"$f":"COUNTIF(AY$3:AY41,\"10\")","v":0},{"$f":"COUNTIF(AZ$3:AZ41,\"10\")","v":2},{"$f":"COUNTIF(BA$3:BA41,\"10\")","v":2},{"$f":"COUNTIF(BB$3:BB41,\"10\")","v":4},{"$f":"COUNTIF(BC$3:BC41,\"10\")","v":3},{"$f":"COUNTIF(BD$3:BD41,\"10\")","v":0},{"$f":"COUNTIF(BE$3:BE41,\"10\")","v":2},{"$f":"COUNTIF(BF$3:BF41,\"10\")","v":2},{"$f":"COUNTIF(BG$3:BG41,\"10\")","v":2},{"$f":"COUNTIF(BH$3:BH41,\"10\")","v":5},{"$f":"COUNTIF(BI$3:BI41,\"10\")","v":5},{"$f":"COUNTIF(BJ$3:BJ41,\"10\")","v":1},{"$f":"COUNTIF(BK$3:BK41,\"10\")","v":3},{"$f":"COUNTIF(BL$3:BL41,\"10\")","v":3},{"$f":"COUNTIF(BM$3:BM41,\"10\")","v":0},{"$f":"COUNTIF(BN$3:BN41,\"10\")","v":3},{"$f":"COUNTIF(BO$3:BO41,\"10\")","v":0},{"$f":"COUNTIF(BP$3:BP41,\"10\")","v":4},{"$f":"COUNTIF(BQ$3:BQ41,\"10\")","v":6},{"$f":"COUNTIF(BR$3:BR41,\"10\")","v":0},{"$f":"COUNTIF(BS$3:BS41,\"10\")","v":1},{"$f":"COUNTIF(BT$3:BT41,\"10\")","v":2},{"$f":"COUNTIF(BU$3:BU41,\"10\")","v":3},{"$f":"COUNTIF(BV$3:BV41,\"10\")","v":2},{"$f":"COUNTIF(BW$3:BW41,\"10\")","v":2},{"$f":"COUNTIF(BX$3:BX41,\"10\")","v":3},{"$f":"COUNTIF(BY$3:BY41,\"10\")","v":2},{"$f":"COUNTIF(BZ$3:BZ41,\"10\")","v":2},{"$f":"COUNTIF(CA$3:CA41,\"10\")","v":2},{"$f":"COUNTIF(CB$3:CB41,\"10\")","v":1},{"$f":"COUNTIF(CC$3:CC41,\"10\")","v":0},{"$f":"COUNTIF(CD$3:CD41,\"10\")","v":5},{"$f":"COUNTIF(CE$3:CE41,\"10\")","v":6}]

{"sheet":"May","index":9,"n_rows":84,"n_cols":83,"rows_kept":84,"cut":false,"hidden":false,"merged":[[1,2,1,5]]}
[null,null,null,null,null,null,null,null,"Aidan Scanlon","Aidan White","Alan White","Anastas Popov","Andy Dunne","Ben Creasey","Bobby Hynes","Brendan Maguire","Brian Prendergast","Brian Haughton","Brian Mullen","Callum Dunne","Calvin McGettigan","Caroline Carroll","Cathal Thornton","Christina Morgan","Ciaran Nelson","Ciaran O'Hart","Con McSweeney","Craig Calvert","Darragh Kenny","David Cooney","David Lavelle","David McGinley","Davy Doyle","Dean White","Derek Brady","Drew Armstrong","Eamon Fox","Eoghan Farrelly","Fiachra O'Brolachain","Frank McSweeney","Gareth Pierpoint","Gary Donnelly","Gary Fitzpatrick","Gary McGurk","Gavin Goodwin","Gavin Morgan","George McGettigan","Gerard McCluskey","Gerry Draper","Gerry Moore","Graham Goodwin","Javier Suarez","Joe Behan","Joe Turner","John Brophy","John O'Driscoll","Jonathan Fox","Joseph Kavanagh","Kev Dalton","Kevin Philpott","Kris Stainton","Liam Geraghty","Liam Keohan","Lionel Knott","Michael Kenaney","Micheal Joyce","Niall Cannon","Niall Carroll","Niall Murray","Patrick Mifsud","Paul Moore","Paul Prendergast","Phil Doyle","Philip Jordan","Ralph Goodwin","Richard Johnston","Robert Hynes","Robert Manley","Roisin Joyce","Sean O'Mairtin","Trevor Byrne","Victoria Reid","Wayne Donovan"]
["Day","Date","Teams",null,null,null,"Time"]
["Sat","2021-05-01","Crystal Palace",0,2,"Manchester City","12:30:00",null,5,10,0,10,10,"-",10,5,0,5,5,"-","-",10,5,5,10,0,10,5,10,10,10,5,5,5,5,"-",10,5,0,10,5,"-",5,10,5,10,5,5,10,5,"-",10,5,5,5,"-",5,10,5,10,10,5,5,5,"-",5,"-",5,0,"-",5,10,5,5,0,"-",5,10,5,10,5,5,5]
["Sat","2021-05-01","Brighton",2,0,"Leeds Utd","15:00:00",null,0,0,0,0,0,"-",0,5,0,0,0,"-","-",0,0,10,0,0,0,0,0,0,0,0,0,0,0,"-",0,0,0,0,0,"-",0,0,0,0,0,0,0,0,"-",0,0,0,0,"-",0,0,0,0,0,0,0,0,"-",0,"-",0,5,"-",0,5,0,0,5,"-",0,0,0,0,0,0,0]
["Sat","2021-05-01","Chelsea",2,0,"Fulham","17:30:00",null,0,5,5,5,5,"-",10,10,5,5,5,"-","-",10,10,5,10,5,5,5,0,10,5,10,5,5,10,"-",10,5,0,10,5,"-",10,10,10,10,10,5,10,5,"-",5,10,5,10,"-",10,5,5,10,5,10,5,5,"-",5,"-",5,5,"-",5,10,10,10,5,"-",10,5,10,10,5,10,10]
["Sat","2021-05-01","Everton",1,2,"Aston Villa","20:00:00",null,0,0,0,0,0,"-",0,0,0,0,0,"-","-",0,0,0,0,0,0,0,0,0,0,0,0,0,0,"-",0,0,5,0,0,"-",0,0,0,0,0,0,0,0,"-",0,0,0,0,"-",0,0,0,0,0,0,0,0,"-",0,"-",0,0,"-",0,0,10,0,0,"-",0,0,0,0,0,0,0]
["Sun","2021-05-02","Newcastle Utd",0,2,"Arsenal","14:00:00",null,0,5,5,0,0,"-",5,0,0,0,5,"-","-",0,0,0,0,0,0,0,0,0,0,0,5,5,0,"-",0,0,0,5,5,"-",0,5,5,0,0,0,0,0,"-",0,0,0,0,"-",5,0,0,10,5,0,5,0,"-",0,"-",0,0,"-",0,0,5,10,0,5,0,0,0,0,5,0,0]
["Sun","2021-05-02","Tottenham",4,0,"Sheffield Utd","19:15:00",null,5,5,5,5,5,"-",5,5,5,5,5,"-","-",5,0,5,5,5,5,5,5,5,10,5,5,5,0,"-",5,5,5,5,10,"-",5,5,5,5,5,5,5,5,"-",5,5,5,5,"-",5,5,5,5,5,5,5,5,"-",5,"-",5,5,"-",5,5,5,5,5,5,5,5,5,5,5,5,5]
["Mon","2021-05-03","West Bromwich",1,1,"Wolverhampton","18:00:00",null,10,10,0,10,0,"-",0,0,0,0,0,"-","-",0,0,10,0,10,10,0,0,0,10,0,5,0,0,"-",10,10,0,10,0,"-",0,0,0,0,0,0,0,10,"-",10,5,0,0,"-",0,0,0,10,0,0,0,10,"-",10,"-",0,0,"-",10,0,10,0,0,0,10,0,10,0,10,0,0]
["Mon","2021-05-03","Burnley",1,2,"West Ham","20:00:00",null,10,5,5,0,0,"-",0,5,5,0,10,"-","-",0,10,0,10,0,10,0,10,0,10,0,5,5,0,"-",0,10,0,0,0,"-",5,0,0,0,0,0,0,10,"-",5,5,0,0,"-",5,5,0,10,5,0,10,0,"-",0,"-",0,0,"-",0,0,10,10,0,5,0,5,5,0,10,10,0]
["Fri","2021-05-07","Leicester City",2,4,"Newcastle Utd","20:00:00",null,0,0,0,0,0,"-",0,0,"-",0,0,"-","-",0,0,"-",0,0,0,0,0,0,0,0,0,0,0,"-",0,0,0,0,0,"-",0,0,0,0,0,0,0,0,"-",0,0,0,0,"-",0,0,0,0,"-",0,0,0,"-",0,"-",0,0,"-",0,0,0,0,0,"-",0,0,0,0,0,0,0]
["Sat","2021-05-08","Leeds Utd",3,1,"Tottenham","12:30:00",null,0,0,0,5,5,"-",0,0,"-",0,0,"-","-",0,5,"-",0,5,0,0,0,0,0,0,5,5,0,"-",0,0,0,0,0,"-",0,0,0,5,0,"-",0,0,0,0,5,5,5,"-",0,0,5,0,"-",5,0,0,"-",0,"-",0,0,"-",0,5,0,0,5,0,0,0,0,0,0,0,0]
["Sat","2021-05-08","Sheffield Utd",0,2,"Crystal Palace","15:00:00",null,5,5,0,10,0,"-",0,5,5,0,5,"-","-",5,5,"-",5,0,5,5,0,0,5,0,10,0,0,"-",5,5,5,5,5,"-",5,0,10,0,0,"-",5,5,10,5,0,0,0,"-",0,5,10,5,"-",0,10,0,"-",5,"-",0,5,"-",0,0,5,0,0,0,10,5,0,5,10,5,0]
["Sat","2021-05-08","Manchester City",1,2,"Chelsea","17:30:00",null,0,0,0,0,0,"-",0,0,0,0,0,"-","-",0,0,0,0,0,0,0,0,10,10,0,0,0,0,"-",0,10,0,0,0,"-",0,0,0,0,0,"-",0,0,0,0,0,0,0,"-",0,0,0,0,"-",5,0,0,"-",0,"-",0,0,"-",0,0,0,0,0,0,0,0,0,0,0,0,0]
["Sat","2021-05-08","Liverpool",2,0,"Southampton","20:15:00",null,5,10,5,5,5,"-",5,5,5,5,10,"-","-",5,10,5,5,10,10,10,10,10,5,5,5,5,5,"-",5,5,5,10,5,"-",5,10,10,5,10,"-",10,5,5,5,10,5,5,"-",5,5,5,10,"-",5,10,5,"-",5,"-",5,0,"-",10,10,10,5,5,5,10,10,5,10,5,5,10]
["Sun","2021-05-09","Wolverhampton",2,1,"Brighton","12:00:00",null,0,0,5,10,10,"-",5,0,0,5,0,"-","-",0,10,5,10,0,0,0,0,0,0,0,0,5,10,"-",0,0,0,10,0,"-",0,0,0,0,5,"-",0,5,0,0,0,0,0,"-",5,0,0,0,"-",5,10,0,"-",10,"-",5,0,"-",0,5,10,10,5,5,0,0,0,0,0,0,0]
["Sun","2021-05-09","Aston Villa",1,3,"Manchester United","14:05:00",null,5,5,5,5,0,"-",5,5,0,5,5,"-","-",5,5,5,5,0,5,5,5,10,5,5,5,0,0,"-",5,0,5,0,5,"-",5,0,5,0,5,"-",5,0,5,5,0,0,5,"-",5,5,5,5,"-",0,5,5,"-",0,"-",5,0,"-",5,0,10,5,0,5,5,5,0,5,0,5,5]
["Sun","2021-05-09","West Ham",0,1,"Everton","16:30:00",null,0,0,0,0,0,"-",0,0,0,5,0,"-","-",0,0,5,0,0,0,0,0,0,0,0,0,0,0,"-",0,0,0,0,0,"-",0,0,0,0,0,"-",0,0,0,0,0,0,0,"-",0,0,0,0,"-",5,0,0,"-",0,"-",0,0,"-",0,0,0,0,0,5,0,0,0,0,0,0,0]
["Sun","2021-05-09","Arsenal",3,1,"West Bromwich","19:00:00",null,0,5,10,5,5,"-",5,5,5,5,5,"-","-",5,5,0,5,5,5,5,0,5,5,5,5,5,0,"-",5,10,5,5,5,"-",10,5,10,5,5,"-",5,5,5,5,0,5,5,"-",5,0,5,5,"-",5,5,5,"-",0,"-",5,0,"-",5,5,5,5,5,0,5,5,10,5,5,5,5]
["Mon","2021-05-10","Fulham",null,null,"Burnley","20:00:00"]
["Tue","2021-05-11","Southampton",null,null,"Crystal Palace","20:00:00"]
["Wed","2021-05-12","Manchester United",null,null,"Leicester City","19:45:00"]
["Wed","2021-05-12","Chelsea",null,null,"Arsenal","20:15:00"]
["Thu","2021-05-13","Aston Villa",null,null,"Everton","20:00:00"]
["Thu","2021-05-13","Manchester United",null,null,"Liverpool","20:15:00"]
[]
["Tue","2021-05-11","Brighton",null,null,"West Ham","19:45:00"]
["Tue","2021-05-11","Burnley",null,null,"Leeds Utd","19:45:00"]
["Tue","2021-05-11","Everton",null,null,"Sheffield Utd","19:45:00"]
["Tue","2021-05-11","West Bromwich",null,null,"Liverpool","19:45:00"]
["Wed","2021-05-12","Newcastle Utd",null,null,"Manchester City","19:45:00"]
["Wed","2021-05-12","Southampton",null,null,"Fulham","19:45:00"]
["Wed","2021-05-12","Tottenham",null,null,"Wolverhampton","19:45:00"]
["Wed","2021-05-12","Crystal Palace",null,null,"Aston Villa","19:45:00"]
[]
["Sat","2021-05-15","Brighton",null,null,"Manchester City","15:00:00"]
["Sat","2021-05-15","Burnley",null,null,"Liverpool","15:00:00"]
["Sat","2021-05-15","Chelsea",null,null,"Leicester City","15:00:00"]
["Sat","2021-05-15","Crystal Palace",null,null,"Arsenal","15:00:00"]
["Sat","2021-05-15","Everton",null,null,"Wolverhampton","15:00:00"]
["Sat","2021-05-15","Manchester United",null,null,"Fulham","15:00:00"]
["Sat","2021-05-15","Newcastle Utd",null,null,"Sheffield Utd","15:00:00"]
["Sat","2021-05-15","Southampton",null,null,"Leeds Utd","15:00:00"]
["Sat","2021-05-15","Tottenham",null,null,"Aston Villa","15:00:00"]
["Sat","2021-05-15","West Bromwich",null,null,"West Ham","15:00:00"]
["Sun","2021-05-23","Arsenal",null,null,"Brighton","15:00:00"]
["Sun","2021-05-23","Aston Villa",null,null,"Chelsea","15:00:00"]
["Sun","2021-05-23","Fulham",null,null,"Newcastle Utd","15:00:00"]
["Sun","2021-05-23","Leeds Utd",null,null,"West Bromwich","15:00:00"]
["Sun","2021-05-23","Leicester City",null,null,"Tottenham","15:00:00"]
["Sun","2021-05-23","Liverpool",null,null,"Crystal Palace","15:00:00"]
["Sun","2021-05-23","Manchester City",null,null,"Everton","15:00:00"]
["Sun","2021-05-23","Sheffield Utd",null,null,"Burnley","15:00:00"]
["Sun","2021-05-23","West Ham",null,null,"Southampton","15:00:00"]
["Sun","2021-05-23","Wolverhampton",null,null,"Manchester United","15:00:00"]
["Sun","2021-05-02","Manchester United",null,null,"Liverpool","16:30:00"]
[]
["Golden Boots"]
["Anthony Martial - Man United",null,null,{"$f":"COUNT(I59:CE59)","v":8},{"$f":"0","v":0},null,null,null,null,null,null,null,null,null,null,null,null,null,null,null,{"$f":"$E59*2","v":0},null,null,null,null,null,null,{"$f":"$E59*2","v":0},null,null,null,{"$f":"$E59*2","v":0},null,null,null,null,null,null,{"$f":"$E59*2","v":0},null,null,null,null,null,null,null,null,null,null,null,null,null,null,null,null,{"$f":"$E59*2","v":0},null,null,null,null,{"$f":"$E59*2","v":0},null,null,null,null,{"$f":"$E59*2","v":0},null,null,null,null,null,null,{"$f":"$E59*2","v":0}]
["Chris Wood - Burnley",null,null,0,{"$f":"1","v":1}]
["Danny Ings - Southampton",null,null,6,{"$f":"0","v":0},null,null,null,null,null,null,null,null,null,null,null,null,null,null,{"$f":"$E61*2","v":0},null,null,null,null,null,null,null,null,null,null,null,null,null,null,null,null,null,null,null,null,null,{"$f":"$E61*2","v":0},null,null,null,null,null,null,null,null,null,null,null,null,null,null,null,null,null,null,null,null,null,null,null,null,{"$f":"$E61*2","v":0},null,null,{"$f":"$E61*2","v":0},null,null,null,{"$f":"$E61*2","v":0},null,null,null,null,null,null,null,{"$f":"$E61*2","v":0}]
["Harry Kane - Tottenham Hotspur",null,null,44,{"$f":"0+0","v":0},null,null,null,{"$f":"$E62*2","v":0},0,0,0,0,0,0,null,{"$f":"$E62*2","v":0},{"$f":"$E62*2","v":0},null,null,null,null,{"$f":"$E62*2","v":0},{"$f":"$E62*2","v":0},{"$f":"$E62*2","v":0},{"$f":"$E62*2","v":0},null,null,{"$f":"$E62*2","v":0},0,0,0,0,0,0,{"$f":"$E62*2","v":0},{"$f":"$E62*2","v":0},{"$f":"$E62*2","v":0},{"$f":"$E62*2","v":0},{"$f":"$E62*2","v":0},null,{"$f":"$E62*2","v":0},{"$f":"$E62*2","v":0},{"$f":"$E62*2","v":0},{"$f":"$E62*2","v":0},{"$f":"$E62*2","v":0},null,null,{"$f":"$E62*2","v":0},null,{"$f":"$E62*2","v":0},{"$f":"$E62*2","v":0},{"$f":"$E62*2","v":0},{"$f":"$E62*2","v":0},null,{"$f":"$E62*2","v":0},null,{"$f":"$E62*2","v":0},null,{"$f":"$E62*2","v":0},{"$f":"$E62*2","v":0},null,null,null,{"$f":"$E62*2","v":0},null,null,null,null,null,{"$f":"$E62*2","v":0},{"$f":"$E62*2","v":0},null,null,null,{"$f":"$E62*2","v":0},null,null,null,null,null,{"$f":"$E62*2","v":0}]
["Jamie Vardy - Leicester City",null,null,19,{"$f":"0","v":0},null,null,null,null,null,{"$f":"$E63*2","v":0},null,null,null,null,null,null,null,{"$f":"$E63*2","v":0},null,null,null,null,null,null,{"$f":"$E63*2","v":0},null,null,null,{"$f":"$E63*2","v":0},null,null,null,null,null,null,null,null,null,null,null,null,null,null,{"$f":"$E63*2","v":0},null,{"$f":"$E63*2","v":0},{"$f":"$E63*2","v":0},{"$f":"$E63*2","v":0},{"$f":"$E63*2","v":0},{"$f":"$E63*2","v":0},null,{"$f":"$E63*2","v":0},null,null,null,null,null,null,null,null,{"$f":"$E63*2","v":0},null,null,null,{"$f":"$E63*2","v":0},null,null,{"$f":"$E63*2","v":0},{"$f":"$E63*2","v":0},null,null,null,null,{"$f":"$E63*2","v":0},{"$f":"$E63*2","v":0},null,null,{"$f":"$E63*2","v":0},{"$f":"$E63*2","v":0}]
["Marcus Rashford - Man United",null,null,6,{"$f":"0","v":0},null,null,null,null,null,null,null,null,null,null,{"$f":"$E64*2","v":0},null,null,null,null,null,null,null,null,null,null,null,null,null,null,null,null,null,null,null,null,null,null,null,null,null,null,null,null,null,null,null,null,null,null,null,null,{"$f":"$E64*2","v":0},null,null,null,null,null,{"$f":"$E64*2","v":0},null,{"$f":"$E64*2","v":0},null,null,null,null,null,null,null,null,null,null,null,null,null,null,null,null,null,{"$f":"$E64*2","v":0},null,{"$f":"$E64*2","v":0}]
["Mohamed Salah - Liverpool",null,null,36,{"$f":"0","v":0},null,null,null,null,null,{"$f":"$E65*2","v":0},{"$f":"$E65*2","v":0},null,null,{"$f":"$E65*2","v":0},null,{"$f":"$E65*2","v":0},0,0,0,0,0,null,{"$f":"$E65*2","v":0},{"$f":"$E65*2","v":0},null,null,{"$f":"$E65*2","v":0},null,null,{"$f":"$E65*2","v":0},{"$f":"$E65*2","v":0},null,null,null,null,null,null,{"$f":"$E65*2","v":0},null,{"$f":"$E65*2","v":0},null,{"$f":"$E65*2","v":0},null,null,null,null,{"$f":"$E65*2","v":0},null,{"$f":"$E65*2","v":0},null,null,null,{"$f":"$E65*2","v":0},{"$f":"$E65*2","v":0},{"$f":"$E65*2","v":0},{"$f":"$E65*2","v":0},{"$f":"$E65*2","v":0},null,null,null,{"$f":"$E65*2","v":0},null,{"$f":"$E65*2","v":0},null,null,{"$f":"$E65*2","v":0},null,null,null,{"$f":"$E65*2","v":0},0,0,0,0,{"$f":"$E65*2","v":0},null,{"$f":"$E65*2","v":0},0,null,null,null,{"$f":"$E65*2","v":0}]
["Pierre Emerick Aubameyang - Arsenal",null,null,45,{"$f":"1","v":1},null,null,null,null,null,null,{"$f":"$E66*2","v":2},null,{"$f":"$E66*2","v":2},{"$f":"$E66*2","v":2},{"$f":"$E66*2","v":2},{"$f":"$E66*2","v":2},{"$f":"$E66*2","v":2},{"$f":"$E66*2","v":2},null,{"$f":"$E66*2","v":2},{"$f":"$E66*2","v":2},{"$f":"$E66*2","v":2},null,null,null,{"$f":"$E66*2","v":2},{"$f":"$E66*2","v":2},{"$f":"$E66*2","v":2},null,{"$f":"$E66*2","v":2},null,{"$f":"$E66*2","v":2},null,{"$f":"$E66*2","v":2},{"$f":"$E66*2","v":2},{"$f":"$E66*2","v":2},null,null,{"$f":"$E66*2","v":2},{"$f":"$E66*2","v":2},null,{"$f":"$E66*2","v":2},{"$f":"$E66*2","v":2},{"$f":"$E66*2","v":2},null,{"$f":"$E66*2","v":2},{"$f":"$E66*2","v":2},{"$f":"$E66*2","v":2},{"$f":"$E66*2","v":2},{"$f":"$E66*2","v":2},null,null,{"$f":"$E66*2","v":2},{"$f":"$E66*2","v":2},null,{"$f":"$E66*2","v":2},{"$f":"$E66*2","v":2},null,null,null,null,{"$f":"$E66*2","v":2},{"$f":"$E66*2","v":2},null,{"$f":"$E66*2","v":2},null,{"$f":"$E66*2","v":2},null,null,null,{"$f":"$E66*2","v":2},null,{"$f":"$E66*2","v":2},{"$f":"$E66*2","v":2},null,{"$f":"$E66*2","v":2},{"$f":"$E66*2","v":2},null,{"$f":"$E66*2","v":2},{"$f":"$E66*2","v":2},{"$f":"$E66*2","v":2},{"$f":"$E66*2","v":2}]
["Raheem Sterling - Man City",null,null,14,{"$f":"0+1","v":1},null,null,null,null,null,null,null,null,null,null,null,null,null,null,null,null,null,null,{"$f":"$E67*2","v":2},null,null,{"$f":"$E67*2","v":2},null,{"$f":"$E67*2","v":2},null,null,null,null,{"$f":"$E67*2","v":2},null,{"$f":"$E67*2","v":2},null,null,null,null,null,null,null,null,null,null,null,null,null,null,null,null,null,null,null,null,null,null,{"$f":"$E67*2","v":2},{"$f":"$E67*2","v":2},null,{"$f":"$E67*2","v":2},{"$f":"$E67*2","v":2},null,{"$f":"$E67*2","v":2},null,null,{"$f":"$E67*2","v":2},{"$f":"$E67*2","v":2},null,{"$f":"$E67*2","v":2},null,null,null,null,null,null,null,null,null,null,null,{"$f":"$E67*2","v":2}]
["Raul Jiminez - Wolves",null,null,1,{"$f":"0+0","v":0},null,null,null,null,null,null,null,null,null,null,null,null,null,null,null,null,null,null,null,null,null,null,null,null,null,null,null,null,null,null,null,null,null,null,null,null,null,null,null,null,null,{"$f":"$E68*2","v":0}]
["Richarlison - Everton",null,null,1,{"$f":"0+0","v":0},null,null,null,{"$f":"$E69*2","v":0}]
["Sadio Mane - Liverpool",null,null,12,{"$f":"1","v":1},null,null,null,null,{"$f":"$E70*2","v":2},null,null,{"$f":"$E70*2","v":2},null,null,{"$f":"$E70*2","v":2},null,null,null,null,null,{"$f":"$E70*2","v":2},null,null,null,null,null,null,null,null,null,null,null,{"$f":"$E70*2","v":2},{"$f":"$E70*2","v":2},null,null,null,null,null,null,null,null,null,null,{"$f":"$E70*2","v":2},null,null,null,null,null,{"$f":"$E70*2","v":2},null,null,null,null,null,null,{"$f":"$E70*2","v":2},null,null,null,null,{"$f":"$E70*2","v":2},null,null,null,{"$f":"$E70*2","v":2},null,null,null,null,null,null,null,null,null,null,null,null,{"$f":"$E70*2","v":2}]
["Sergio Aguero - Man City",null,null,9,{"$f":"1+0","v":1},null,null,null,null,{"$f":"$E71*2","v":2},null,null,null,null,null,null,null,null,null,{"$f":"$E71*2","v":2},null,null,null,null,null,null,null,null,null,null,null,null,null,null,null,null,null,{"$f":"$E71*2","v":2},null,null,null,{"$f":"$E71*2","v":2},null,null,null,{"$f":"$E71*2","v":2},null,null,null,null,null,null,null,null,null,null,{"$f":"$E71*2","v":2},null,null,null,null,null,null,null,{"$f":"$E71*2","v":2},null,null,null,null,null,null,null,{"$f":"$E71*2","v":2},null,null,null,{"$f":"$E71*2","v":2}]
["Tammy Abraham - Chelsea",null,null,0,{"$f":"0+0","v":0}]
["Timo Werner - Chelsea",null,null,24,{"$f":"0+0","v":0},null,null,null,{"$f":"$E73*2","v":0},null,null,null,{"$f":"$E73*2","v":0},{"$f":"$E73*2","v":0},null,null,null,null,null,null,null,null,{"$f":"$E73*2","v":0},null,{"$f":"$E73*2","v":0},{"$f":"$E73*2","v":0},{"$f":"$E73*2","v":0},null,null,{"$f":"$E73*2","v":0},null,null,{"$f":"$E73*2","v":0},null,null,null,{"$f":"$E73*2","v":0},{"$f":"$E73*2","v":0},null,{"$f":"$E73*2","v":0},{"$f":"$E73*2","v":0},null,null,{"$f":"$E73*2","v":0},null,null,null,null,null,null,null,{"$f":"$E73*2","v":0},null,null,{"$f":"$E73*2","v":0},null,null,null,null,{"$f":"$E73*2","v":0},null,null,{"$f":"$E73*2","v":0},null,null,null,{"$f":"$E73*2","v":0},null,{"$f":"$E73*2","v":0},{"$f":"$E73*2","v":0},null,null,null,null,null,null,{"$f":"$E73*2","v":0},{"$f":"$E73*2","v":0},null,{"$f":"$E73*2","v":0}]
[]
["Golden Gloves"]
["Alisson Becker - Liverpool",null,null,{"$f":"COUNT(I76:CE76)","v":57},{"$f":"1","v":1},null,null,null,null,{"$f":"$E76*2","v":2},{"$f":"$E76*2","v":2},{"$f":"$E76*2","v":2},{"$f":"$E76*2","v":2},null,{"$f":"$E76*2","v":2},{"$f":"$E76*2","v":2},null,{"$f":"$E76*2","v":2},{"$f":"$E76*2","v":2},{"$f":"$E76*2","v":2},null,{"$f":"$E76*2","v":2},{"$f":"$E76*2","v":2},{"$f":"$E76*2","v":2},{"$f":"$E76*2","v":2},{"$f":"$E76*2","v":2},null,{"$f":"$E76*2","v":2},null,{"$f":"$E76*2","v":2},null,null,{"$f":"$E76*2","v":2},2,2,2,2,2,null,{"$f":"$E76*2","v":2},{"$f":"$E76*2","v":2},{"$f":"$E76*2","v":2},{"$f":"$E76*2","v":2},{"$f":"$E76*2","v":2},null,{"$f":"$E76*2","v":2},null,{"$f":"$E76*2","v":2},null,{"$f":"$E76*2","v":2},{"$f":"$E76*2","v":2},{"$f":"$E76*2","v":2},{"$f":"$E76*2","v":2},{"$f":"$E76*2","v":2},null,{"$f":"$E76*2","v":2},{"$f":"$E76*2","v":2},{"$f":"$E76*2","v":2},{"$f":"$E76*2","v":2},null,{"$f":"$E76*2","v":2},{"$f":"$E76*2","v":2},2,{"$f":"$E76*2","v":2},2,2,{"$f":"$E76*2","v":2},2,null,{"$f":"$E76*2","v":2},2,2,null,null,{"$f":"$E76*2","v":2},2,2,{"$f":"$E76*2","v":2},2,2,2,null,{"$f":"$E76*2","v":2}]
["Ederson - Man City",null,null,{"$f":"COUNT(I77:CE77)","v":14},{"$f":"1+0","v":1},null,null,null,{"$f":"$E77*2","v":2},null,null,null,null,null,null,null,{"$f":"$E77*2","v":2},null,null,null,{"$f":"$E77*2","v":2},null,null,null,null,null,{"$f":"$E77*2","v":2},null,{"$f":"$E77*2","v":2},null,{"$f":"$E77*2","v":2},{"$f":"$E77*2","v":2},null,null,null,null,null,null,{"$f":"$E77*2","v":2},null,null,null,null,null,null,null,{"$f":"$E77*2","v":2},null,{"$f":"$E77*2","v":2},null,null,null,null,null,{"$f":"$E77*2","v":2},null,null,null,null,{"$f":"$E77*2","v":2},null,null,null,null,null,null,null,null,null,null,null,null,null,{"$f":"$E77*2","v":2},null,null,null,null,null,null,null,{"$f":"$E77*2","v":2}]
["David de Gea - Man United",null,null,{"$f":"COUNT(I78:CE78)","v":3},{"$f":"0","v":0},null,null,null,null,null,null,null,null,{"$f":"$E78*2","v":0},null,null,null,null,null,null,null,null,null,null,null,null,null,null,null,null,null,null,null,null,null,null,null,null,null,null,null,null,null,null,{"$f":"$E78*2","v":0},null,null,null,null,null,null,null,null,null,null,null,null,null,null,null,null,null,null,null,null,null,null,null,null,null,null,null,{"$f":"$E78*2","v":0}]
["Hugo Lloris - Tottenham Hotspur",null,null,{"$f":"COUNT(I79:CE79)","v":1},{"$f":"1+0","v":1},null,null,null,null,null,null,null,null,null,null,null,null,null,null,null,null,null,null,null,null,null,null,null,null,null,null,null,null,null,null,null,null,null,null,null,null,null,null,null,null,null,null,null,null,null,null,null,null,null,null,null,null,null,null,null,null,null,null,null,null,null,null,null,{"$f":"$E79*2","v":2}]
["Nick Pope - Burnley",null,null,{"$f":"COUNT(I80:CE80)","v":0},{"$f":"0","v":0}]
[]
["Grand Total - May",null,null,null,null,null,null,null,{"$f":"SUM(I$3:I81)","v":47},{"$f":"SUM(J$3:J81)","v":71},{"$f":"SUM(K$3:K81)","v":47},{"$f":"SUM(L$3:L81)","v":74},{"$f":"SUM(M$3:M81)","v":49},{"$f":"SUM(N$3:N81)","v":2},{"$f":"SUM(O$3:O81)","v":54},{"$f":"SUM(P$3:P81)","v":56},{"$f":"SUM(Q$3:Q81)","v":34},{"$f":"SUM(R$3:R81)","v":44},{"$f":"SUM(S$3:S81)","v":59},{"$f":"SUM(T$3:T81)","v":4},{"$f":"SUM(U$3:U81)","v":4},{"$f":"SUM(V$3:V81)","v":51},{"$f":"SUM(W$3:W81)","v":69},{"$f":"SUM(X$3:X81)","v":59},{"$f":"SUM(Y$3:Y81)","v":67},{"$f":"SUM(Z$3:Z81)","v":42},{"$f":"SUM(AA$3:AA81)","v":71},{"$f":"SUM(AB$3:AB81)","v":44},{"$f":"SUM(AC$3:AC81)","v":46},{"$f":"SUM(AD$3:AD81)","v":62},{"$f":"SUM(AE$3:AE81)","v":79},{"$f":"SUM(AF$3:AF81)","v":37},{"$f":"SUM(AG$3:AG81)","v":64},{"$f":"SUM(AH$3:AH81)","v":51},{"$f":"SUM(AI$3:AI81)","v":36},{"$f":"SUM(AJ$3:AJ81)","v":6},{"$f":"SUM(AK$3:AK81)","v":59},{"$f":"SUM(AL$3:AL81)","v":69},{"$f":"SUM(AM$3:AM81)","v":32},{"$f":"SUM(AN$3:AN81)","v":74},{"$f":"SUM(AO$3:AO81)","v":49},{"$f":"SUM(AP$3:AP81)","v":4},{"$f":"SUM(AQ$3:AQ81)","v":54},{"$f":"SUM(AR$3:AR81)","v":49},{"$f":"SUM(AS$3:AS81)","v":62},{"$f":"SUM(AT$3:AT81)","v":46},{"$f":"SUM(AU$3:AU81)","v":49},{"$f":"SUM(AV$3:AV81)","v":19},{"$f":"SUM(AW$3:AW81)","v":54},{"$f":"SUM(AX$3:AX81)","v":59},{"$f":"SUM(AY$3:AY81)","v":29},{"$f":"SUM(AZ$3:AZ81)","v":59},{"$f":"SUM(BA$3:BA81)","v":47},{"$f":"SUM(BB$3:BB81)","v":34},{"$f":"SUM(BC$3:BC81)","v":44},{"$f":"SUM(BD$3:BD81)","v":2},{"$f":"SUM(BE$3:BE81)","v":56},{"$f":"SUM(BF$3:BF81)","v":44},{"$f":"SUM(BG$3:BG81)","v":51},{"$f":"SUM(BH$3:BH81)","v":84},{"$f":"SUM(BI$3:BI81)","v":32},{"$f":"SUM(BJ$3:BJ81)","v":54},{"$f":"SUM(BK$3:BK81)","v":76},{"$f":"SUM(BL$3:BL81)","v":46},{"$f":"SUM(BM$3:BM81)","v":6},{"$f":"SUM(BN$3:BN81)","v":49},{"$f":"SUM(BO$3:BO81)","v":2},{"$f":"SUM(BP$3:BP81)","v":43},{"$f":"SUM(BQ$3:BQ81)","v":24},{"$f":"SUM(BR$3:BR81)","v":2},{"$f":"SUM(BS$3:BS81)","v":49},{"$f":"SUM(BT$3:BT81)","v":59},{"$f":"SUM(BU$3:BU81)","v":97},{"$f":"SUM(BV$3:BV81)","v":69},{"$f":"SUM(BW$3:BW81)","v":39},{"$f":"SUM(BX$3:BX81)","v":37},{"$f":"SUM(BY$3:BY81)","v":66},{"$f":"SUM(BZ$3:BZ81)","v":54},{"$f":"SUM(CA$3:CA81)","v":52},{"$f":"SUM(CB$3:CB81)","v":54},{"$f":"SUM(CC$3:CC81)","v":66},{"$f":"SUM(CD$3:CD81)","v":54},{"$f":"SUM(CE$3:CE81)","v":46}]
[]
["Ten Pointers",null,null,null,null,null,null,null,{"$f":"COUNTIF(I$3:I56,\"10\")","v":2},{"$f":"COUNTIF(J$3:J56,\"10\")","v":3},{"$f":"COUNTIF(K$3:K56,\"10\")","v":1},{"$f":"COUNTIF(L$3:L56,\"10\")","v":4},{"$f":"COUNTIF(M$3:M56,\"10\")","v":2},{"$f":"COUNTIF(N$3:N56,\"10\")","v":0},{"$f":"COUNTIF(O$3:O56,\"10\")","v":2},{"$f":"COUNTIF(P$3:P56,\"10\")","v":1},{"$f":"COUNTIF(Q$3:Q56,\"10\")","v":0},{"$f":"COUNTIF(R$3:R56,\"10\")","v":0},{"$f":"COUNTIF(S$3:S56,\"10\")","v":2},{"$f":"COUNTIF(T$3:T56,\"10\")","v":0},{"$f":"COUNTIF(U$3:U56,\"10\")","v":0},{"$f":"COUNTIF(V$3:V56,\"10\")","v":2},{"$f":"COUNTIF(W$3:W56,\"10\")","v":4},{"$f":"COUNTIF(X$3:X56,\"10\")","v":2},{"$f":"COUNTIF(Y$3:Y56,\"10\")","v":4},{"$f":"COUNTIF(Z$3:Z56,\"10\")","v":2},{"$f":"COUNTIF(AA$3:AA56,\"10\")","v":4},{"$f":"COUNTIF(AB$3:AB56,\"10\")","v":1},{"$f":"COUNTIF(AC$3:AC56,\"10\")","v":3},{"$f":"COUNTIF(AD$3:AD56,\"10\")","v":5},{"$f":"COUNTIF(AE$3:AE56,\"10\")","v":5},{"$f":"COUNTIF(AF$3:AF56,\"10\")","v":1},{"$f":"COUNTIF(AG$3:AG56,\"10\")","v":1},{"$f":"COUNTIF(AH$3:AH56,\"10\")","v":0},{"$f":"COUNTIF(AI$3:AI56,\"10\")","v":2},{"$f":"COUNTIF(AJ$3:AJ56,\"10\")","v":0},{"$f":"COUNTIF(AK$3:AK56,\"10\")","v":3},{"$f":"COUNTIF(AL$3:AL56,\"10\")","v":4},{"$f":"COUNTIF(AM$3:AM56,\"10\")","v":0},{"$f":"COUNTIF(AN$3:AN56,\"10\")","v":5},{"$f":"COUNTIF(AO$3:AO56,\"10\")","v":1},{"$f":"COUNTIF(AP$3:AP56,\"10\")","v":0},{"$f":"COUNTIF(AQ$3:AQ56,\"10\")","v":2},{"$f":"COUNTIF(AR$3:AR56,\"10\")","v":3},{"$f":"COUNTIF(AS$3:AS56,\"10\")","v":4},{"$f":"COUNTIF(AT$3:AT56,\"10\")","v":2},{"$f":"COUNTIF(AU$3:AU56,\"10\")","v":2},{"$f":"COUNTIF(AV$3:AV56,\"10\")","v":0},{"$f":"COUNTIF(AW$3:AW56,\"10\")","v":3},{"$f":"COUNTIF(AX$3:AX56,\"10\")","v":2},{"$f":"COUNTIF(AY$3:AY56,\"10\")","v":1},{"$f":"COUNTIF(AZ$3:AZ56,\"10\")","v":2},{"$f":"COUNTIF(BA$3:BA56,\"10\")","v":2},{"$f":"COUNTIF(BB$3:BB56,\"10\")","v":0},{"$f":"COUNTIF(BC$3:BC56,\"10\")","v":1},{"$f":"COUNTIF(BD$3:BD56,\"10\")","v":0},{"$f":"COUNTIF(BE$3:BE56,\"10\")","v":1},{"$f":"COUNTIF(BF$3:BF56,\"10\")","v":1},{"$f":"COUNTIF(BG$3:BG56,\"10\")","v":1},{"$f":"COUNTIF(BH$3:BH56,\"10\")","v":6},{"$f":"COUNTIF(BI$3:BI56,\"10\")","v":1},{"$f":"COUNTIF(BJ$3:BJ56,\"10\")","v":1},{"$f":"COUNTIF(BK$3:BK56,\"10\")","v":4},{"$f":"COUNTIF(BL$3:BL56,\"10\")","v":1},{"$f":"COUNTIF(BM$3:BM56,\"10\")","v":0},{"$f":"COUNTIF(BN$3:BN56,\"10\")","v":2},{"$f":"COUNTIF(BO$3:BO56,\"10\")","v":0},{"$f":"COUNTIF(BP$3:BP56,\"10\")","v":0},{"$f":"COUNTIF(BQ$3:BQ56,\"10\")","v":0},{"$f":"COUNTIF(BR$3:BR56,\"10\")","v":0},{"$f":"COUNTIF(BS$3:BS56,\"10\")","v":2},{"$f":"COUNTIF(BT$3:BT56,\"10\")","v":3},{"$f":"COUNTIF(BU$3:BU56,\"10\")","v":7},{"$f":"COUNTIF(BV$3:BV56,\"10\")","v":4},{"$f":"COUNTIF(BW$3:BW56,\"10\")","v":0},{"$f":"COUNTIF(BX$3:BX56,\"10\")","v":0},{"$f":"COUNTIF(BY$3:BY56,\"10\")","v":4},{"$f":"COUNTIF(BZ$3:BZ56,\"10\")","v":2},{"$f":"COUNTIF(CA$3:CA56,\"10\")","v":3},{"$f":"COUNTIF(CB$3:CB56,\"10\")","v":3},{"$f":"COUNTIF(CC$3:CC56,\"10\")","v":3},{"$f":"COUNTIF(CD$3:CD56,\"10\")","v":2},{"$f":"COUNTIF(CE$3:CE56,\"10\")","v":2}]

{"sheet":"Jokers","index":10,"n_rows":76,"n_cols":35,"rows_kept":76,"cut":false,"hidden":false,"merged":[]}
["No.","Player","Team Name","Joker",1,2,3,4,5,6,7,8,9,10,11,12,13,14,15,16,17,18,19,20,21,22,23,24,25,26,27,28,29,30,"Total"]
[1,"Aidan Scanlon","Kilflynn Santos","2-0","a","a","a","a","a","a","a","a","a","a","a",null,null,null,null,null,null,null,null,null,null,null,null,null,null,null,null,null,null,null,{"$f":"COUNTIF(E2:AH2,\"a\")","v":11}]
[2,"Aidan White","Saved By A Goalline Technology Failure","1-0","a","a","a","a","a","a","a","a","a","a","a","a","a","a","a","a","a","a","a","a","a","a","a","a","a","a","a","a","a","a",30]
[3,"Alan White","Al White XI","2-1","a","a","a","a","a","a","a","a","a","a","a","a","a","a","a","a",null,null,null,null,null,null,null,null,null,null,null,null,null,null,16]
[4,"Anastas Popov","Strong Saints","1-0","a","a","a","a","a","a","a","a","a",null,null,null,null,null,null,null,null,null,null,null,null,null,null,null,null,null,null,null,null,null,9]
[5,"Andy Dunne","Peter Crouch Rangers","2-0","a","a","a","a","a","a","a","a","a","a","a","a","a","a","a","a","a",null,null,null,null,null,null,null,null,null,null,null,null,null,17]
[6,"Ben Creasey","#1","2-0","a","a","a","a","a","a","a","a","a","a","a","a","a","a","a","a","a","a","a","a","a","a","a","a","a","a","a","a","a","a",30]
[7,"Bobby Hynes","Born To Run","2-1","a","a","a","a","a","a","a","a","a","a","a","a","a",null,null,null,null,null,null,null,null,null,null,null,null,null,null,null,null,null,13]
[8,"Brendan Maguire","Cantthinkofone",null,null,null,null,null,null,null,null,null,null,null,null,null,null,null,null,null,null,null,null,null,null,null,null,null,null,null,null,null,null,null,0]
[9,"Brian Haughton","Klopp's Achievers",null,null,null,null,null,null,null,null,null,null,null,null,null,null,null,null,null,null,null,null,null,null,null,null,null,null,null,null,null,null,null,0]
[10,"Brian Mullen","Mothers Milk","2-1","a","a","a","a","a","a","a","a","a","a","a","a","a","a","a","a","a","a","a","a","a","a","a","a","a","a","a","a","a","a",30]
[11,"Brian Prendergast","Mista Dobalina","2-1","a","a","a","a","a","a","a","a","a","a","a","a","a","a","a","a","a","a","a","a","a","a","a","a","a","a","a","a","a","a",30]
[12,"Callum Dunne","The Keita Success","2-1","a","a","a","a","a","a","a","a","a","a","a","a","a","a","a","a","a","a","a","a","a","a","a","a","a","a","a","a","a","a",30]
[13,"Calvin McGettigan","Average Joe 1.0","2-0","a","a","a","a","a","a","a","a","a","a","a","a","a","a","a","a","a","a","a","a","a","a","a","a","a","a","a","a","a","a",30]
[14,"Caroline Carroll","Prince","2-0","a",null,null,null,null,null,null,null,null,null,null,null,null,null,null,null,null,null,null,null,null,null,null,null,null,null,null,null,null,null,{"$f":"COUNTIF(E15:AH15,\"a\")","v":1}]
[15,"Cathal Thornton","Horse's Heroes",null,null,null,null,null,null,null,null,null,null,null,null,null,null,null,null,null,null,null,null,null,null,null,null,null,null,null,null,null,null,null,{"$f":"COUNTIF(E16:AH16,\"a\")","v":0}]
[16,"Christina Morgan","Return of the Red Dwarf","2-1","a","a","a","a","a","a","a","a","a","a","a","a","a","a","a","a","a","a","a","a","a","a","a","a","a","a","a","a","a","a",30]
[17,"Ciaran Nelson","Nelson Utd","1-0","a","a","a","a",null,null,null,null,null,null,null,null,null,null,null,null,null,null,null,null,null,null,null,null,null,null,null,null,null,null,4]
[18,"Ciaran O'Hart","Riverchapel Plate","1-1","a","a","a","a","a","a","a","a","a","a","a","a","a","a","a","a","a","a","a","a","a",null,null,null,null,null,null,null,null,null,21]
[19,"Con McSweeney","Dowtcha_Boys","2-0","a","a","a","a","a","a","a","a","a","a",null,null,null,null,null,null,null,null,null,null,null,null,null,null,null,null,null,null,null,null,10]
[20,"Craig Calvert","Proper FC","2-1","a","a","a","a","a",null,null,null,null,null,null,null,null,null,null,null,null,null,null,null,null,null,null,null,null,null,null,null,null,null,5]
[21,"Darragh Kenny","The Sporting Wing","2-1","a",null,null,null,null,null,null,null,null,null,null,null,null,null,null,null,null,null,null,null,null,null,null,null,null,null,null,null,null,null,1]
[22,"David Cooney","Frank's Silvalinings",null,null,null,null,null,null,null,null,null,null,null,null,null,null,null,null,null,null,null,null,null,null,null,null,null,null,null,null,null,null,null,0]
[23,"David Lavelle","Gers Abu","2-0","a","a","a","a","a","a","a","a","a","a","a","a","a","a","a","a","a",null,null,null,null,null,null,null,null,null,null,null,null,null,17]
[24,"David McGinley","Reservoir Dubs","2-1","a","a","a","a","a","a","a",null,null,null,null,null,null,null,null,null,null,null,null,null,null,null,null,null,null,null,null,null,null,null,7]
[25,"Davy Doyle","FC Twente Benson","2-1","a","a","a","a","a","a","a","a","a","a",null,null,null,null,null,null,null,null,null,null,null,null,null,null,null,null,null,null,null,null,10]
[26,"Dean White","Armchair 11","1-0","a","a","a","a","a","a","a","a","a","a","a","a","a","a","a","a","a","a","a","a","a","a",null,null,null,null,null,null,null,null,22]
[27,"Derek Brady","Liverpool","2-1","a","a","a","a","a","a","a","a","a","a","a","a","a","a","a","a","a",null,null,null,null,null,null,null,null,null,null,null,null,null,17]
[28,"Drew Armstrong","Army's All Stars","5-5","a","a","a","a","a","a","a","a","a","a","a","a","a","a","a","a","a","a","a","a","a","a","a","a","a","a","a","a","a","a",30]
[29,"Eamon Fox","Goals Very Important In Life","2-0","a","a","a","a","a","a","a","a","a","a","a",null,null,null,null,null,null,null,null,null,null,null,null,null,null,null,null,null,null,null,11]
[30,"Eoghan Farrelly","Last Chance Saloon","1-0","a","a","a","a","a","a","a","a","a","a","a","a",null,null,null,null,null,null,null,null,null,null,null,null,null,null,null,null,null,null,12]
[31,"Fiachra O'Brolachain","Tallacticos","2-1","a","a","a","a","a","a","a","a","a","a","a","a","a","a","a","a","a","a","a","a","a","a","a","a","a","a","a","a","a","a",30]
[32,"Frank McSweeney","Poolabu","1-0","a","a","a","a","a","a","a","a","a","a","a","a","a","a","a","a","a","a","a","a","a","a","a","a","a","a","a","a","a","a",30]
[33,"Gareth Pierpoint","Alisson Wonderland",null,null,null,null,null,null,null,null,null,null,null,null,null,null,null,null,null,null,null,null,null,null,null,null,null,null,null,null,null,null,null,0]
[34,"Gary Donnelly","Audrey's + 1","2-1","a","a","a","a","a","a","a","a","a","a","a","a","a","a","a","a","a","a","a","a","a","a","a","a","a","a","a","a","a","a",30]
[35,"Gary Fitzpatrick","Timo Werner Is A Hurensohn","2-1","a","a","a","a","a","a","a","a","a","a","a","a","a","a","a","a","a","a","a","a","a","a","a","a",null,null,null,null,null,null,24]
[36,"Gary McGurk","This Is Our Year","1-0","a","a","a","a","a",null,null,null,null,null,null,null,null,null,null,null,null,null,null,null,null,null,null,null,null,null,null,null,null,null,5]
[37,"Gavin Goodwin","Gorey United","3-2","a","a","a","a","a","a","a","a","a","a","a","a","a","a","a","a","a","a","a","a","a","a","a","a","a",null,null,null,null,null,25]
[38,"Gavin Morgan","Bristol Fashion","2-1","a","a","a","a","a","a","a","a","a","a",null,null,null,null,null,null,null,null,null,null,null,null,null,null,null,null,null,null,null,null,10]
[39,"George McGettigan","Right Up The Jimmy","1-1","a","a","a","a","a","a","a","a","a","a","a","a","a","a","a","a","a","a","a","a","a","a","a","a","a","a","a","a","a","a",30]
[40,"Gerard McCluskey","Breffni Blues","1-1","a","a","a","a","a","a","a","a","a","a","a","a","a","a","a","a","a","a","a","a","a","a","a","a","a","a","a","a","a","a",30]
[41,"Gerry Draper","Everton10",null,null,null,null,null,null,null,null,null,null,null,null,null,null,null,null,null,null,null,null,null,null,null,null,null,null,null,null,null,null,null,0]
[42,"Gerry Moore","Mikel's Maestros","2-1","a","a","a","a","a","a","a","a","a","a","a","a","a","a","a","a","a",null,null,null,null,null,null,null,null,null,null,null,null,null,17]
[43,"Graham Goodwin","2021 Pls","1-0","a","a","a","a","a","a","a","a","a","a","a","a","a","a","a","a","a","a","a","a","a","a","a","a","a","a","a","a","a","a",30]
[44,"Javier Suarez","Hendo's Boys","1-0","a","a","a","a","a","a","a","a","a","a","a","a","a","a","a","a","a","a","a","a","a","a","a","a","a","a","a","a","a",null,29]
[45,"Joe Behan","MT-09","1-0","a","a","a","a","a","a",null,null,null,null,null,null,null,null,null,null,null,null,null,null,null,null,null,null,null,null,null,null,null,null,6]
[46,"Joe Turner","#blocklivesmatter",null,null,null,null,null,null,null,null,null,null,null,null,null,null,null,null,null,null,null,null,null,null,null,null,null,null,null,null,null,null,null,0]
[47,"John Brophy","Carrig United","1-0","a","a","a","a","a","a","a","a","a","a","a","a","a","a","a","a","a","a","a","a","a","a",null,null,null,null,null,null,null,null,22]
[48,"John O'Driscoll","The Botchments","2-1","a","a","a","a","a","a","a","a","a","a","a","a","a","a","a","a","a","a","a","a","a","a","a","a","a","a","a","a","a","a",30]
[49,"Jonathan Fox","Kilppety Klopp All The Way To The Top","1-0","a","a","a","a","a",null,null,null,null,null,null,null,null,null,null,null,null,null,null,null,null,null,null,null,null,null,null,null,null,null,5]
[50,"Joseph Kavanagh","Joey's Invincibles","2-1","a","a","a","a","a","a",null,null,null,null,null,null,null,null,null,null,null,null,null,null,null,null,null,null,null,null,null,null,null,null,6]
[51,"Kev Dalton","Show Me De Mane","2-0","a","a","a","a","a","a","a","a",null,null,null,null,null,null,null,null,null,null,null,null,null,null,null,null,null,null,null,null,null,null,8]
[52,"Kevin Philpott","Phillys Phylers","2-1","a","a","a","a","a","a","a","a","a","a","a","a","a","a","a","a","a","a","a","a","a","a","a","a","a","a","a","a","a",null,29]
[53,"Kris Stainton","Da Love Be Beek","1-0","a","a","a","a","a","a","a","a","a","a","a","a","a","a","a","a","a","a","a","a","a","a","a","a","a","a","a","a","a","a",30]
[54,"Liam Geraghty","Is There Any Hope?","1-0","a","a","a","a","a","a","a","a","a","a","a","a","a",null,null,null,null,null,null,null,null,null,null,null,null,null,null,null,null,null,13]
[55,"Liam Keohan","Invincibles","2-0","a",null,null,null,null,null,null,null,null,null,null,null,null,null,null,null,null,null,null,null,null,null,null,null,null,null,null,null,null,null,1]
[56,"Lionel Knott","Red Abbey Reds","4-3","a","a","a",null,null,null,null,null,null,null,null,null,null,null,null,null,null,null,null,null,null,null,null,null,null,null,null,null,null,null,3]
[57,"Michael Kenaney","Expected Toulouse","2-1","a","a","a","a","a","a","a","a","a","a","a","a","a","a","a","a","a","a","a","a","a","a","a","a","a","a","a","a","a","a",30]
[58,"Micheal Joyce","Pure Whites","1-1","a","a","a","a","a","a","a","a","a","a","a","a","a","a","a","a","a","a","a","a","a","a",null,null,null,null,null,null,null,null,22]
[59,"Niall Cannon","TAA Very Much","2-1","a","a","a","a","a","a","a","a","a","a","a","a","a","a","a","a","a","a","a","a","a","a","a","a","a","a","a","a","a","a",30]
[60,"Niall Carroll",19,"2-0","a",null,null,null,null,null,null,null,null,null,null,null,null,null,null,null,null,null,null,null,null,null,null,null,null,null,null,null,null,null,1]
[61,"Niall Murray","Book Ake","2-1","a","a","a","a","a","a","a","a","a","a","a","a","a","a","a",null,null,null,null,null,null,null,null,null,null,null,null,null,null,null,15]
[62,"Patrick Mifsud","Red & Black Brigade","2-1","a","a","a","a","a","a","a","a","a","a","a","a","a","a","a","a","a","a","a","a","a","a","a","a","a","a","a","a","a","a",30]
[63,"Paul Moore","Bobby Dazzler",null,null,null,null,null,null,null,null,null,null,null,null,null,null,null,null,null,null,null,null,null,null,null,null,null,null,null,null,null,null,null,0]
[64,"Paul Prendergast","The Untouchables","2-0","a","a","a","a","a","a","a","a","a","a","a","a","a","a","a","a","a","a","a","a","a",null,null,null,null,null,null,null,null,null,21]
[65,"Phil Doyle","FC Muertos Errantes","2-1","a","a","a","a","a","a","a","a","a","a",null,null,null,null,null,null,null,null,null,null,null,null,null,null,null,null,null,null,null,null,10]
[66,"Philip Jordan","Frankie's Army","2-1","a","a",null,null,null,null,null,null,null,null,null,null,null,null,null,null,null,null,null,null,null,null,null,null,null,null,null,null,null,null,2]
[67,"Ralph Goodwin","Sky Blue Champions","1-0","a","a","a","a","a","a","a","a","a","a","a","a","a","a","a","a","a","a","a","a","a","a","a",null,null,null,null,null,null,null,23]
[68,"Richard Johnston","The Corporation Lads FC","2-0","a","a","a","a","a","a","a","a","a","a","a","a","a","a","a","a","a","a","a","a","a","a","a","a","a","a","a","a","a","a",30]
[69,"Robert Hynes","Charlton","2-1","a","a","a","a","a","a","a",null,null,null,null,null,null,null,null,null,null,null,null,null,null,null,null,null,null,null,null,null,null,null,7]
[70,"Robert Manley","Alisson Wonderland","2-1","a","a","a","a","a","a","a","a","a","a","a","a","a","a","a","a","a","a","a","a",null,null,null,null,null,null,null,null,null,null,20]
[71,"Roisin Joyce","Roisin Joyce","0-0","a","a","a","a","a","a","a","a","a","a","a","a","a","a","a","a",null,null,null,null,null,null,null,null,null,null,null,null,null,null,16]
[72,"Sean O'Mairtin","Creweless","2-0","a","a","a","a",null,null,null,null,null,null,null,null,null,null,null,null,null,null,null,null,null,null,null,null,null,null,null,null,null,null,4]
[73,"Trevor Byrne","Noddy's 11","2-1","a","a","a","a","a","a","a","a","a","a","a","a","a","a","a","a","a","a","a","a","a","a","a","a","a","a","a","a","a","a",30]
[74,"Victoria Reid","Tristan's Titans","2-1","a","a","a","a","a","a","a","a","a","a","a","a","a","a","a","a","a","a","a","a","a","a","a",null,null,null,null,null,null,null,23]
[75,"Wayne Donovan","Sixth Senseless","2-1","a","a","a","a","a","a","a","a","a","a",null,null,null,null,null,null,null,null,null,null,null,null,null,null,null,null,null,null,null,null,10]

{"sheet":"Ten Point Table","index":11,"n_rows":76,"n_cols":13,"rows_kept":76,"cut":false,"hidden":false,"merged":[]}
["No.","Name","Team Name","2020-09-01","2020-10-01","2020-11-01","2020-12-01","2021-01-01","2021-02-01","2021-03-01","2021-04-01","2021-05-01","Total"]
[1,"George McGettigan","Right Up The Jimmy",{"$f":"HLOOKUP(B2,September!$I$1:$CE$80,80,FALSE)","v":4},{"$f":"HLOOKUP(B2,October!$I$1:$CE$86,86,FALSE)","v":4},{"$f":"HLOOKUP(B2,November!$I$1:$CE$88,88,FALSE)","v":3},{"$f":"HLOOKUP(B2,December!$I$1:$CE$109,109,FALSE)","v":11},{"$f":"HLOOKUP(B2,January!$I$1:$CE$80,80,FALSE)","v":4},{"$f":"HLOOKUP(B2,February!$I$1:$CE$82,82,FALSE)","v":9},{"$f":"HLOOKUP(B2,March!$I$1:$CE$63,63,FALSE)","v":4},{"$f":"HLOOKUP(B2,April!$I$1:$CE$69,69,FALSE)","v":6},{"$f":"HLOOKUP(B2,May!$I$1:$CE$84,84,FALSE)","v":2},{"$f":"SUM(D2:L2)","v":47}]
[2,"Ciaran O'Hart","Riverchapel Plate",{"$f":"HLOOKUP(B3,September!$I$1:$CE$80,80,FALSE)","v":0},{"$f":"HLOOKUP(B3,October!$I$1:$CE$86,86,FALSE)","v":2},{"$f":"HLOOKUP(B3,November!$I$1:$CE$88,88,FALSE)","v":4},{"$f":"HLOOKUP(B3,December!$I$1:$CE$109,109,FALSE)","v":7},{"$f":"HLOOKUP(B3,January!$I$1:$CE$80,80,FALSE)","v":10},{"$f":"HLOOKUP(B3,February!$I$1:$CE$82,82,FALSE)","v":10},{"$f":"HLOOKUP(B3,March!$I$1:$CE$63,63,FALSE)","v":3},{"$f":"HLOOKUP(B3,April!$I$1:$CE$69,69,FALSE)","v":4},{"$f":"HLOOKUP(B3,May!$I$1:$CE$84,84,FALSE)","v":2},{"$f":"SUM(D3:L3)","v":42}]
[3,"David Lavelle","Gers Abu",{"$f":"HLOOKUP(B4,September!$I$1:$CE$80,80,FALSE)","v":2},{"$f":"HLOOKUP(B4,October!$I$1:$CE$86,86,FALSE)","v":4},{"$f":"HLOOKUP(B4,November!$I$1:$CE$88,88,FALSE)","v":6},{"$f":"HLOOKUP(B4,December!$I$1:$CE$109,109,FALSE)","v":6},{"$f":"HLOOKUP(B4,January!$I$1:$CE$80,80,FALSE)","v":6},{"$f":"HLOOKUP(B4,February!$I$1:$CE$82,82,FALSE)","v":4},{"$f":"HLOOKUP(B4,March!$I$1:$CE$63,63,FALSE)","v":4},{"$f":"HLOOKUP(B4,April!$I$1:$CE$69,69,FALSE)","v":4},{"$f":"HLOOKUP(B4,May!$I$1:$CE$84,84,FALSE)","v":5},{"$f":"SUM(D4:L4)","v":41}]
[4,"Wayne Donovan","Sixth Senseless",{"$f":"HLOOKUP(B5,September!$I$1:$CE$80,80,FALSE)","v":2},{"$f":"HLOOKUP(B5,October!$I$1:$CE$86,86,FALSE)","v":5},{"$f":"HLOOKUP(B5,November!$I$1:$CE$88,88,FALSE)","v":3},{"$f":"HLOOKUP(B5,December!$I$1:$CE$109,109,FALSE)","v":8},{"$f":"HLOOKUP(B5,January!$I$1:$CE$80,80,FALSE)","v":6},{"$f":"HLOOKUP(B5,February!$I$1:$CE$82,82,FALSE)","v":5},{"$f":"HLOOKUP(B5,March!$I$1:$CE$63,63,FALSE)","v":4},{"$f":"HLOOKUP(B5,April!$I$1:$CE$69,69,FALSE)","v":6},{"$f":"HLOOKUP(B5,May!$I$1:$CE$84,84,FALSE)","v":2},{"$f":"SUM(D5:L5)","v":41}]
[5,"Frank McSweeney","Poolabu",{"$f":"HLOOKUP(B6,September!$I$1:$CE$80,80,FALSE)","v":2},{"$f":"HLOOKUP(B6,October!$I$1:$CE$86,86,FALSE)","v":4},{"$f":"HLOOKUP(B6,November!$I$1:$CE$88,88,FALSE)","v":1},{"$f":"HLOOKUP(B6,December!$I$1:$CE$109,109,FALSE)","v":8},{"$f":"HLOOKUP(B6,January!$I$1:$CE$80,80,FALSE)","v":7},{"$f":"HLOOKUP(B6,February!$I$1:$CE$82,82,FALSE)","v":5},{"$f":"HLOOKUP(B6,March!$I$1:$CE$63,63,FALSE)","v":5},{"$f":"HLOOKUP(B6,April!$I$1:$CE$69,69,FALSE)","v":3},{"$f":"HLOOKUP(B6,May!$I$1:$CE$84,84,FALSE)","v":5},{"$f":"SUM(D6:L6)","v":40}]
[6,"Gavin Goodwin","Gorey United",{"$f":"HLOOKUP(B7,September!$I$1:$CE$80,80,FALSE)","v":1},{"$f":"HLOOKUP(B7,October!$I$1:$CE$86,86,FALSE)","v":4},{"$f":"HLOOKUP(B7,November!$I$1:$CE$88,88,FALSE)","v":1},{"$f":"HLOOKUP(B7,December!$I$1:$CE$109,109,FALSE)","v":4},{"$f":"HLOOKUP(B7,January!$I$1:$CE$80,80,FALSE)","v":7},{"$f":"HLOOKUP(B7,February!$I$1:$CE$82,82,FALSE)","v":10},{"$f":"HLOOKUP(B7,March!$I$1:$CE$63,63,FALSE)","v":4},{"$f":"HLOOKUP(B7,April!$I$1:$CE$69,69,FALSE)","v":4},{"$f":"HLOOKUP(B7,May!$I$1:$CE$84,84,FALSE)","v":4},{"$f":"SUM(D7:L7)","v":39}]
[7,"Jonathan Fox","Kilppety Klopp All The Way To The Top",{"$f":"HLOOKUP(B8,September!$I$1:$CE$80,80,FALSE)","v":3},{"$f":"HLOOKUP(B8,October!$I$1:$CE$86,86,FALSE)","v":1},{"$f":"HLOOKUP(B8,November!$I$1:$CE$88,88,FALSE)","v":6},{"$f":"HLOOKUP(B8,December!$I$1:$CE$109,109,FALSE)","v":5},{"$f":"HLOOKUP(B8,January!$I$1:$CE$80,80,FALSE)","v":5},{"$f":"HLOOKUP(B8,February!$I$1:$CE$82,82,FALSE)","v":6},{"$f":"HLOOKUP(B8,March!$I$1:$CE$63,63,FALSE)","v":9},{"$f":"HLOOKUP(B8,April!$I$1:$CE$69,69,FALSE)","v":2},{"$f":"HLOOKUP(B8,May!$I$1:$CE$84,84,FALSE)","v":1},{"$f":"SUM(D8:L8)","v":38}]
[8,"Aidan White","Saved By A Goalline Technology Failure",{"$f":"HLOOKUP(B9,September!$I$1:$CE$80,80,FALSE)","v":0},{"$f":"HLOOKUP(B9,October!$I$1:$CE$86,86,FALSE)","v":5},{"$f":"HLOOKUP(B9,November!$I$1:$CE$88,88,FALSE)","v":7},{"$f":"HLOOKUP(B9,December!$I$1:$CE$109,109,FALSE)","v":3},{"$f":"HLOOKUP(B9,January!$I$1:$CE$80,80,FALSE)","v":8},{"$f":"HLOOKUP(B9,February!$I$1:$CE$82,82,FALSE)","v":6},{"$f":"HLOOKUP(B9,March!$I$1:$CE$63,63,FALSE)","v":2},{"$f":"HLOOKUP(B9,April!$I$1:$CE$69,69,FALSE)","v":3},{"$f":"HLOOKUP(B9,May!$I$1:$CE$84,84,FALSE)","v":3},{"$f":"SUM(D9:L9)","v":37}]
[9,"Cathal Thornton","Horse's Heroes",{"$f":"HLOOKUP(B10,September!$I$1:$CE$80,80,FALSE)","v":1},{"$f":"HLOOKUP(B10,October!$I$1:$CE$86,86,FALSE)","v":2},{"$f":"HLOOKUP(B10,November!$I$1:$CE$88,88,FALSE)","v":2},{"$f":"HLOOKUP(B10,December!$I$1:$CE$109,109,FALSE)","v":10},{"$f":"HLOOKUP(B10,January!$I$1:$CE$80,80,FALSE)","v":5},{"$f":"HLOOKUP(B10,February!$I$1:$CE$82,82,FALSE)","v":8},{"$f":"HLOOKUP(B10,March!$I$1:$CE$63,63,FALSE)","v":5},{"$f":"HLOOKUP(B10,April!$I$1:$CE$69,69,FALSE)","v":0},{"$f":"HLOOKUP(B10,May!$I$1:$CE$84,84,FALSE)","v":4},{"$f":"SUM(D10:L10)","v":37}]
[10,"Craig Calvert","Proper FC",{"$f":"HLOOKUP(B11,September!$I$1:$CE$80,80,FALSE)","v":2},{"$f":"HLOOKUP(B11,October!$I$1:$CE$86,86,FALSE)","v":3},{"$f":"HLOOKUP(B11,November!$I$1:$CE$88,88,FALSE)","v":5},{"$f":"HLOOKUP(B11,December!$I$1:$CE$109,109,FALSE)","v":8},{"$f":"HLOOKUP(B11,January!$I$1:$CE$80,80,FALSE)","v":4},{"$f":"HLOOKUP(B11,February!$I$1:$CE$82,82,FALSE)","v":8},{"$f":"HLOOKUP(B11,March!$I$1:$CE$63,63,FALSE)","v":3},{"$f":"HLOOKUP(B11,April!$I$1:$CE$69,69,FALSE)","v":3},{"$f":"HLOOKUP(B11,May!$I$1:$CE$84,84,FALSE)","v":1},{"$f":"SUM(D11:L11)","v":37}]
[11,"Bobby Hynes","Born To Run",{"$f":"HLOOKUP(B12,September!$I$1:$CE$80,80,FALSE)","v":1},{"$f":"HLOOKUP(B12,October!$I$1:$CE$86,86,FALSE)","v":3},{"$f":"HLOOKUP(B12,November!$I$1:$CE$88,88,FALSE)","v":2},{"$f":"HLOOKUP(B12,December!$I$1:$CE$109,109,FALSE)","v":10},{"$f":"HLOOKUP(B12,January!$I$1:$CE$80,80,FALSE)","v":3},{"$f":"HLOOKUP(B12,February!$I$1:$CE$82,82,FALSE)","v":9},{"$f":"HLOOKUP(B12,March!$I$1:$CE$63,63,FALSE)","v":2},{"$f":"HLOOKUP(B12,April!$I$1:$CE$69,69,FALSE)","v":4},{"$f":"HLOOKUP(B12,May!$I$1:$CE$84,84,FALSE)","v":2},{"$f":"SUM(D12:L12)","v":36}]
[12,"David Cooney","Frank's Silvalinings",{"$f":"HLOOKUP(B13,September!$I$1:$CE$80,80,FALSE)","v":1},{"$f":"HLOOKUP(B13,October!$I$1:$CE$86,86,FALSE)","v":2},{"$f":"HLOOKUP(B13,November!$I$1:$CE$88,88,FALSE)","v":1},{"$f":"HLOOKUP(B13,December!$I$1:$CE$109,109,FALSE)","v":8},{"$f":"HLOOKUP(B13,January!$I$1:$CE$80,80,FALSE)","v":3},{"$f":"HLOOKUP(B13,February!$I$1:$CE$82,82,FALSE)","v":7},{"$f":"HLOOKUP(B13,March!$I$1:$CE$63,63,FALSE)","v":2},{"$f":"HLOOKUP(B13,April!$I$1:$CE$69,69,FALSE)","v":7},{"$f":"HLOOKUP(B13,May!$I$1:$CE$84,84,FALSE)","v":5},{"$f":"SUM(D13:L13)","v":36}]
[13,"Eamon Fox","Goals Very Important In Life",{"$f":"HLOOKUP(B14,September!$I$1:$CE$80,80,FALSE)","v":1},{"$f":"HLOOKUP(B14,October!$I$1:$CE$86,86,FALSE)","v":2},{"$f":"HLOOKUP(B14,November!$I$1:$CE$88,88,FALSE)","v":4},{"$f":"HLOOKUP(B14,December!$I$1:$CE$109,109,FALSE)","v":6},{"$f":"HLOOKUP(B14,January!$I$1:$CE$80,80,FALSE)","v":3},{"$f":"HLOOKUP(B14,February!$I$1:$CE$82,82,FALSE)","v":9},{"$f":"HLOOKUP(B14,March!$I$1:$CE$63,63,FALSE)","v":3},{"$f":"HLOOKUP(B14,April!$I$1:$CE$69,69,FALSE)","v":5},{"$f":"HLOOKUP(B14,May!$I$1:$CE$84,84,FALSE)","v":3},{"$f":"SUM(D14:L14)","v":36}]
[14,"Paul Prendergast","The Untouchables",{"$f":"HLOOKUP(B15,September!$I$1:$CE$80,80,FALSE)","v":1},{"$f":"HLOOKUP(B15,October!$I$1:$CE$86,86,FALSE)","v":1},{"$f":"HLOOKUP(B15,November!$I$1:$CE$88,88,FALSE)","v":5},{"$f":"HLOOKUP(B15,December!$I$1:$CE$109,109,FALSE)","v":6},{"$f":"HLOOKUP(B15,January!$I$1:$CE$80,80,FALSE)","v":7},{"$f":"HLOOKUP(B15,February!$I$1:$CE$82,82,FALSE)","v":6},{"$f":"HLOOKUP(B15,March!$I$1:$CE$63,63,FALSE)","v":4},{"$f":"HLOOKUP(B15,April!$I$1:$CE$69,69,FALSE)","v":2},{"$f":"HLOOKUP(B15,May!$I$1:$CE$84,84,FALSE)","v":3},{"$f":"SUM(D15:L15)","v":35}]
[15,"Alan White","Al White XI",{"$f":"HLOOKUP(B16,September!$I$1:$CE$80,80,FALSE)","v":2},{"$f":"HLOOKUP(B16,October!$I$1:$CE$86,86,FALSE)","v":5},{"$f":"HLOOKUP(B16,November!$I$1:$CE$88,88,FALSE)","v":2},{"$f":"HLOOKUP(B16,December!$I$1:$CE$109,109,FALSE)","v":5},{"$f":"HLOOKUP(B16,January!$I$1:$CE$80,80,FALSE)","v":5},{"$f":"HLOOKUP(B16,February!$I$1:$CE$82,82,FALSE)","v":4},{"$f":"HLOOKUP(B16,March!$I$1:$CE$63,63,FALSE)","v":6},{"$f":"HLOOKUP(B16,April!$I$1:$CE$69,69,FALSE)","v":4},{"$f":"HLOOKUP(B16,May!$I$1:$CE$84,84,FALSE)","v":1},{"$f":"SUM(D16:L16)","v":34}]
[16,"Davy Doyle","FC Twente Benson",{"$f":"HLOOKUP(B17,September!$I$1:$CE$80,80,FALSE)","v":1},{"$f":"HLOOKUP(B17,October!$I$1:$CE$86,86,FALSE)","v":5},{"$f":"HLOOKUP(B17,November!$I$1:$CE$88,88,FALSE)","v":1},{"$f":"HLOOKUP(B17,December!$I$1:$CE$109,109,FALSE)","v":5},{"$f":"HLOOKUP(B17,January!$I$1:$CE$80,80,FALSE)","v":5},{"$f":"HLOOKUP(B17,February!$I$1:$CE$82,82,FALSE)","v":7},{"$f":"HLOOKUP(B17,March!$I$1:$CE$63,63,FALSE)","v":3},{"$f":"HLOOKUP(B17,April!$I$1:$CE$69,69,FALSE)","v":6},{"$f":"HLOOKUP(B17,May!$I$1:$CE$84,84,FALSE)","v":1},{"$f":"SUM(D17:L17)","v":34}]
[17,"Victoria Reid","Tristan's Titans",{"$f":"HLOOKUP(B18,September!$I$1:$CE$80,80,FALSE)","v":2},{"$f":"HLOOKUP(B18,October!$I$1:$CE$86,86,FALSE)","v":0},{"$f":"HLOOKUP(B18,November!$I$1:$CE$88,88,FALSE)","v":3},{"$f":"HLOOKUP(B18,December!$I$1:$CE$109,109,FALSE)","v":5},{"$f":"HLOOKUP(B18,January!$I$1:$CE$80,80,FALSE)","v":7},{"$f":"HLOOKUP(B18,February!$I$1:$CE$82,82,FALSE)","v":4},{"$f":"HLOOKUP(B18,March!$I$1:$CE$63,63,FALSE)","v":6},{"$f":"HLOOKUP(B18,April!$I$1:$CE$69,69,FALSE)","v":5},{"$f":"HLOOKUP(B18,May!$I$1:$CE$84,84,FALSE)","v":2},{"$f":"SUM(D18:L18)","v":34}]
[18,"Brendan Maguire","Cantthinkofone",{"$f":"HLOOKUP(B19,September!$I$1:$CE$80,80,FALSE)","v":1},{"$f":"HLOOKUP(B19,October!$I$1:$CE$86,86,FALSE)","v":4},{"$f":"HLOOKUP(B19,November!$I$1:$CE$88,88,FALSE)","v":4},{"$f":"HLOOKUP(B19,December!$I$1:$CE$109,109,FALSE)","v":5},{"$f":"HLOOKUP(B19,January!$I$1:$CE$80,80,FALSE)","v":3},{"$f":"HLOOKUP(B19,February!$I$1:$CE$82,82,FALSE)","v":8},{"$f":"HLOOKUP(B19,March!$I$1:$CE$63,63,FALSE)","v":4},{"$f":"HLOOKUP(B19,April!$I$1:$CE$69,69,FALSE)","v":3},{"$f":"HLOOKUP(B19,May!$I$1:$CE$84,84,FALSE)","v":1},{"$f":"SUM(D19:L19)","v":33}]
[19,"David McGinley","Reservoir Dubs",{"$f":"HLOOKUP(B20,September!$I$1:$CE$80,80,FALSE)","v":0},{"$f":"HLOOKUP(B20,October!$I$1:$CE$86,86,FALSE)","v":2},{"$f":"HLOOKUP(B20,November!$I$1:$CE$88,88,FALSE)","v":4},{"$f":"HLOOKUP(B20,December!$I$1:$CE$109,109,FALSE)","v":7},{"$f":"HLOOKUP(B20,January!$I$1:$CE$80,80,FALSE)","v":4},{"$f":"HLOOKUP(B20,February!$I$1:$CE$82,82,FALSE)","v":9},{"$f":"HLOOKUP(B20,March!$I$1:$CE$63,63,FALSE)","v":3},{"$f":"HLOOKUP(B20,April!$I$1:$CE$69,69,FALSE)","v":3},{"$f":"HLOOKUP(B20,May!$I$1:$CE$84,84,FALSE)","v":1},{"$f":"SUM(D20:L20)","v":33}]
[20,"Joe Turner","#blocklivesmatter",{"$f":"HLOOKUP(B21,September!$I$1:$CE$80,80,FALSE)","v":2},{"$f":"HLOOKUP(B21,October!$I$1:$CE$86,86,FALSE)","v":2},{"$f":"HLOOKUP(B21,November!$I$1:$CE$88,88,FALSE)","v":1},{"$f":"HLOOKUP(B21,December!$I$1:$CE$109,109,FALSE)","v":6},{"$f":"HLOOKUP(B21,January!$I$1:$CE$80,80,FALSE)","v":6},{"$f":"HLOOKUP(B21,February!$I$1:$CE$82,82,FALSE)","v":5},{"$f":"HLOOKUP(B21,March!$I$1:$CE$63,63,FALSE)","v":7},{"$f":"HLOOKUP(B21,April!$I$1:$CE$69,69,FALSE)","v":4},{"$f":"HLOOKUP(B21,May!$I$1:$CE$84,84,FALSE)","v":0},{"$f":"SUM(D21:L21)","v":33}]
[21,"Joseph Kavanagh","Joey's Invincibles",{"$f":"HLOOKUP(B22,September!$I$1:$CE$80,80,FALSE)","v":1},{"$f":"HLOOKUP(B22,October!$I$1:$CE$86,86,FALSE)","v":2},{"$f":"HLOOKUP(B22,November!$I$1:$CE$88,88,FALSE)","v":1},{"$f":"HLOOKUP(B22,December!$I$1:$CE$109,109,FALSE)","v":6},{"$f":"HLOOKUP(B22,January!$I$1:$CE$80,80,FALSE)","v":9},{"$f":"HLOOKUP(B22,February!$I$1:$CE$82,82,FALSE)","v":6},{"$f":"HLOOKUP(B22,March!$I$1:$CE$63,63,FALSE)","v":5},{"$f":"HLOOKUP(B22,April!$I$1:$CE$69,69,FALSE)","v":2},{"$f":"HLOOKUP(B22,May!$I$1:$CE$84,84,FALSE)","v":1},{"$f":"SUM(D22:L22)","v":33}]
[22,"Phil Doyle","FC Muertos Errantes",{"$f":"HLOOKUP(B23,September!$I$1:$CE$80,80,FALSE)","v":3},{"$f":"HLOOKUP(B23,October!$I$1:$CE$86,86,FALSE)","v":1},{"$f":"HLOOKUP(B23,November!$I$1:$CE$88,88,FALSE)","v":0},{"$f":"HLOOKUP(B23,December!$I$1:$CE$109,109,FALSE)","v":5},{"$f":"HLOOKUP(B23,January!$I$1:$CE$80,80,FALSE)","v":4},{"$f":"HLOOKUP(B23,February!$I$1:$CE$82,82,FALSE)","v":8},{"$f":"HLOOKUP(B23,March!$I$1:$CE$63,63,FALSE)","v":2},{"$f":"HLOOKUP(B23,April!$I$1:$CE$69,69,FALSE)","v":3},{"$f":"HLOOKUP(B23,May!$I$1:$CE$84,84,FALSE)","v":7},{"$f":"SUM(D23:L23)","v":33}]
[23,"Caroline Carroll","Prince",{"$f":"HLOOKUP(B24,September!$I$1:$CE$80,80,FALSE)","v":2},{"$f":"HLOOKUP(B24,October!$I$1:$CE$86,86,FALSE)","v":1},{"$f":"HLOOKUP(B24,November!$I$1:$CE$88,88,FALSE)","v":4},{"$f":"HLOOKUP(B24,December!$I$1:$CE$109,109,FALSE)","v":7},{"$f":"HLOOKUP(B24,January!$I$1:$CE$80,80,FALSE)","v":7},{"$f":"HLOOKUP(B24,February!$I$1:$CE$82,82,FALSE)","v":3},{"$f":"HLOOKUP(B24,March!$I$1:$CE$63,63,FALSE)","v":5},{"$f":"HLOOKUP(B24,April!$I$1:$CE$69,69,FALSE)","v":1},{"$f":"HLOOKUP(B24,May!$I$1:$CE$84,84,FALSE)","v":2},{"$f":"SUM(D24:L24)","v":32}]
[24,"Robert Manley","Alisson Wonderland",{"$f":"HLOOKUP(B25,September!$I$1:$CE$80,80,FALSE)","v":0},{"$f":"HLOOKUP(B25,October!$I$1:$CE$86,86,FALSE)","v":2},{"$f":"HLOOKUP(B25,November!$I$1:$CE$88,88,FALSE)","v":5},{"$f":"HLOOKUP(B25,December!$I$1:$CE$109,109,FALSE)","v":4},{"$f":"HLOOKUP(B25,January!$I$1:$CE$80,80,FALSE)","v":4},{"$f":"HLOOKUP(B25,February!$I$1:$CE$82,82,FALSE)","v":8},{"$f":"HLOOKUP(B25,March!$I$1:$CE$63,63,FALSE)","v":5},{"$f":"HLOOKUP(B25,April!$I$1:$CE$69,69,FALSE)","v":2},{"$f":"HLOOKUP(B25,May!$I$1:$CE$84,84,FALSE)","v":2},{"$f":"SUM(D25:L25)","v":32}]
[25,"Anastas Popov","Strong Saints",{"$f":"HLOOKUP(B26,September!$I$1:$CE$80,80,FALSE)","v":2},{"$f":"HLOOKUP(B26,October!$I$1:$CE$86,86,FALSE)","v":3},{"$f":"HLOOKUP(B26,November!$I$1:$CE$88,88,FALSE)","v":2},{"$f":"HLOOKUP(B26,December!$I$1:$CE$109,109,FALSE)","v":5},{"$f":"HLOOKUP(B26,January!$I$1:$CE$80,80,FALSE)","v":3},{"$f":"HLOOKUP(B26,February!$I$1:$CE$82,82,FALSE)","v":7},{"$f":"HLOOKUP(B26,March!$I$1:$CE$63,63,FALSE)","v":3},{"$f":"HLOOKUP(B26,April!$I$1:$CE$69,69,FALSE)","v":2},{"$f":"HLOOKUP(B26,May!$I$1:$CE$84,84,FALSE)","v":4},{"$f":"SUM(D26:L26)","v":31}]
[26,"Derek Brady","Liverpool",{"$f":"HLOOKUP(B27,September!$I$1:$CE$80,80,FALSE)","v":4},{"$f":"HLOOKUP(B27,October!$I$1:$CE$86,86,FALSE)","v":2},{"$f":"HLOOKUP(B27,November!$I$1:$CE$88,88,FALSE)","v":5},{"$f":"HLOOKUP(B27,December!$I$1:$CE$109,109,FALSE)","v":4},{"$f":"HLOOKUP(B27,January!$I$1:$CE$80,80,FALSE)","v":6},{"$f":"HLOOKUP(B27,February!$I$1:$CE$82,82,FALSE)","v":3},{"$f":"HLOOKUP(B27,March!$I$1:$CE$63,63,FALSE)","v":3},{"$f":"HLOOKUP(B27,April!$I$1:$CE$69,69,FALSE)","v":2},{"$f":"HLOOKUP(B27,May!$I$1:$CE$84,84,FALSE)","v":2},{"$f":"SUM(D27:L27)","v":31}]
[27,"Gavin Morgan","Bristol Fashion",{"$f":"HLOOKUP(B28,September!$I$1:$CE$80,80,FALSE)","v":1},{"$f":"HLOOKUP(B28,October!$I$1:$CE$86,86,FALSE)","v":2},{"$f":"HLOOKUP(B28,November!$I$1:$CE$88,88,FALSE)","v":4},{"$f":"HLOOKUP(B28,December!$I$1:$CE$109,109,FALSE)","v":2},{"$f":"HLOOKUP(B28,January!$I$1:$CE$80,80,FALSE)","v":8},{"$f":"HLOOKUP(B28,February!$I$1:$CE$82,82,FALSE)","v":7},{"$f":"HLOOKUP(B28,March!$I$1:$CE$63,63,FALSE)","v":4},{"$f":"HLOOKUP(B28,April!$I$1:$CE$69,69,FALSE)","v":1},{"$f":"HLOOKUP(B28,May!$I$1:$CE$84,84,FALSE)","v":2},{"$f":"SUM(D28:L28)","v":31}]
[28,"Con McSweeney","Dowtcha_Boys",{"$f":"HLOOKUP(B29,September!$I$1:$CE$80,80,FALSE)","v":2},{"$f":"HLOOKUP(B29,October!$I$1:$CE$86,86,FALSE)","v":1},{"$f":"HLOOKUP(B29,November!$I$1:$CE$88,88,FALSE)","v":1},{"$f":"HLOOKUP(B29,December!$I$1:$CE$109,109,FALSE)","v":4},{"$f":"HLOOKUP(B29,January!$I$1:$CE$80,80,FALSE)","v":6},{"$f":"HLOOKUP(B29,February!$I$1:$CE$82,82,FALSE)","v":7},{"$f":"HLOOKUP(B29,March!$I$1:$CE$63,63,FALSE)","v":4},{"$f":"HLOOKUP(B29,April!$I$1:$CE$69,69,FALSE)","v":1},{"$f":"HLOOKUP(B29,May!$I$1:$CE$84,84,FALSE)","v":4},{"$f":"SUM(D29:L29)","v":30}]
[29,"Kris Stainton","Da Love Be Beek",{"$f":"HLOOKUP(B30,September!$I$1:$CE$80,80,FALSE)","v":1},{"$f":"HLOOKUP(B30,October!$I$1:$CE$86,86,FALSE)","v":3},{"$f":"HLOOKUP(B30,November!$I$1:$CE$88,88,FALSE)","v":1},{"$f":"HLOOKUP(B30,December!$I$1:$CE$109,109,FALSE)","v":5},{"$f":"HLOOKUP(B30,January!$I$1:$CE$80,80,FALSE)","v":3},{"$f":"HLOOKUP(B30,February!$I$1:$CE$82,82,FALSE)","v":8},{"$f":"HLOOKUP(B30,March!$I$1:$CE$63,63,FALSE)","v":3},{"$f":"HLOOKUP(B30,April!$I$1:$CE$69,69,FALSE)","v":5},{"$f":"HLOOKUP(B30,May!$I$1:$CE$84,84,FALSE)","v":1},{"$f":"SUM(D30:L30)","v":30}]
[30,"Andy Dunne","Peter Crouch Rangers",{"$f":"HLOOKUP(B31,September!$I$1:$CE$80,80,FALSE)","v":0},{"$f":"HLOOKUP(B31,October!$I$1:$CE$86,86,FALSE)","v":2},{"$f":"HLOOKUP(B31,November!$I$1:$CE$88,88,FALSE)","v":1},{"$f":"HLOOKUP(B31,December!$I$1:$CE$109,109,FALSE)","v":6},{"$f":"HLOOKUP(B31,January!$I$1:$CE$80,80,FALSE)","v":6},{"$f":"HLOOKUP(B31,February!$I$1:$CE$82,82,FALSE)","v":4},{"$f":"HLOOKUP(B31,March!$I$1:$CE$63,63,FALSE)","v":6},{"$f":"HLOOKUP(B31,April!$I$1:$CE$69,69,FALSE)","v":2},{"$f":"HLOOKUP(B31,May!$I$1:$CE$84,84,FALSE)","v":2},{"$f":"SUM(D31:L31)","v":29}]
[31,"Eoghan Farrelly","Last Chance Saloon",{"$f":"HLOOKUP(B32,September!$I$1:$CE$80,80,FALSE)","v":2},{"$f":"HLOOKUP(B32,October!$I$1:$CE$86,86,FALSE)","v":1},{"$f":"HLOOKUP(B32,November!$I$1:$CE$88,88,FALSE)","v":2},{"$f":"HLOOKUP(B32,December!$I$1:$CE$109,109,FALSE)","v":4},{"$f":"HLOOKUP(B32,January!$I$1:$CE$80,80,FALSE)","v":7},{"$f":"HLOOKUP(B32,February!$I$1:$CE$82,82,FALSE)","v":4},{"$f":"HLOOKUP(B32,March!$I$1:$CE$63,63,FALSE)","v":2},{"$f":"HLOOKUP(B32,April!$I$1:$CE$69,69,FALSE)","v":3},{"$f":"HLOOKUP(B32,May!$I$1:$CE$84,84,FALSE)","v":4},{"$f":"SUM(D32:L32)","v":29}]
[32,"Gerard McCluskey","Breffni Blues",{"$f":"HLOOKUP(B33,September!$I$1:$CE$80,80,FALSE)","v":1},{"$f":"HLOOKUP(B33,October!$I$1:$CE$86,86,FALSE)","v":1},{"$f":"HLOOKUP(B33,November!$I$1:$CE$88,88,FALSE)","v":3},{"$f":"HLOOKUP(B33,December!$I$1:$CE$109,109,FALSE)","v":6},{"$f":"HLOOKUP(B33,January!$I$1:$CE$80,80,FALSE)","v":3},{"$f":"HLOOKUP(B33,February!$I$1:$CE$82,82,FALSE)","v":5},{"$f":"HLOOKUP(B33,March!$I$1:$CE$63,63,FALSE)","v":6},{"$f":"HLOOKUP(B33,April!$I$1:$CE$69,69,FALSE)","v":4},{"$f":"HLOOKUP(B33,May!$I$1:$CE$84,84,FALSE)","v":0},{"$f":"SUM(D33:L33)","v":29}]
[33,"Gerry Draper","Everton10",{"$f":"HLOOKUP(B34,September!$I$1:$CE$80,80,FALSE)","v":0},{"$f":"HLOOKUP(B34,October!$I$1:$CE$86,86,FALSE)","v":1},{"$f":"HLOOKUP(B34,November!$I$1:$CE$88,88,FALSE)","v":2},{"$f":"HLOOKUP(B34,December!$I$1:$CE$109,109,FALSE)","v":3},{"$f":"HLOOKUP(B34,January!$I$1:$CE$80,80,FALSE)","v":8},{"$f":"HLOOKUP(B34,February!$I$1:$CE$82,82,FALSE)","v":6},{"$f":"HLOOKUP(B34,March!$I$1:$CE$63,63,FALSE)","v":3},{"$f":"HLOOKUP(B34,April!$I$1:$CE$69,69,FALSE)","v":3},{"$f":"HLOOKUP(B34,May!$I$1:$CE$84,84,FALSE)","v":3},{"$f":"SUM(D34:L34)","v":29}]
[34,"Graham Goodwin","2021 Pls",{"$f":"HLOOKUP(B35,September!$I$1:$CE$80,80,FALSE)","v":1},{"$f":"HLOOKUP(B35,October!$I$1:$CE$86,86,FALSE)","v":2},{"$f":"HLOOKUP(B35,November!$I$1:$CE$88,88,FALSE)","v":8},{"$f":"HLOOKUP(B35,December!$I$1:$CE$109,109,FALSE)","v":5},{"$f":"HLOOKUP(B35,January!$I$1:$CE$80,80,FALSE)","v":4},{"$f":"HLOOKUP(B35,February!$I$1:$CE$82,82,FALSE)","v":5},{"$f":"HLOOKUP(B35,March!$I$1:$CE$63,63,FALSE)","v":3},{"$f":"HLOOKUP(B35,April!$I$1:$CE$69,69,FALSE)","v":0},{"$f":"HLOOKUP(B35,May!$I$1:$CE$84,84,FALSE)","v":1},{"$f":"SUM(D35:L35)","v":29}]
[35,"Kevin Philpott","Phillys Phylers",{"$f":"HLOOKUP(B36,September!$I$1:$CE$80,80,FALSE)","v":1},{"$f":"HLOOKUP(B36,October!$I$1:$CE$86,86,FALSE)","v":3},{"$f":"HLOOKUP(B36,November!$I$1:$CE$88,88,FALSE)","v":1},{"$f":"HLOOKUP(B36,December!$I$1:$CE$109,109,FALSE)","v":3},{"$f":"HLOOKUP(B36,January!$I$1:$CE$80,80,FALSE)","v":5},{"$f":"HLOOKUP(B36,February!$I$1:$CE$82,82,FALSE)","v":4},{"$f":"HLOOKUP(B36,March!$I$1:$CE$63,63,FALSE)","v":1},{"$f":"HLOOKUP(B36,April!$I$1:$CE$69,69,FALSE)","v":5},{"$f":"HLOOKUP(B36,May!$I$1:$CE$84,84,FALSE)","v":6},{"$f":"SUM(D36:L36)","v":29}]
[36,"Niall Carroll",19,{"$f":"HLOOKUP(B37,September!$I$1:$CE$80,80,FALSE)","v":3},{"$f":"HLOOKUP(B37,October!$I$1:$CE$86,86,FALSE)","v":2},{"$f":"HLOOKUP(B37,November!$I$1:$CE$88,88,FALSE)","v":4},{"$f":"HLOOKUP(B37,December!$I$1:$CE$109,109,FALSE)","v":4},{"$f":"HLOOKUP(B37,January!$I$1:$CE$80,80,FALSE)","v":5},{"$f":"HLOOKUP(B37,February!$I$1:$CE$82,82,FALSE)","v":4},{"$f":"HLOOKUP(B37,March!$I$1:$CE$63,63,FALSE)","v":3},{"$f":"HLOOKUP(B37,April!$I$1:$CE$69,69,FALSE)","v":4},{"$f":"HLOOKUP(B37,May!$I$1:$CE$84,84,FALSE)","v":0},{"$f":"SUM(D37:L37)","v":29}]
[37,"Sean O'Mairtin","Creweless",{"$f":"HLOOKUP(B38,September!$I$1:$CE$80,80,FALSE)","v":3},{"$f":"HLOOKUP(B38,October!$I$1:$CE$86,86,FALSE)","v":2},{"$f":"HLOOKUP(B38,November!$I$1:$CE$88,88,FALSE)","v":2},{"$f":"HLOOKUP(B38,December!$I$1:$CE$109,109,FALSE)","v":5},{"$f":"HLOOKUP(B38,January!$I$1:$CE$80,80,FALSE)","v":3},{"$f":"HLOOKUP(B38,February!$I$1:$CE$82,82,FALSE)","v":4},{"$f":"HLOOKUP(B38,March!$I$1:$CE$63,63,FALSE)","v":6},{"$f":"HLOOKUP(B38,April!$I$1:$CE$69,69,FALSE)","v":1},{"$f":"HLOOKUP(B38,May!$I$1:$CE$84,84,FALSE)","v":3},{"$f":"SUM(D38:L38)","v":29}]
[38,"Ciaran Nelson","Nelson Utd",{"$f":"HLOOKUP(B39,September!$I$1:$CE$80,80,FALSE)","v":0},{"$f":"HLOOKUP(B39,October!$I$1:$CE$86,86,FALSE)","v":4},{"$f":"HLOOKUP(B39,November!$I$1:$CE$88,88,FALSE)","v":0},{"$f":"HLOOKUP(B39,December!$I$1:$CE$109,109,FALSE)","v":4},{"$f":"HLOOKUP(B39,January!$I$1:$CE$80,80,FALSE)","v":4},{"$f":"HLOOKUP(B39,February!$I$1:$CE$82,82,FALSE)","v":6},{"$f":"HLOOKUP(B39,March!$I$1:$CE$63,63,FALSE)","v":2},{"$f":"HLOOKUP(B39,April!$I$1:$CE$69,69,FALSE)","v":4},{"$f":"HLOOKUP(B39,May!$I$1:$CE$84,84,FALSE)","v":4},{"$f":"SUM(D39:L39)","v":28}]
[39,"Dean White","Armchair 11",{"$f":"HLOOKUP(B40,September!$I$1:$CE$80,80,FALSE)","v":2},{"$f":"HLOOKUP(B40,October!$I$1:$CE$86,86,FALSE)","v":3},{"$f":"HLOOKUP(B40,November!$I$1:$CE$88,88,FALSE)","v":1},{"$f":"HLOOKUP(B40,December!$I$1:$CE$109,109,FALSE)","v":6},{"$f":"HLOOKUP(B40,January!$I$1:$CE$80,80,FALSE)","v":5},{"$f":"HLOOKUP(B40,February!$I$1:$CE$82,82,FALSE)","v":6},{"$f":"HLOOKUP(B40,March!$I$1:$CE$63,63,FALSE)","v":2},{"$f":"HLOOKUP(B40,April!$I$1:$CE$69,69,FALSE)","v":3},{"$f":"HLOOKUP(B40,May!$I$1:$CE$84,84,FALSE)","v":0},{"$f":"SUM(D40:L40)","v":28}]
[40,"Gary Fitzpatrick","Timo Werner Is A Hurensohn",{"$f":"HLOOKUP(B41,September!$I$1:$CE$80,80,FALSE)","v":1},{"$f":"HLOOKUP(B41,October!$I$1:$CE$86,86,FALSE)","v":3},{"$f":"HLOOKUP(B41,November!$I$1:$CE$88,88,FALSE)","v":2},{"$f":"HLOOKUP(B41,December!$I$1:$CE$109,109,FALSE)","v":6},{"$f":"HLOOKUP(B41,January!$I$1:$CE$80,80,FALSE)","v":4},{"$f":"HLOOKUP(B41,February!$I$1:$CE$82,82,FALSE)","v":7},{"$f":"HLOOKUP(B41,March!$I$1:$CE$63,63,FALSE)","v":2},{"$f":"HLOOKUP(B41,April!$I$1:$CE$69,69,FALSE)","v":1},{"$f":"HLOOKUP(B41,May!$I$1:$CE$84,84,FALSE)","v":2},{"$f":"SUM(D41:L41)","v":28}]
[41,"Micheal Joyce","Pure Whites",{"$f":"HLOOKUP(B42,September!$I$1:$CE$80,80,FALSE)","v":2},{"$f":"HLOOKUP(B42,October!$I$1:$CE$86,86,FALSE)","v":2},{"$f":"HLOOKUP(B42,November!$I$1:$CE$88,88,FALSE)","v":0},{"$f":"HLOOKUP(B42,December!$I$1:$CE$109,109,FALSE)","v":10},{"$f":"HLOOKUP(B42,January!$I$1:$CE$80,80,FALSE)","v":3},{"$f":"HLOOKUP(B42,February!$I$1:$CE$82,82,FALSE)","v":4},{"$f":"HLOOKUP(B42,March!$I$1:$CE$63,63,FALSE)","v":2},{"$f":"HLOOKUP(B42,April!$I$1:$CE$69,69,FALSE)","v":3},{"$f":"HLOOKUP(B42,May!$I$1:$CE$84,84,FALSE)","v":2},{"$f":"SUM(D42:L42)","v":28}]
[42,"Niall Murray","Book Ake",{"$f":"HLOOKUP(B43,September!$I$1:$CE$80,80,FALSE)","v":1},{"$f":"HLOOKUP(B43,October!$I$1:$CE$86,86,FALSE)","v":3},{"$f":"HLOOKUP(B43,November!$I$1:$CE$88,88,FALSE)","v":1},{"$f":"HLOOKUP(B43,December!$I$1:$CE$109,109,FALSE)","v":4},{"$f":"HLOOKUP(B43,January!$I$1:$CE$80,80,FALSE)","v":3},{"$f":"HLOOKUP(B43,February!$I$1:$CE$82,82,FALSE)","v":7},{"$f":"HLOOKUP(B43,March!$I$1:$CE$63,63,FALSE)","v":3},{"$f":"HLOOKUP(B43,April!$I$1:$CE$69,69,FALSE)","v":6},{"$f":"HLOOKUP(B43,May!$I$1:$CE$84,84,FALSE)","v":0},{"$f":"SUM(D43:L43)","v":28}]
[43,"Ralph Goodwin","Sky Blue Champions",{"$f":"HLOOKUP(B44,September!$I$1:$CE$80,80,FALSE)","v":0},{"$f":"HLOOKUP(B44,October!$I$1:$CE$86,86,FALSE)","v":1},{"$f":"HLOOKUP(B44,November!$I$1:$CE$88,88,FALSE)","v":5},{"$f":"HLOOKUP(B44,December!$I$1:$CE$109,109,FALSE)","v":6},{"$f":"HLOOKUP(B44,January!$I$1:$CE$80,80,FALSE)","v":5},{"$f":"HLOOKUP(B44,February!$I$1:$CE$82,82,FALSE)","v":4},{"$f":"HLOOKUP(B44,March!$I$1:$CE$63,63,FALSE)","v":5},{"$f":"HLOOKUP(B44,April!$I$1:$CE$69,69,FALSE)","v":2},{"$f":"HLOOKUP(B44,May!$I$1:$CE$84,84,FALSE)","v":0},{"$f":"SUM(D44:L44)","v":28}]
[44,"Brian Prendergast","Mista Dobalina",{"$f":"HLOOKUP(B45,September!$I$1:$CE$80,80,FALSE)","v":2},{"$f":"HLOOKUP(B45,October!$I$1:$CE$86,86,FALSE)","v":2},{"$f":"HLOOKUP(B45,November!$I$1:$CE$88,88,FALSE)","v":0},{"$f":"HLOOKUP(B45,December!$I$1:$CE$109,109,FALSE)","v":9},{"$f":"HLOOKUP(B45,January!$I$1:$CE$80,80,FALSE)","v":3},{"$f":"HLOOKUP(B45,February!$I$1:$CE$82,82,FALSE)","v":7},{"$f":"HLOOKUP(B45,March!$I$1:$CE$63,63,FALSE)","v":3},{"$f":"HLOOKUP(B45,April!$I$1:$CE$69,69,FALSE)","v":1},{"$f":"HLOOKUP(B45,May!$I$1:$CE$84,84,FALSE)","v":0},{"$f":"SUM(D45:L45)","v":27}]
[45,"Darragh Kenny","The Sporting Wing",{"$f":"HLOOKUP(B46,September!$I$1:$CE$80,80,FALSE)","v":1},{"$f":"HLOOKUP(B46,October!$I$1:$CE$86,86,FALSE)","v":1},{"$f":"HLOOKUP(B46,November!$I$1:$CE$88,88,FALSE)","v":4},{"$f":"HLOOKUP(B46,December!$I$1:$CE$109,109,FALSE)","v":3},{"$f":"HLOOKUP(B46,January!$I$1:$CE$80,80,FALSE)","v":5},{"$f":"HLOOKUP(B46,February!$I$1:$CE$82,82,FALSE)","v":8},{"$f":"HLOOKUP(B46,March!$I$1:$CE$63,63,FALSE)","v":1},{"$f":"HLOOKUP(B46,April!$I$1:$CE$69,69,FALSE)","v":1},{"$f":"HLOOKUP(B46,May!$I$1:$CE$84,84,FALSE)","v":3},{"$f":"SUM(D46:L46)","v":27}]
[46,"Gary McGurk","This Is Our Year",{"$f":"HLOOKUP(B47,September!$I$1:$CE$80,80,FALSE)","v":5},{"$f":"HLOOKUP(B47,October!$I$1:$CE$86,86,FALSE)","v":1},{"$f":"HLOOKUP(B47,November!$I$1:$CE$88,88,FALSE)","v":2},{"$f":"HLOOKUP(B47,December!$I$1:$CE$109,109,FALSE)","v":5},{"$f":"HLOOKUP(B47,January!$I$1:$CE$80,80,FALSE)","v":5},{"$f":"HLOOKUP(B47,February!$I$1:$CE$82,82,FALSE)","v":1},{"$f":"HLOOKUP(B47,March!$I$1:$CE$63,63,FALSE)","v":3},{"$f":"HLOOKUP(B47,April!$I$1:$CE$69,69,FALSE)","v":2},{"$f":"HLOOKUP(B47,May!$I$1:$CE$84,84,FALSE)","v":3},{"$f":"SUM(D47:L47)","v":27}]
[47,"Paul Moore","Bobby Dazzler",{"$f":"HLOOKUP(B48,September!$I$1:$CE$80,80,FALSE)","v":3},{"$f":"HLOOKUP(B48,October!$I$1:$CE$86,86,FALSE)","v":1},{"$f":"HLOOKUP(B48,November!$I$1:$CE$88,88,FALSE)","v":4},{"$f":"HLOOKUP(B48,December!$I$1:$CE$109,109,FALSE)","v":7},{"$f":"HLOOKUP(B48,January!$I$1:$CE$80,80,FALSE)","v":4},{"$f":"HLOOKUP(B48,February!$I$1:$CE$82,82,FALSE)","v":1},{"$f":"HLOOKUP(B48,March!$I$1:$CE$63,63,FALSE)","v":4},{"$f":"HLOOKUP(B48,April!$I$1:$CE$69,69,FALSE)","v":1},{"$f":"HLOOKUP(B48,May!$I$1:$CE$84,84,FALSE)","v":2},{"$f":"SUM(D48:L48)","v":27}]
[48,"Robert Hynes","Charlton",{"$f":"HLOOKUP(B49,September!$I$1:$CE$80,80,FALSE)","v":2},{"$f":"HLOOKUP(B49,October!$I$1:$CE$86,86,FALSE)","v":2},{"$f":"HLOOKUP(B49,November!$I$1:$CE$88,88,FALSE)","v":2},{"$f":"HLOOKUP(B49,December!$I$1:$CE$109,109,FALSE)","v":6},{"$f":"HLOOKUP(B49,January!$I$1:$CE$80,80,FALSE)","v":3},{"$f":"HLOOKUP(B49,February!$I$1:$CE$82,82,FALSE)","v":4},{"$f":"HLOOKUP(B49,March!$I$1:$CE$63,63,FALSE)","v":2},{"$f":"HLOOKUP(B49,April!$I$1:$CE$69,69,FALSE)","v":2},{"$f":"HLOOKUP(B49,May!$I$1:$CE$84,84,FALSE)","v":4},{"$f":"SUM(D49:L49)","v":27}]
[49,"Brian Haughton","Klopp's Achievers",{"$f":"HLOOKUP(B50,September!$I$1:$CE$80,80,FALSE)","v":2},{"$f":"HLOOKUP(B50,October!$I$1:$CE$86,86,FALSE)","v":1},{"$f":"HLOOKUP(B50,November!$I$1:$CE$88,88,FALSE)","v":5},{"$f":"HLOOKUP(B50,December!$I$1:$CE$109,109,FALSE)","v":6},{"$f":"HLOOKUP(B50,January!$I$1:$CE$80,80,FALSE)","v":4},{"$f":"HLOOKUP(B50,February!$I$1:$CE$82,82,FALSE)","v":6},{"$f":"HLOOKUP(B50,March!$I$1:$CE$63,63,FALSE)","v":1},{"$f":"HLOOKUP(B50,April!$I$1:$CE$69,69,FALSE)","v":1},{"$f":"HLOOKUP(B50,May!$I$1:$CE$84,84,FALSE)","v":0},{"$f":"SUM(D50:L50)","v":26}]
[50,"Kev Dalton","Show Me De Mane",{"$f":"HLOOKUP(B51,September!$I$1:$CE$80,80,FALSE)","v":1},{"$f":"HLOOKUP(B51,October!$I$1:$CE$86,86,FALSE)","v":3},{"$f":"HLOOKUP(B51,November!$I$1:$CE$88,88,FALSE)","v":2},{"$f":"HLOOKUP(B51,December!$I$1:$CE$109,109,FALSE)","v":5},{"$f":"HLOOKUP(B51,January!$I$1:$CE$80,80,FALSE)","v":4},{"$f":"HLOOKUP(B51,February!$I$1:$CE$82,82,FALSE)","v":4},{"$f":"HLOOKUP(B51,March!$I$1:$CE$63,63,FALSE)","v":4},{"$f":"HLOOKUP(B51,April!$I$1:$CE$69,69,FALSE)","v":2},{"$f":"HLOOKUP(B51,May!$I$1:$CE$84,84,FALSE)","v":1},{"$f":"SUM(D51:L51)","v":26}]
[51,"Philip Jordan","Frankie's Army",{"$f":"HLOOKUP(B52,September!$I$1:$CE$80,80,FALSE)","v":0},{"$f":"HLOOKUP(B52,October!$I$1:$CE$86,86,FALSE)","v":2},{"$f":"HLOOKUP(B52,November!$I$1:$CE$88,88,FALSE)","v":1},{"$f":"HLOOKUP(B52,December!$I$1:$CE$109,109,FALSE)","v":3},{"$f":"HLOOKUP(B52,January!$I$1:$CE$80,80,FALSE)","v":4},{"$f":"HLOOKUP(B52,February!$I$1:$CE$82,82,FALSE)","v":8},{"$f":"HLOOKUP(B52,March!$I$1:$CE$63,63,FALSE)","v":2},{"$f":"HLOOKUP(B52,April!$I$1:$CE$69,69,FALSE)","v":2},{"$f":"HLOOKUP(B52,May!$I$1:$CE$84,84,FALSE)","v":4},{"$f":"SUM(D52:L52)","v":26}]
[52,"Fiachra O'Brolachain","Tallacticos",{"$f":"HLOOKUP(B53,September!$I$1:$CE$80,80,FALSE)","v":1},{"$f":"HLOOKUP(B53,October!$I$1:$CE$86,86,FALSE)","v":5},{"$f":"HLOOKUP(B53,November!$I$1:$CE$88,88,FALSE)","v":4},{"$f":"HLOOKUP(B53,December!$I$1:$CE$109,109,FALSE)","v":6},{"$f":"HLOOKUP(B53,January!$I$1:$CE$80,80,FALSE)","v":2},{"$f":"HLOOKUP(B53,February!$I$1:$CE$82,82,FALSE)","v":4},{"$f":"HLOOKUP(B53,March!$I$1:$CE$63,63,FALSE)","v":0},{"$f":"HLOOKUP(B53,April!$I$1:$CE$69,69,FALSE)","v":3},{"$f":"HLOOKUP(B53,May!$I$1:$CE$84,84,FALSE)","v":0},{"$f":"SUM(D53:L53)","v":25}]
[53,"Liam Geraghty","Is There Any Hope?",{"$f":"HLOOKUP(B54,September!$I$1:$CE$80,80,FALSE)","v":1},{"$f":"HLOOKUP(B54,October!$I$1:$CE$86,86,FALSE)","v":4},{"$f":"HLOOKUP(B54,November!$I$1:$CE$88,88,FALSE)","v":1},{"$f":"HLOOKUP(B54,December!$I$1:$CE$109,109,FALSE)","v":4},{"$f":"HLOOKUP(B54,January!$I$1:$CE$80,80,FALSE)","v":6},{"$f":"HLOOKUP(B54,February!$I$1:$CE$82,82,FALSE)","v":5},{"$f":"HLOOKUP(B54,March!$I$1:$CE$63,63,FALSE)","v":2},{"$f":"HLOOKUP(B54,April!$I$1:$CE$69,69,FALSE)","v":1},{"$f":"HLOOKUP(B54,May!$I$1:$CE$84,84,FALSE)","v":1},{"$f":"SUM(D54:L54)","v":25}]
[54,"Liam Keohan","Invincibles",{"$f":"HLOOKUP(B55,September!$I$1:$CE$80,80,FALSE)","v":2},{"$f":"HLOOKUP(B55,October!$I$1:$CE$86,86,FALSE)","v":3},{"$f":"HLOOKUP(B55,November!$I$1:$CE$88,88,FALSE)","v":1},{"$f":"HLOOKUP(B55,December!$I$1:$CE$109,109,FALSE)","v":2},{"$f":"HLOOKUP(B55,January!$I$1:$CE$80,80,FALSE)","v":4},{"$f":"HLOOKUP(B55,February!$I$1:$CE$82,82,FALSE)","v":4},{"$f":"HLOOKUP(B55,March!$I$1:$CE$63,63,FALSE)","v":2},{"$f":"HLOOKUP(B55,April!$I$1:$CE$69,69,FALSE)","v":3},{"$f":"HLOOKUP(B55,May!$I$1:$CE$84,84,FALSE)","v":4},{"$f":"SUM(D55:L55)","v":25}]
[55,"Niall Cannon","TAA Very Much",{"$f":"HLOOKUP(B56,September!$I$1:$CE$80,80,FALSE)","v":4},{"$f":"HLOOKUP(B56,October!$I$1:$CE$86,86,FALSE)","v":2},{"$f":"HLOOKUP(B56,November!$I$1:$CE$88,88,FALSE)","v":3},{"$f":"HLOOKUP(B56,December!$I$1:$CE$109,109,FALSE)","v":8},{"$f":"HLOOKUP(B56,January!$I$1:$CE$80,80,FALSE)","v":5},{"$f":"HLOOKUP(B56,February!$I$1:$CE$82,82,FALSE)","v":2},{"$f":"HLOOKUP(B56,March!$I$1:$CE$63,63,FALSE)","v":1},{"$f":"HLOOKUP(B56,April!$I$1:$CE$69,69,FALSE)","v":0},{"$f":"HLOOKUP(B56,May!$I$1:$CE$84,84,FALSE)","v":0},{"$f":"SUM(D56:L56)","v":25}]
[56,"Brian Mullen","Mothers Milk",{"$f":"HLOOKUP(B57,September!$I$1:$CE$80,80,FALSE)","v":0},{"$f":"HLOOKUP(B57,October!$I$1:$CE$86,86,FALSE)","v":1},{"$f":"HLOOKUP(B57,November!$I$1:$CE$88,88,FALSE)","v":3},{"$f":"HLOOKUP(B57,December!$I$1:$CE$109,109,FALSE)","v":4},{"$f":"HLOOKUP(B57,January!$I$1:$CE$80,80,FALSE)","v":3},{"$f":"HLOOKUP(B57,February!$I$1:$CE$82,82,FALSE)","v":5},{"$f":"HLOOKUP(B57,March!$I$1:$CE$63,63,FALSE)","v":4},{"$f":"HLOOKUP(B57,April!$I$1:$CE$69,69,FALSE)","v":2},{"$f":"HLOOKUP(B57,May!$I$1:$CE$84,84,FALSE)","v":2},{"$f":"SUM(D57:L57)","v":24}]
[57,"Christina Morgan","Return of the Red Dwarf",{"$f":"HLOOKUP(B58,September!$I$1:$CE$80,80,FALSE)","v":2},{"$f":"HLOOKUP(B58,October!$I$1:$CE$86,86,FALSE)","v":2},{"$f":"HLOOKUP(B58,November!$I$1:$CE$88,88,FALSE)","v":4},{"$f":"HLOOKUP(B58,December!$I$1:$CE$109,109,FALSE)","v":6},{"$f":"HLOOKUP(B58,January!$I$1:$CE$80,80,FALSE)","v":2},{"$f":"HLOOKUP(B58,February!$I$1:$CE$82,82,FALSE)","v":4},{"$f":"HLOOKUP(B58,March!$I$1:$CE$63,63,FALSE)","v":2},{"$f":"HLOOKUP(B58,April!$I$1:$CE$69,69,FALSE)","v":0},{"$f":"HLOOKUP(B58,May!$I$1:$CE$84,84,FALSE)","v":2},{"$f":"SUM(D58:L58)","v":24}]
[58,"Gareth Pierpoint","Alisson Wonderland",{"$f":"HLOOKUP(B59,September!$I$1:$CE$80,80,FALSE)","v":0},{"$f":"HLOOKUP(B59,October!$I$1:$CE$86,86,FALSE)","v":1},{"$f":"HLOOKUP(B59,November!$I$1:$CE$88,88,FALSE)","v":1},{"$f":"HLOOKUP(B59,December!$I$1:$CE$109,109,FALSE)","v":7},{"$f":"HLOOKUP(B59,January!$I$1:$CE$80,80,FALSE)","v":5},{"$f":"HLOOKUP(B59,February!$I$1:$CE$82,82,FALSE)","v":4},{"$f":"HLOOKUP(B59,March!$I$1:$CE$63,63,FALSE)","v":4},{"$f":"HLOOKUP(B59,April!$I$1:$CE$69,69,FALSE)","v":1},{"$f":"HLOOKUP(B59,May!$I$1:$CE$84,84,FALSE)","v":1},{"$f":"SUM(D59:L59)","v":24}]
[59,"Gerry Moore","Mikel's Maestros",{"$f":"HLOOKUP(B60,September!$I$1:$CE$80,80,FALSE)","v":2},{"$f":"HLOOKUP(B60,October!$I$1:$CE$86,86,FALSE)","v":1},{"$f":"HLOOKUP(B60,November!$I$1:$CE$88,88,FALSE)","v":4},{"$f":"HLOOKUP(B60,December!$I$1:$CE$109,109,FALSE)","v":6},{"$f":"HLOOKUP(B60,January!$I$1:$CE$80,80,FALSE)","v":2},{"$f":"HLOOKUP(B60,February!$I$1:$CE$82,82,FALSE)","v":3},{"$f":"HLOOKUP(B60,March!$I$1:$CE$63,63,FALSE)","v":3},{"$f":"HLOOKUP(B60,April!$I$1:$CE$69,69,FALSE)","v":1},{"$f":"HLOOKUP(B60,May!$I$1:$CE$84,84,FALSE)","v":2},{"$f":"SUM(D60:L60)","v":24}]
[60,"John Brophy","Carrig United",{"$f":"HLOOKUP(B61,September!$I$1:$CE$80,80,FALSE)","v":0},{"$f":"HLOOKUP(B61,October!$I$1:$CE$86,86,FALSE)","v":2},{"$f":"HLOOKUP(B61,November!$I$1:$CE$88,88,FALSE)","v":3},{"$f":"HLOOKUP(B61,December!$I$1:$CE$109,109,FALSE)","v":5},{"$f":"HLOOKUP(B61,January!$I$1:$CE$80,80,FALSE)","v":3},{"$f":"HLOOKUP(B61,February!$I$1:$CE$82,82,FALSE)","v":5},{"$f":"HLOOKUP(B61,March!$I$1:$CE$63,63,FALSE)","v":2},{"$f":"HLOOKUP(B61,April!$I$1:$CE$69,69,FALSE)","v":3},{"$f":"HLOOKUP(B61,May!$I$1:$CE$84,84,FALSE)","v":1},{"$f":"SUM(D61:L61)","v":24}]
[61,"Lionel Knott","Red Abbey Reds",{"$f":"HLOOKUP(B62,September!$I$1:$CE$80,80,FALSE)","v":2},{"$f":"HLOOKUP(B62,October!$I$1:$CE$86,86,FALSE)","v":2},{"$f":"HLOOKUP(B62,November!$I$1:$CE$88,88,FALSE)","v":0},{"$f":"HLOOKUP(B62,December!$I$1:$CE$109,109,FALSE)","v":5},{"$f":"HLOOKUP(B62,January!$I$1:$CE$80,80,FALSE)","v":3},{"$f":"HLOOKUP(B62,February!$I$1:$CE$82,82,FALSE)","v":5},{"$f":"HLOOKUP(B62,March!$I$1:$CE$63,63,FALSE)","v":3},{"$f":"HLOOKUP(B62,April!$I$1:$CE$69,69,FALSE)","v":3},{"$f":"HLOOKUP(B62,May!$I$1:$CE$84,84,FALSE)","v":1},{"$f":"SUM(D62:L62)","v":24}]
[62,"Aidan Scanlon","Kilflynn Santos",{"$f":"HLOOKUP(B63,September!$I$1:$CE$80,80,FALSE)","v":1},{"$f":"HLOOKUP(B63,October!$I$1:$CE$86,86,FALSE)","v":1},{"$f":"HLOOKUP(B63,November!$I$1:$CE$88,88,FALSE)","v":0},{"$f":"HLOOKUP(B63,December!$I$1:$CE$109,109,FALSE)","v":3},{"$f":"HLOOKUP(B63,January!$I$1:$CE$80,80,FALSE)","v":6},{"$f":"HLOOKUP(B63,February!$I$1:$CE$82,82,FALSE)","v":6},{"$f":"HLOOKUP(B63,March!$I$1:$CE$63,63,FALSE)","v":1},{"$f":"HLOOKUP(B63,April!$I$1:$CE$69,69,FALSE)","v":2},{"$f":"HLOOKUP(B63,May!$I$1:$CE$84,84,FALSE)","v":2},{"$f":"SUM(D63:L63)","v":22}]
[63,"Javier Suarez","Hendo's Boys",{"$f":"HLOOKUP(B64,September!$I$1:$CE$80,80,FALSE)","v":2},{"$f":"HLOOKUP(B64,October!$I$1:$CE$86,86,FALSE)","v":3},{"$f":"HLOOKUP(B64,November!$I$1:$CE$88,88,FALSE)","v":0},{"$f":"HLOOKUP(B64,December!$I$1:$CE$109,109,FALSE)","v":3},{"$f":"HLOOKUP(B64,January!$I$1:$CE$80,80,FALSE)","v":7},{"$f":"HLOOKUP(B64,February!$I$1:$CE$82,82,FALSE)","v":1},{"$f":"HLOOKUP(B64,March!$I$1:$CE$63,63,FALSE)","v":2},{"$f":"HLOOKUP(B64,April!$I$1:$CE$69,69,FALSE)","v":2},{"$f":"HLOOKUP(B64,May!$I$1:$CE$84,84,FALSE)","v":2},{"$f":"SUM(D64:L64)","v":22}]
[64,"Richard Johnston","The Corporation Lads FC",{"$f":"HLOOKUP(B65,September!$I$1:$CE$80,80,FALSE)","v":2},{"$f":"HLOOKUP(B65,October!$I$1:$CE$86,86,FALSE)","v":0},{"$f":"HLOOKUP(B65,November!$I$1:$CE$88,88,FALSE)","v":3},{"$f":"HLOOKUP(B65,December!$I$1:$CE$109,109,FALSE)","v":5},{"$f":"HLOOKUP(B65,January!$I$1:$CE$80,80,FALSE)","v":6},{"$f":"HLOOKUP(B65,February!$I$1:$CE$82,82,FALSE)","v":3},{"$f":"HLOOKUP(B65,March!$I$1:$CE$63,63,FALSE)","v":0},{"$f":"HLOOKUP(B65,April!$I$1:$CE$69,69,FALSE)","v":3},{"$f":"HLOOKUP(B65,May!$I$1:$CE$84,84,FALSE)","v":0},{"$f":"SUM(D65:L65)","v":22}]
[65,"Roisin Joyce","Roisin Joyce",{"$f":"HLOOKUP(B66,September!$I$1:$CE$80,80,FALSE)","v":0},{"$f":"HLOOKUP(B66,October!$I$1:$CE$86,86,FALSE)","v":2},{"$f":"HLOOKUP(B66,November!$I$1:$CE$88,88,FALSE)","v":0},{"$f":"HLOOKUP(B66,December!$I$1:$CE$109,109,FALSE)","v":3},{"$f":"HLOOKUP(B66,January!$I$1:$CE$80,80,FALSE)","v":3},{"$f":"HLOOKUP(B66,February!$I$1:$CE$82,82,FALSE)","v":7},{"$f":"HLOOKUP(B66,March!$I$1:$CE$63,63,FALSE)","v":2},{"$f":"HLOOKUP(B66,April!$I$1:$CE$69,69,FALSE)","v":2},{"$f":"HLOOKUP(B66,May!$I$1:$CE$84,84,FALSE)","v":3},{"$f":"SUM(D66:L66)","v":22}]
[66,"Trevor Byrne","Noddy's 11",{"$f":"HLOOKUP(B67,September!$I$1:$CE$80,80,FALSE)","v":2},{"$f":"HLOOKUP(B67,October!$I$1:$CE$86,86,FALSE)","v":0},{"$f":"HLOOKUP(B67,November!$I$1:$CE$88,88,FALSE)","v":3},{"$f":"HLOOKUP(B67,December!$I$1:$CE$109,109,FALSE)","v":2},{"$f":"HLOOKUP(B67,January!$I$1:$CE$80,80,FALSE)","v":4},{"$f":"HLOOKUP(B67,February!$I$1:$CE$82,82,FALSE)","v":3},{"$f":"HLOOKUP(B67,March!$I$1:$CE$63,63,FALSE)","v":5},{"$f":"HLOOKUP(B67,April!$I$1:$CE$69,69,FALSE)","v":0},{"$f":"HLOOKUP(B67,May!$I$1:$CE$84,84,FALSE)","v":3},{"$f":"SUM(D67:L67)","v":22}]
[67,"Joe Behan","MT-09",{"$f":"HLOOKUP(B68,September!$I$1:$CE$80,80,FALSE)","v":1},{"$f":"HLOOKUP(B68,October!$I$1:$CE$86,86,FALSE)","v":1},{"$f":"HLOOKUP(B68,November!$I$1:$CE$88,88,FALSE)","v":0},{"$f":"HLOOKUP(B68,December!$I$1:$CE$109,109,FALSE)","v":2},{"$f":"HLOOKUP(B68,January!$I$1:$CE$80,80,FALSE)","v":7},{"$f":"HLOOKUP(B68,February!$I$1:$CE$82,82,FALSE)","v":3},{"$f":"HLOOKUP(B68,March!$I$1:$CE$63,63,FALSE)","v":3},{"$f":"HLOOKUP(B68,April!$I$1:$CE$69,69,FALSE)","v":2},{"$f":"HLOOKUP(B68,May!$I$1:$CE$84,84,FALSE)","v":2},{"$f":"SUM(D68:L68)","v":21}]
[68,"Calvin McGettigan","Average Joe 1.0",{"$f":"HLOOKUP(B69,September!$I$1:$CE$80,80,FALSE)","v":3},{"$f":"HLOOKUP(B69,October!$I$1:$CE$86,86,FALSE)","v":3},{"$f":"HLOOKUP(B69,November!$I$1:$CE$88,88,FALSE)","v":4},{"$f":"HLOOKUP(B69,December!$I$1:$CE$109,109,FALSE)","v":3},{"$f":"HLOOKUP(B69,January!$I$1:$CE$80,80,FALSE)","v":5},{"$f":"HLOOKUP(B69,February!$I$1:$CE$82,82,FALSE)","v":2},{"$f":"HLOOKUP(B69,March!$I$1:$CE$63,63,FALSE)","v":0},{"$f":"HLOOKUP(B69,April!$I$1:$CE$69,69,FALSE)","v":0},{"$f":"HLOOKUP(B69,May!$I$1:$CE$84,84,FALSE)","v":0},{"$f":"SUM(D69:L69)","v":20}]
[69,"Callum Dunne","The Keita Success",{"$f":"HLOOKUP(B70,September!$I$1:$CE$80,80,FALSE)","v":1},{"$f":"HLOOKUP(B70,October!$I$1:$CE$86,86,FALSE)","v":4},{"$f":"HLOOKUP(B70,November!$I$1:$CE$88,88,FALSE)","v":4},{"$f":"HLOOKUP(B70,December!$I$1:$CE$109,109,FALSE)","v":6},{"$f":"HLOOKUP(B70,January!$I$1:$CE$80,80,FALSE)","v":1},{"$f":"HLOOKUP(B70,February!$I$1:$CE$82,82,FALSE)","v":2},{"$f":"HLOOKUP(B70,March!$I$1:$CE$63,63,FALSE)","v":0},{"$f":"HLOOKUP(B70,April!$I$1:$CE$69,69,FALSE)","v":0},{"$f":"HLOOKUP(B70,May!$I$1:$CE$84,84,FALSE)","v":0},{"$f":"SUM(D70:L70)","v":18}]
[70,"Patrick Mifsud","Red & Black Brigade",{"$f":"HLOOKUP(B71,September!$I$1:$CE$80,80,FALSE)","v":3},{"$f":"HLOOKUP(B71,October!$I$1:$CE$86,86,FALSE)","v":2},{"$f":"HLOOKUP(B71,November!$I$1:$CE$88,88,FALSE)","v":2},{"$f":"HLOOKUP(B71,December!$I$1:$CE$109,109,FALSE)","v":7},{"$f":"HLOOKUP(B71,January!$I$1:$CE$80,80,FALSE)","v":0},{"$f":"HLOOKUP(B71,February!$I$1:$CE$82,82,FALSE)","v":0},{"$f":"HLOOKUP(B71,March!$I$1:$CE$63,63,FALSE)","v":0},{"$f":"HLOOKUP(B71,April!$I$1:$CE$69,69,FALSE)","v":0},{"$f":"HLOOKUP(B71,May!$I$1:$CE$84,84,FALSE)","v":0},{"$f":"SUM(D71:L71)","v":14}]
[71,"John O'Driscoll","The Botchments",{"$f":"HLOOKUP(B72,September!$I$1:$CE$80,80,FALSE)","v":0},{"$f":"HLOOKUP(B72,October!$I$1:$CE$86,86,FALSE)","v":3},{"$f":"HLOOKUP(B72,November!$I$1:$CE$88,88,FALSE)","v":3},{"$f":"HLOOKUP(B72,December!$I$1:$CE$109,109,FALSE)","v":2},{"$f":"HLOOKUP(B72,January!$I$1:$CE$80,80,FALSE)","v":3},{"$f":"HLOOKUP(B72,February!$I$1:$CE$82,82,FALSE)","v":1},{"$f":"HLOOKUP(B72,March!$I$1:$CE$63,63,FALSE)","v":0},{"$f":"HLOOKUP(B72,April!$I$1:$CE$69,69,FALSE)","v":0},{"$f":"HLOOKUP(B72,May!$I$1:$CE$84,84,FALSE)","v":0},{"$f":"SUM(D72:L72)","v":12}]
[72,"Michael Kenaney","Expected Toulouse",{"$f":"HLOOKUP(B73,September!$I$1:$CE$80,80,FALSE)","v":3},{"$f":"HLOOKUP(B73,October!$I$1:$CE$86,86,FALSE)","v":3},{"$f":"HLOOKUP(B73,November!$I$1:$CE$88,88,FALSE)","v":4},{"$f":"HLOOKUP(B73,December!$I$1:$CE$109,109,FALSE)","v":0},{"$f":"HLOOKUP(B73,January!$I$1:$CE$80,80,FALSE)","v":0},{"$f":"HLOOKUP(B73,February!$I$1:$CE$82,82,FALSE)","v":0},{"$f":"HLOOKUP(B73,March!$I$1:$CE$63,63,FALSE)","v":0},{"$f":"HLOOKUP(B73,April!$I$1:$CE$69,69,FALSE)","v":0},{"$f":"HLOOKUP(B73,May!$I$1:$CE$84,84,FALSE)","v":0},{"$f":"SUM(D73:L73)","v":10}]
[73,"Ben Creasey","#1",{"$f":"HLOOKUP(B74,September!$I$1:$CE$80,80,FALSE)","v":2},{"$f":"HLOOKUP(B74,October!$I$1:$CE$86,86,FALSE)","v":2},{"$f":"HLOOKUP(B74,November!$I$1:$CE$88,88,FALSE)","v":1},{"$f":"HLOOKUP(B74,December!$I$1:$CE$109,109,FALSE)","v":2},{"$f":"HLOOKUP(B74,January!$I$1:$CE$80,80,FALSE)","v":0},{"$f":"HLOOKUP(B74,February!$I$1:$CE$82,82,FALSE)","v":0},{"$f":"HLOOKUP(B74,March!$I$1:$CE$63,63,FALSE)","v":0},{"$f":"HLOOKUP(B74,April!$I$1:$CE$69,69,FALSE)","v":0},{"$f":"HLOOKUP(B74,May!$I$1:$CE$84,84,FALSE)","v":0},{"$f":"SUM(D74:L74)","v":7}]
[74,"Gary Donnelly","Audrey's + 1",{"$f":"HLOOKUP(B75,September!$I$1:$CE$80,80,FALSE)","v":0},{"$f":"HLOOKUP(B75,October!$I$1:$CE$86,86,FALSE)","v":2},{"$f":"HLOOKUP(B75,November!$I$1:$CE$88,88,FALSE)","v":0},{"$f":"HLOOKUP(B75,December!$I$1:$CE$109,109,FALSE)","v":4},{"$f":"HLOOKUP(B75,January!$I$1:$CE$80,80,FALSE)","v":0},{"$f":"HLOOKUP(B75,February!$I$1:$CE$82,82,FALSE)","v":0},{"$f":"HLOOKUP(B75,March!$I$1:$CE$63,63,FALSE)","v":0},{"$f":"HLOOKUP(B75,April!$I$1:$CE$69,69,FALSE)","v":0},{"$f":"HLOOKUP(B75,May!$I$1:$CE$84,84,FALSE)","v":0},{"$f":"SUM(D75:L75)","v":6}]
[75,"Drew Armstrong","Army's All Stars",{"$f":"HLOOKUP(B76,September!$I$1:$CE$80,80,FALSE)","v":1},{"$f":"HLOOKUP(B76,October!$I$1:$CE$86,86,FALSE)","v":2},{"$f":"HLOOKUP(B76,November!$I$1:$CE$88,88,FALSE)","v":0},{"$f":"HLOOKUP(B76,December!$I$1:$CE$109,109,FALSE)","v":0},{"$f":"HLOOKUP(B76,January!$I$1:$CE$80,80,FALSE)","v":0},{"$f":"HLOOKUP(B76,February!$I$1:$CE$82,82,FALSE)","v":0},{"$f":"HLOOKUP(B76,March!$I$1:$CE$63,63,FALSE)","v":0},{"$f":"HLOOKUP(B76,April!$I$1:$CE$69,69,FALSE)","v":0},{"$f":"HLOOKUP(B76,May!$I$1:$CE$84,84,FALSE)","v":0},{"$f":"SUM(D76:L76)","v":3}]